{"text_format":"3","workbook":"xlsx","n_sheets":3,"sheets":["VLOOKUP","LookupValues","Results"],"not_rendered":{"macros":1,"defined_names":1},"read":"whole","date_system":"1900"}

{"sheet":"VLOOKUP","index":0,"n_rows":100001,"n_cols":2,"rows_kept":4500,"cut":true,"bounds":{"rows_first":2000,"rows_last":500,"rows_between":2000,"halvings":0}}
["Value","Value 2"]
["value1",{"$f":"VLOOKUP(A2,LookupValues!A:B,2,FALSE)","v":123}]
["value2",{"$f":"VLOOKUP(A3,LookupValues!A:B,2,FALSE)","v":333}]
["value3",{"$f":"VLOOKUP(A4,LookupValues!A:B,2,FALSE)","v":19}]
["value4",{"$f":"VLOOKUP(A5,LookupValues!A:B,2,FALSE)","v":386}]
["value5",{"$f":"VLOOKUP(A6,LookupValues!A:B,2,FALSE)","v":814}]
["value6",{"$f":"VLOOKUP(A7,LookupValues!A:B,2,FALSE)","v":984}]
["value7",{"$f":"VLOOKUP(A8,LookupValues!A:B,2,FALSE)","v":680}]
["value8",{"$f":"VLOOKUP(A9,LookupValues!A:B,2,FALSE)","v":253}]
["value9",{"$f":"VLOOKUP(A10,LookupValues!A:B,2,FALSE)","v":693}]
["value10",{"$f":"VLOOKUP(A11,LookupValues!A:B,2,FALSE)","v":511}]
["value11",{"$f":"VLOOKUP(A12,LookupValues!A:B,2,FALSE)","v":479}]
["value12",{"$f":"VLOOKUP(A13,LookupValues!A:B,2,FALSE)","v":713}]
["value13",{"$f":"VLOOKUP(A14,LookupValues!A:B,2,FALSE)","v":652}]
["value14",{"$f":"VLOOKUP(A15,LookupValues!A:B,2,FALSE)","v":190}]
["value15",{"$f":"VLOOKUP(A16,LookupValues!A:B,2,FALSE)","v":330}]
["value16",{"$f":"VLOOKUP(A17,LookupValues!A:B,2,FALSE)","v":348}]
["value17",{"$f":"VLOOKUP(A18,LookupValues!A:B,2,FALSE)","v":349}]
["value18",{"$f":"VLOOKUP(A19,LookupValues!A:B,2,FALSE)","v":104}]
["value19",{"$f":"VLOOKUP(A20,LookupValues!A:B,2,FALSE)","v":322}]
["value20",{"$f":"VLOOKUP(A21,LookupValues!A:B,2,FALSE)","v":358}]
["value21",{"$f":"VLOOKUP(A22,LookupValues!A:B,2,FALSE)","v":140}]
["value22",{"$f":"VLOOKUP(A23,LookupValues!A:B,2,FALSE)","v":242}]
["value23",{"$f":"VLOOKUP(A24,LookupValues!A:B,2,FALSE)","v":219}]
["value24",{"$f":"VLOOKUP(A25,LookupValues!A:B,2,FALSE)","v":467}]
["value25",{"$f":"VLOOKUP(A26,LookupValues!A:B,2,FALSE)","v":725}]
["value26",{"$f":"VLOOKUP(A27,LookupValues!A:B,2,FALSE)","v":667}]
["value27",{"$f":"VLOOKUP(A28,LookupValues!A:B,2,FALSE)","v":518}]
["value28",{"$f":"VLOOKUP(A29,LookupValues!A:B,2,FALSE)","v":717}]
["value29",{"$f":"VLOOKUP(A30,LookupValues!A:B,2,FALSE)","v":783}]
["value30",{"$f":"VLOOKUP(A31,LookupValues!A:B,2,FALSE)","v":487}]
["value31",{"$f":"VLOOKUP(A32,LookupValues!A:B,2,FALSE)","v":866}]
["value32",{"$f":"VLOOKUP(A33,LookupValues!A:B,2,FALSE)","v":709}]
["value33",{"$f":"VLOOKUP(A34,LookupValues!A:B,2,FALSE)","v":931}]
["value34",{"$f":"VLOOKUP(A35,LookupValues!A:B,2,FALSE)","v":367}]
["value35",{"$f":"VLOOKUP(A36,LookupValues!A:B,2,FALSE)","v":718}]
["value36",{"$f":"VLOOKUP(A37,LookupValues!A:B,2,FALSE)","v":555}]
["value37",{"$f":"VLOOKUP(A38,LookupValues!A:B,2,FALSE)","v":641}]
["value38",{"$f":"VLOOKUP(A39,LookupValues!A:B,2,FALSE)","v":611}]
["value39",{"$f":"VLOOKUP(A40,LookupValues!A:B,2,FALSE)","v":171}]
["value40",{"$f":"VLOOKUP(A41,LookupValues!A:B,2,FALSE)","v":705}]
["value41",{"$f":"VLOOKUP(A42,LookupValues!A:B,2,FALSE)","v":621}]
["value42",{"$f":"VLOOKUP(A43,LookupValues!A:B,2,FALSE)","v":926}]
["value43",{"$f":"VLOOKUP(A44,LookupValues!A:B,2,FALSE)","v":542}]
["value44",{"$f":"VLOOKUP(A45,LookupValues!A:B,2,FALSE)","v":923}]
["value45",{"$f":"VLOOKUP(A46,LookupValues!A:B,2,FALSE)","v":366}]
["value46",{"$f":"VLOOKUP(A47,LookupValues!A:B,2,FALSE)","v":160}]
["value47",{"$f":"VLOOKUP(A48,LookupValues!A:B,2,FALSE)","v":411}]
["value48",{"$f":"VLOOKUP(A49,LookupValues!A:B,2,FALSE)","v":999}]
["value49",{"$f":"VLOOKUP(A50,LookupValues!A:B,2,FALSE)","v":775}]
["value50",{"$f":"VLOOKUP(A51,LookupValues!A:B,2,FALSE)","v":738}]
["value51",{"$f":"VLOOKUP(A52,LookupValues!A:B,2,FALSE)","v":467}]
["value52",{"$f":"VLOOKUP(A53,LookupValues!A:B,2,FALSE)","v":136}]
["value53",{"$f":"VLOOKUP(A54,LookupValues!A:B,2,FALSE)","v":317}]
["value54",{"$f":"VLOOKUP(A55,LookupValues!A:B,2,FALSE)","v":754}]
["value55",{"$f":"VLOOKUP(A56,LookupValues!A:B,2,FALSE)","v":939}]
["value56",{"$f":"VLOOKUP(A57,LookupValues!A:B,2,FALSE)","v":716}]
["value57",{"$f":"VLOOKUP(A58,LookupValues!A:B,2,FALSE)","v":712}]
["value58",{"$f":"VLOOKUP(A59,LookupValues!A:B,2,FALSE)","v":822}]
["value59",{"$f":"VLOOKUP(A60,LookupValues!A:B,2,FALSE)","v":981}]
["value60",{"$f":"VLOOKUP(A61,LookupValues!A:B,2,FALSE)","v":923}]
["value61",{"$f":"VLOOKUP(A62,LookupValues!A:B,2,FALSE)","v":85}]
["value62",{"$f":"VLOOKUP(A63,LookupValues!A:B,2,FALSE)","v":561}]
["value63",{"$f":"VLOOKUP(A64,LookupValues!A:B,2,FALSE)","v":214}]
["value64",{"$f":"VLOOKUP(A65,LookupValues!A:B,2,FALSE)","v":531}]
["value65",{"$f":"VLOOKUP(A66,LookupValues!A:B,2,FALSE)","v":459}]
["value66",{"$f":"VLOOKUP(A67,LookupValues!A:B,2,FALSE)","v":895}]
["value67",{"$f":"VLOOKUP(A68,LookupValues!A:B,2,FALSE)","v":634}]
["value68",{"$f":"VLOOKUP(A69,LookupValues!A:B,2,FALSE)","v":466}]
["value69",{"$f":"VLOOKUP(A70,LookupValues!A:B,2,FALSE)","v":206}]
["value70",{"$f":"VLOOKUP(A71,LookupValues!A:B,2,FALSE)","v":179}]
["value71",{"$f":"VLOOKUP(A72,LookupValues!A:B,2,FALSE)","v":771}]
["value72",{"$f":"VLOOKUP(A73,LookupValues!A:B,2,FALSE)","v":639}]
["value73",{"$f":"VLOOKUP(A74,LookupValues!A:B,2,FALSE)","v":683}]
["value74",{"$f":"VLOOKUP(A75,LookupValues!A:B,2,FALSE)","v":307}]
["value75",{"$f":"VLOOKUP(A76,LookupValues!A:B,2,FALSE)","v":18}]
["value76",{"$f":"VLOOKUP(A77,LookupValues!A:B,2,FALSE)","v":803}]
["value77",{"$f":"VLOOKUP(A78,LookupValues!A:B,2,FALSE)","v":980}]
["value78",{"$f":"VLOOKUP(A79,LookupValues!A:B,2,FALSE)","v":83}]
["value79",{"$f":"VLOOKUP(A80,LookupValues!A:B,2,FALSE)","v":237}]
["value80",{"$f":"VLOOKUP(A81,LookupValues!A:B,2,FALSE)","v":965}]
["value81",{"$f":"VLOOKUP(A82,LookupValues!A:B,2,FALSE)","v":148}]
["value82",{"$f":"VLOOKUP(A83,LookupValues!A:B,2,FALSE)","v":66}]
["value83",{"$f":"VLOOKUP(A84,LookupValues!A:B,2,FALSE)","v":419}]
["value84",{"$f":"VLOOKUP(A85,LookupValues!A:B,2,FALSE)","v":10}]
["value85",{"$f":"VLOOKUP(A86,LookupValues!A:B,2,FALSE)","v":21}]
["value86",{"$f":"VLOOKUP(A87,LookupValues!A:B,2,FALSE)","v":8}]
["value87",{"$f":"VLOOKUP(A88,LookupValues!A:B,2,FALSE)","v":256}]
["value88",{"$f":"VLOOKUP(A89,LookupValues!A:B,2,FALSE)","v":177}]
["value89",{"$f":"VLOOKUP(A90,LookupValues!A:B,2,FALSE)","v":799}]
["value90",{"$f":"VLOOKUP(A91,LookupValues!A:B,2,FALSE)","v":663}]
["value91",{"$f":"VLOOKUP(A92,LookupValues!A:B,2,FALSE)","v":227}]
["value92",{"$f":"VLOOKUP(A93,LookupValues!A:B,2,FALSE)","v":543}]
["value93",{"$f":"VLOOKUP(A94,LookupValues!A:B,2,FALSE)","v":906}]
["value94",{"$f":"VLOOKUP(A95,LookupValues!A:B,2,FALSE)","v":960}]
["value95",{"$f":"VLOOKUP(A96,LookupValues!A:B,2,FALSE)","v":187}]
["value96",{"$f":"VLOOKUP(A97,LookupValues!A:B,2,FALSE)","v":85}]
["value97",{"$f":"VLOOKUP(A98,LookupValues!A:B,2,FALSE)","v":770}]
["value98",{"$f":"VLOOKUP(A99,LookupValues!A:B,2,FALSE)","v":64}]
["value99",{"$f":"VLOOKUP(A100,LookupValues!A:B,2,FALSE)","v":115}]
["value100",{"$f":"VLOOKUP(A101,LookupValues!A:B,2,FALSE)","v":398}]
["value101",{"$f":"VLOOKUP(A102,LookupValues!A:B,2,FALSE)","v":330}]
["value102",{"$f":"VLOOKUP(A103,LookupValues!A:B,2,FALSE)","v":56}]
["value103",{"$f":"VLOOKUP(A104,LookupValues!A:B,2,FALSE)","v":966}]
["value104",{"$f":"VLOOKUP(A105,LookupValues!A:B,2,FALSE)","v":711}]
["value105",{"$f":"VLOOKUP(A106,LookupValues!A:B,2,FALSE)","v":180}]
["value106",{"$f":"VLOOKUP(A107,LookupValues!A:B,2,FALSE)","v":689}]
["value107",{"$f":"VLOOKUP(A108,LookupValues!A:B,2,FALSE)","v":338}]
["value108",{"$f":"VLOOKUP(A109,LookupValues!A:B,2,FALSE)","v":557}]
["value109",{"$f":"VLOOKUP(A110,LookupValues!A:B,2,FALSE)","v":553}]
["value110",{"$f":"VLOOKUP(A111,LookupValues!A:B,2,FALSE)","v":909}]
["value111",{"$f":"VLOOKUP(A112,LookupValues!A:B,2,FALSE)","v":104}]
["value112",{"$f":"VLOOKUP(A113,LookupValues!A:B,2,FALSE)","v":951}]
["value113",{"$f":"VLOOKUP(A114,LookupValues!A:B,2,FALSE)","v":812}]
["value114",{"$f":"VLOOKUP(A115,LookupValues!A:B,2,FALSE)","v":507}]
["value115",{"$f":"VLOOKUP(A116,LookupValues!A:B,2,FALSE)","v":504}]
["value116",{"$f":"VLOOKUP(A117,LookupValues!A:B,2,FALSE)","v":516}]
["value117",{"$f":"VLOOKUP(A118,LookupValues!A:B,2,FALSE)","v":850}]
["value118",{"$f":"VLOOKUP(A119,LookupValues!A:B,2,FALSE)","v":756}]
["value119",{"$f":"VLOOKUP(A120,LookupValues!A:B,2,FALSE)","v":769}]
["value120",{"$f":"VLOOKUP(A121,LookupValues!A:B,2,FALSE)","v":544}]
["value121",{"$f":"VLOOKUP(A122,LookupValues!A:B,2,FALSE)","v":394}]
["value122",{"$f":"VLOOKUP(A123,LookupValues!A:B,2,FALSE)","v":114}]
["value123",{"$f":"VLOOKUP(A124,LookupValues!A:B,2,FALSE)","v":620}]
["value124",{"$f":"VLOOKUP(A125,LookupValues!A:B,2,FALSE)","v":268}]
["value125",{"$f":"VLOOKUP(A126,LookupValues!A:B,2,FALSE)","v":23}]
["value126",{"$f":"VLOOKUP(A127,LookupValues!A:B,2,FALSE)","v":245}]
["value127",{"$f":"VLOOKUP(A128,LookupValues!A:B,2,FALSE)","v":770}]
["value128",{"$f":"VLOOKUP(A129,LookupValues!A:B,2,FALSE)","v":285}]
["value129",{"$f":"VLOOKUP(A130,LookupValues!A:B,2,FALSE)","v":154}]
["value130",{"$f":"VLOOKUP(A131,LookupValues!A:B,2,FALSE)","v":619}]
["value131",{"$f":"VLOOKUP(A132,LookupValues!A:B,2,FALSE)","v":901}]
["value132",{"$f":"VLOOKUP(A133,LookupValues!A:B,2,FALSE)","v":689}]
["value133",{"$f":"VLOOKUP(A134,LookupValues!A:B,2,FALSE)","v":933}]
["value134",{"$f":"VLOOKUP(A135,LookupValues!A:B,2,FALSE)","v":39}]
["value135",{"$f":"VLOOKUP(A136,LookupValues!A:B,2,FALSE)","v":103}]
["value136",{"$f":"VLOOKUP(A137,LookupValues!A:B,2,FALSE)","v":571}]
["value137",{"$f":"VLOOKUP(A138,LookupValues!A:B,2,FALSE)","v":604}]
["value138",{"$f":"VLOOKUP(A139,LookupValues!A:B,2,FALSE)","v":227}]
["value139",{"$f":"VLOOKUP(A140,LookupValues!A:B,2,FALSE)","v":3}]
["value140",{"$f":"VLOOKUP(A141,LookupValues!A:B,2,FALSE)","v":981}]
["value141",{"$f":"VLOOKUP(A142,LookupValues!A:B,2,FALSE)","v":527}]
["value142",{"$f":"VLOOKUP(A143,LookupValues!A:B,2,FALSE)","v":114}]
["value143",{"$f":"VLOOKUP(A144,LookupValues!A:B,2,FALSE)","v":550}]
["value144",{"$f":"VLOOKUP(A145,LookupValues!A:B,2,FALSE)","v":675}]
["value145",{"$f":"VLOOKUP(A146,LookupValues!A:B,2,FALSE)","v":228}]
["value146",{"$f":"VLOOKUP(A147,LookupValues!A:B,2,FALSE)","v":335}]
["value147",{"$f":"VLOOKUP(A148,LookupValues!A:B,2,FALSE)","v":103}]
["value148",{"$f":"VLOOKUP(A149,LookupValues!A:B,2,FALSE)","v":822}]
["value149",{"$f":"VLOOKUP(A150,LookupValues!A:B,2,FALSE)","v":808}]
["value150",{"$f":"VLOOKUP(A151,LookupValues!A:B,2,FALSE)","v":269}]
["value151",{"$f":"VLOOKUP(A152,LookupValues!A:B,2,FALSE)","v":523}]
["value152",{"$f":"VLOOKUP(A153,LookupValues!A:B,2,FALSE)","v":8}]
["value153",{"$f":"VLOOKUP(A154,LookupValues!A:B,2,FALSE)","v":750}]
["value154",{"$f":"VLOOKUP(A155,LookupValues!A:B,2,FALSE)","v":498}]
["value155",{"$f":"VLOOKUP(A156,LookupValues!A:B,2,FALSE)","v":762}]
["value156",{"$f":"VLOOKUP(A157,LookupValues!A:B,2,FALSE)","v":395}]
["value157",{"$f":"VLOOKUP(A158,LookupValues!A:B,2,FALSE)","v":582}]
["value158",{"$f":"VLOOKUP(A159,LookupValues!A:B,2,FALSE)","v":856}]
["value159",{"$f":"VLOOKUP(A160,LookupValues!A:B,2,FALSE)","v":863}]
["value160",{"$f":"VLOOKUP(A161,LookupValues!A:B,2,FALSE)","v":170}]
["value161",{"$f":"VLOOKUP(A162,LookupValues!A:B,2,FALSE)","v":270}]
["value162",{"$f":"VLOOKUP(A163,LookupValues!A:B,2,FALSE)","v":240}]
["value163",{"$f":"VLOOKUP(A164,LookupValues!A:B,2,FALSE)","v":344}]
["value164",{"$f":"VLOOKUP(A165,LookupValues!A:B,2,FALSE)","v":406}]
["value165",{"$f":"VLOOKUP(A166,LookupValues!A:B,2,FALSE)","v":661}]
["value166",{"$f":"VLOOKUP(A167,LookupValues!A:B,2,FALSE)","v":811}]
["value167",{"$f":"VLOOKUP(A168,LookupValues!A:B,2,FALSE)","v":3}]
["value168",{"$f":"VLOOKUP(A169,LookupValues!A:B,2,FALSE)","v":587}]
["value169",{"$f":"VLOOKUP(A170,LookupValues!A:B,2,FALSE)","v":172}]
["value170",{"$f":"VLOOKUP(A171,LookupValues!A:B,2,FALSE)","v":150}]
["value171",{"$f":"VLOOKUP(A172,LookupValues!A:B,2,FALSE)","v":100}]
["value172",{"$f":"VLOOKUP(A173,LookupValues!A:B,2,FALSE)","v":95}]
["value173",{"$f":"VLOOKUP(A174,LookupValues!A:B,2,FALSE)","v":546}]
["value174",{"$f":"VLOOKUP(A175,LookupValues!A:B,2,FALSE)","v":929}]
["value175",{"$f":"VLOOKUP(A176,LookupValues!A:B,2,FALSE)","v":206}]
["value176",{"$f":"VLOOKUP(A177,LookupValues!A:B,2,FALSE)","v":565}]
["value177",{"$f":"VLOOKUP(A178,LookupValues!A:B,2,FALSE)","v":246}]
["value178",{"$f":"VLOOKUP(A179,LookupValues!A:B,2,FALSE)","v":204}]
["value179",{"$f":"VLOOKUP(A180,LookupValues!A:B,2,FALSE)","v":900}]
["value180",{"$f":"VLOOKUP(A181,LookupValues!A:B,2,FALSE)","v":801}]
["value181",{"$f":"VLOOKUP(A182,LookupValues!A:B,2,FALSE)","v":233}]
["value182",{"$f":"VLOOKUP(A183,LookupValues!A:B,2,FALSE)","v":419}]
["value183",{"$f":"VLOOKUP(A184,LookupValues!A:B,2,FALSE)","v":493}]
["value184",{"$f":"VLOOKUP(A185,LookupValues!A:B,2,FALSE)","v":519}]
["value185",{"$f":"VLOOKUP(A186,LookupValues!A:B,2,FALSE)","v":747}]
["value186",{"$f":"VLOOKUP(A187,LookupValues!A:B,2,FALSE)","v":247}]
["value187",{"$f":"VLOOKUP(A188,LookupValues!A:B,2,FALSE)","v":607}]
["value188",{"$f":"VLOOKUP(A189,LookupValues!A:B,2,FALSE)","v":158}]
["value189",{"$f":"VLOOKUP(A190,LookupValues!A:B,2,FALSE)","v":830}]
["value190",{"$f":"VLOOKUP(A191,LookupValues!A:B,2,FALSE)","v":436}]
["value191",{"$f":"VLOOKUP(A192,LookupValues!A:B,2,FALSE)","v":573}]
["value192",{"$f":"VLOOKUP(A193,LookupValues!A:B,2,FALSE)","v":375}]
["value193",{"$f":"VLOOKUP(A194,LookupValues!A:B,2,FALSE)","v":39}]
["value194",{"$f":"VLOOKUP(A195,LookupValues!A:B,2,FALSE)","v":729}]
["value195",{"$f":"VLOOKUP(A196,LookupValues!A:B,2,FALSE)","v":305}]
["value196",{"$f":"VLOOKUP(A197,LookupValues!A:B,2,FALSE)","v":146}]
["value197",{"$f":"VLOOKUP(A198,LookupValues!A:B,2,FALSE)","v":198}]
["value198",{"$f":"VLOOKUP(A199,LookupValues!A:B,2,FALSE)","v":463}]
["value199",{"$f":"VLOOKUP(A200,LookupValues!A:B,2,FALSE)","v":914}]
["value200",{"$f":"VLOOKUP(A201,LookupValues!A:B,2,FALSE)","v":729}]
["value201",{"$f":"VLOOKUP(A202,LookupValues!A:B,2,FALSE)","v":441}]
["value202",{"$f":"VLOOKUP(A203,LookupValues!A:B,2,FALSE)","v":729}]
["value203",{"$f":"VLOOKUP(A204,LookupValues!A:B,2,FALSE)","v":166}]
["value204",{"$f":"VLOOKUP(A205,LookupValues!A:B,2,FALSE)","v":73}]
["value205",{"$f":"VLOOKUP(A206,LookupValues!A:B,2,FALSE)","v":203}]
["value206",{"$f":"VLOOKUP(A207,LookupValues!A:B,2,FALSE)","v":9}]
["value207",{"$f":"VLOOKUP(A208,LookupValues!A:B,2,FALSE)","v":802}]
["value208",{"$f":"VLOOKUP(A209,LookupValues!A:B,2,FALSE)","v":872}]
["value209",{"$f":"VLOOKUP(A210,LookupValues!A:B,2,FALSE)","v":91}]
["value210",{"$f":"VLOOKUP(A211,LookupValues!A:B,2,FALSE)","v":214}]
["value211",{"$f":"VLOOKUP(A212,LookupValues!A:B,2,FALSE)","v":504}]
["value212",{"$f":"VLOOKUP(A213,LookupValues!A:B,2,FALSE)","v":835}]
["value213",{"$f":"VLOOKUP(A214,LookupValues!A:B,2,FALSE)","v":894}]
["value214",{"$f":"VLOOKUP(A215,LookupValues!A:B,2,FALSE)","v":849}]
["value215",{"$f":"VLOOKUP(A216,LookupValues!A:B,2,FALSE)","v":88}]
["value216",{"$f":"VLOOKUP(A217,LookupValues!A:B,2,FALSE)","v":286}]
["value217",{"$f":"VLOOKUP(A218,LookupValues!A:B,2,FALSE)","v":46}]
["value218",{"$f":"VLOOKUP(A219,LookupValues!A:B,2,FALSE)","v":734}]
["value219",{"$f":"VLOOKUP(A220,LookupValues!A:B,2,FALSE)","v":931}]
["value220",{"$f":"VLOOKUP(A221,LookupValues!A:B,2,FALSE)","v":639}]
["value221",{"$f":"VLOOKUP(A222,LookupValues!A:B,2,FALSE)","v":453}]
["value222",{"$f":"VLOOKUP(A223,LookupValues!A:B,2,FALSE)","v":111}]
["value223",{"$f":"VLOOKUP(A224,LookupValues!A:B,2,FALSE)","v":436}]
["value224",{"$f":"VLOOKUP(A225,LookupValues!A:B,2,FALSE)","v":595}]
["value225",{"$f":"VLOOKUP(A226,LookupValues!A:B,2,FALSE)","v":580}]
["value226",{"$f":"VLOOKUP(A227,LookupValues!A:B,2,FALSE)","v":142}]
["value227",{"$f":"VLOOKUP(A228,LookupValues!A:B,2,FALSE)","v":873}]
["value228",{"$f":"VLOOKUP(A229,LookupValues!A:B,2,FALSE)","v":513}]
["value229",{"$f":"VLOOKUP(A230,LookupValues!A:B,2,FALSE)","v":385}]
["value230",{"$f":"VLOOKUP(A231,LookupValues!A:B,2,FALSE)","v":387}]
["value231",{"$f":"VLOOKUP(A232,LookupValues!A:B,2,FALSE)","v":595}]
["value232",{"$f":"VLOOKUP(A233,LookupValues!A:B,2,FALSE)","v":813}]
["value233",{"$f":"VLOOKUP(A234,LookupValues!A:B,2,FALSE)","v":56}]
["value234",{"$f":"VLOOKUP(A235,LookupValues!A:B,2,FALSE)","v":562}]
["value235",{"$f":"VLOOKUP(A236,LookupValues!A:B,2,FALSE)","v":706}]
["value236",{"$f":"VLOOKUP(A237,LookupValues!A:B,2,FALSE)","v":235}]
["value237",{"$f":"VLOOKUP(A238,LookupValues!A:B,2,FALSE)","v":449}]
["value238",{"$f":"VLOOKUP(A239,LookupValues!A:B,2,FALSE)","v":510}]
["value239",{"$f":"VLOOKUP(A240,LookupValues!A:B,2,FALSE)","v":435}]
["value240",{"$f":"VLOOKUP(A241,LookupValues!A:B,2,FALSE)","v":409}]
["value241",{"$f":"VLOOKUP(A242,LookupValues!A:B,2,FALSE)","v":70}]
["value242",{"$f":"VLOOKUP(A243,LookupValues!A:B,2,FALSE)","v":156}]
["value243",{"$f":"VLOOKUP(A244,LookupValues!A:B,2,FALSE)","v":562}]
["value244",{"$f":"VLOOKUP(A245,LookupValues!A:B,2,FALSE)","v":236}]
["value245",{"$f":"VLOOKUP(A246,LookupValues!A:B,2,FALSE)","v":890}]
["value246",{"$f":"VLOOKUP(A247,LookupValues!A:B,2,FALSE)","v":366}]
["value247",{"$f":"VLOOKUP(A248,LookupValues!A:B,2,FALSE)","v":537}]
["value248",{"$f":"VLOOKUP(A249,LookupValues!A:B,2,FALSE)","v":0}]
["value249",{"$f":"VLOOKUP(A250,LookupValues!A:B,2,FALSE)","v":617}]
["value250",{"$f":"VLOOKUP(A251,LookupValues!A:B,2,FALSE)","v":611}]
["value251",{"$f":"VLOOKUP(A252,LookupValues!A:B,2,FALSE)","v":14}]
["value252",{"$f":"VLOOKUP(A253,LookupValues!A:B,2,FALSE)","v":387}]
["value253",{"$f":"VLOOKUP(A254,LookupValues!A:B,2,FALSE)","v":619}]
["value254",{"$f":"VLOOKUP(A255,LookupValues!A:B,2,FALSE)","v":208}]
["value255",{"$f":"VLOOKUP(A256,LookupValues!A:B,2,FALSE)","v":758}]
["value256",{"$f":"VLOOKUP(A257,LookupValues!A:B,2,FALSE)","v":528}]
["value257",{"$f":"VLOOKUP(A258,LookupValues!A:B,2,FALSE)","v":779}]
["value258",{"$f":"VLOOKUP(A259,LookupValues!A:B,2,FALSE)","v":856}]
["value259",{"$f":"VLOOKUP(A260,LookupValues!A:B,2,FALSE)","v":259}]
["value260",{"$f":"VLOOKUP(A261,LookupValues!A:B,2,FALSE)","v":560}]
["value261",{"$f":"VLOOKUP(A262,LookupValues!A:B,2,FALSE)","v":857}]
["value262",{"$f":"VLOOKUP(A263,LookupValues!A:B,2,FALSE)","v":839}]
["value263",{"$f":"VLOOKUP(A264,LookupValues!A:B,2,FALSE)","v":526}]
["value264",{"$f":"VLOOKUP(A265,LookupValues!A:B,2,FALSE)","v":961}]
["value265",{"$f":"VLOOKUP(A266,LookupValues!A:B,2,FALSE)","v":129}]
["value266",{"$f":"VLOOKUP(A267,LookupValues!A:B,2,FALSE)","v":750}]
["value267",{"$f":"VLOOKUP(A268,LookupValues!A:B,2,FALSE)","v":232}]
["value268",{"$f":"VLOOKUP(A269,LookupValues!A:B,2,FALSE)","v":859}]
["value269",{"$f":"VLOOKUP(A270,LookupValues!A:B,2,FALSE)","v":555}]
["value270",{"$f":"VLOOKUP(A271,LookupValues!A:B,2,FALSE)","v":924}]
["value271",{"$f":"VLOOKUP(A272,LookupValues!A:B,2,FALSE)","v":204}]
["value272",{"$f":"VLOOKUP(A273,LookupValues!A:B,2,FALSE)","v":593}]
["value273",{"$f":"VLOOKUP(A274,LookupValues!A:B,2,FALSE)","v":860}]
["value274",{"$f":"VLOOKUP(A275,LookupValues!A:B,2,FALSE)","v":932}]
["value275",{"$f":"VLOOKUP(A276,LookupValues!A:B,2,FALSE)","v":633}]
["value276",{"$f":"VLOOKUP(A277,LookupValues!A:B,2,FALSE)","v":796}]
["value277",{"$f":"VLOOKUP(A278,LookupValues!A:B,2,FALSE)","v":441}]
["value278",{"$f":"VLOOKUP(A279,LookupValues!A:B,2,FALSE)","v":494}]
["value279",{"$f":"VLOOKUP(A280,LookupValues!A:B,2,FALSE)","v":921}]
["value280",{"$f":"VLOOKUP(A281,LookupValues!A:B,2,FALSE)","v":554}]
["value281",{"$f":"VLOOKUP(A282,LookupValues!A:B,2,FALSE)","v":317}]
["value282",{"$f":"VLOOKUP(A283,LookupValues!A:B,2,FALSE)","v":838}]
["value283",{"$f":"VLOOKUP(A284,LookupValues!A:B,2,FALSE)","v":134}]
["value284",{"$f":"VLOOKUP(A285,LookupValues!A:B,2,FALSE)","v":631}]
["value285",{"$f":"VLOOKUP(A286,LookupValues!A:B,2,FALSE)","v":670}]
["value286",{"$f":"VLOOKUP(A287,LookupValues!A:B,2,FALSE)","v":896}]
["value287",{"$f":"VLOOKUP(A288,LookupValues!A:B,2,FALSE)","v":686}]
["value288",{"$f":"VLOOKUP(A289,LookupValues!A:B,2,FALSE)","v":339}]
["value289",{"$f":"VLOOKUP(A290,LookupValues!A:B,2,FALSE)","v":83}]
["value290",{"$f":"VLOOKUP(A291,LookupValues!A:B,2,FALSE)","v":131}]
["value291",{"$f":"VLOOKUP(A292,LookupValues!A:B,2,FALSE)","v":111}]
["value292",{"$f":"VLOOKUP(A293,LookupValues!A:B,2,FALSE)","v":653}]
["value293",{"$f":"VLOOKUP(A294,LookupValues!A:B,2,FALSE)","v":435}]
["value294",{"$f":"VLOOKUP(A295,LookupValues!A:B,2,FALSE)","v":295}]
["value295",{"$f":"VLOOKUP(A296,LookupValues!A:B,2,FALSE)","v":740}]
["value296",{"$f":"VLOOKUP(A297,LookupValues!A:B,2,FALSE)","v":122}]
["value297",{"$f":"VLOOKUP(A298,LookupValues!A:B,2,FALSE)","v":161}]
["value298",{"$f":"VLOOKUP(A299,LookupValues!A:B,2,FALSE)","v":27}]
["value299",{"$f":"VLOOKUP(A300,LookupValues!A:B,2,FALSE)","v":228}]
["value300",{"$f":"VLOOKUP(A301,LookupValues!A:B,2,FALSE)","v":1000}]
["value301",{"$f":"VLOOKUP(A302,LookupValues!A:B,2,FALSE)","v":916}]
["value302",{"$f":"VLOOKUP(A303,LookupValues!A:B,2,FALSE)","v":987}]
["value303",{"$f":"VLOOKUP(A304,LookupValues!A:B,2,FALSE)","v":678}]
["value304",{"$f":"VLOOKUP(A305,LookupValues!A:B,2,FALSE)","v":797}]
["value305",{"$f":"VLOOKUP(A306,LookupValues!A:B,2,FALSE)","v":992}]
["value306",{"$f":"VLOOKUP(A307,LookupValues!A:B,2,FALSE)","v":840}]
["value307",{"$f":"VLOOKUP(A308,LookupValues!A:B,2,FALSE)","v":860}]
["value308",{"$f":"VLOOKUP(A309,LookupValues!A:B,2,FALSE)","v":124}]
["value309",{"$f":"VLOOKUP(A310,LookupValues!A:B,2,FALSE)","v":374}]
["value310",{"$f":"VLOOKUP(A311,LookupValues!A:B,2,FALSE)","v":180}]
["value311",{"$f":"VLOOKUP(A312,LookupValues!A:B,2,FALSE)","v":752}]
["value312",{"$f":"VLOOKUP(A313,LookupValues!A:B,2,FALSE)","v":628}]
["value313",{"$f":"VLOOKUP(A314,LookupValues!A:B,2,FALSE)","v":900}]
["value314",{"$f":"VLOOKUP(A315,LookupValues!A:B,2,FALSE)","v":918}]
["value315",{"$f":"VLOOKUP(A316,LookupValues!A:B,2,FALSE)","v":809}]
["value316",{"$f":"VLOOKUP(A317,LookupValues!A:B,2,FALSE)","v":401}]
["value317",{"$f":"VLOOKUP(A318,LookupValues!A:B,2,FALSE)","v":110}]
["value318",{"$f":"VLOOKUP(A319,LookupValues!A:B,2,FALSE)","v":694}]
["value319",{"$f":"VLOOKUP(A320,LookupValues!A:B,2,FALSE)","v":673}]
["value320",{"$f":"VLOOKUP(A321,LookupValues!A:B,2,FALSE)","v":420}]
["value321",{"$f":"VLOOKUP(A322,LookupValues!A:B,2,FALSE)","v":566}]
["value322",{"$f":"VLOOKUP(A323,LookupValues!A:B,2,FALSE)","v":337}]
["value323",{"$f":"VLOOKUP(A324,LookupValues!A:B,2,FALSE)","v":80}]
["value324",{"$f":"VLOOKUP(A325,LookupValues!A:B,2,FALSE)","v":714}]
["value325",{"$f":"VLOOKUP(A326,LookupValues!A:B,2,FALSE)","v":346}]
["value326",{"$f":"VLOOKUP(A327,LookupValues!A:B,2,FALSE)","v":307}]
["value327",{"$f":"VLOOKUP(A328,LookupValues!A:B,2,FALSE)","v":966}]
["value328",{"$f":"VLOOKUP(A329,LookupValues!A:B,2,FALSE)","v":976}]
["value329",{"$f":"VLOOKUP(A330,LookupValues!A:B,2,FALSE)","v":590}]
["value330",{"$f":"VLOOKUP(A331,LookupValues!A:B,2,FALSE)","v":169}]
["value331",{"$f":"VLOOKUP(A332,LookupValues!A:B,2,FALSE)","v":400}]
["value332",{"$f":"VLOOKUP(A333,LookupValues!A:B,2,FALSE)","v":15}]
["value333",{"$f":"VLOOKUP(A334,LookupValues!A:B,2,FALSE)","v":130}]
["value334",{"$f":"VLOOKUP(A335,LookupValues!A:B,2,FALSE)","v":873}]
["value335",{"$f":"VLOOKUP(A336,LookupValues!A:B,2,FALSE)","v":388}]
["value336",{"$f":"VLOOKUP(A337,LookupValues!A:B,2,FALSE)","v":5}]
["value337",{"$f":"VLOOKUP(A338,LookupValues!A:B,2,FALSE)","v":163}]
["value338",{"$f":"VLOOKUP(A339,LookupValues!A:B,2,FALSE)","v":643}]
["value339",{"$f":"VLOOKUP(A340,LookupValues!A:B,2,FALSE)","v":780}]
["value340",{"$f":"VLOOKUP(A341,LookupValues!A:B,2,FALSE)","v":773}]
["value341",{"$f":"VLOOKUP(A342,LookupValues!A:B,2,FALSE)","v":834}]
["value342",{"$f":"VLOOKUP(A343,LookupValues!A:B,2,FALSE)","v":321}]
["value343",{"$f":"VLOOKUP(A344,LookupValues!A:B,2,FALSE)","v":872}]
["value344",{"$f":"VLOOKUP(A345,LookupValues!A:B,2,FALSE)","v":168}]
["value345",{"$f":"VLOOKUP(A346,LookupValues!A:B,2,FALSE)","v":387}]
["value346",{"$f":"VLOOKUP(A347,LookupValues!A:B,2,FALSE)","v":710}]
["value347",{"$f":"VLOOKUP(A348,LookupValues!A:B,2,FALSE)","v":268}]
["value348",{"$f":"VLOOKUP(A349,LookupValues!A:B,2,FALSE)","v":886}]
["value349",{"$f":"VLOOKUP(A350,LookupValues!A:B,2,FALSE)","v":696}]
["value350",{"$f":"VLOOKUP(A351,LookupValues!A:B,2,FALSE)","v":253}]
["value351",{"$f":"VLOOKUP(A352,LookupValues!A:B,2,FALSE)","v":198}]
["value352",{"$f":"VLOOKUP(A353,LookupValues!A:B,2,FALSE)","v":431}]
["value353",{"$f":"VLOOKUP(A354,LookupValues!A:B,2,FALSE)","v":804}]
["value354",{"$f":"VLOOKUP(A355,LookupValues!A:B,2,FALSE)","v":548}]
["value355",{"$f":"VLOOKUP(A356,LookupValues!A:B,2,FALSE)","v":454}]
["value356",{"$f":"VLOOKUP(A357,LookupValues!A:B,2,FALSE)","v":589}]
["value357",{"$f":"VLOOKUP(A358,LookupValues!A:B,2,FALSE)","v":294}]
["value358",{"$f":"VLOOKUP(A359,LookupValues!A:B,2,FALSE)","v":245}]
["value359",{"$f":"VLOOKUP(A360,LookupValues!A:B,2,FALSE)","v":685}]
["value360",{"$f":"VLOOKUP(A361,LookupValues!A:B,2,FALSE)","v":819}]
["value361",{"$f":"VLOOKUP(A362,LookupValues!A:B,2,FALSE)","v":73}]
["value362",{"$f":"VLOOKUP(A363,LookupValues!A:B,2,FALSE)","v":30}]
["value363",{"$f":"VLOOKUP(A364,LookupValues!A:B,2,FALSE)","v":639}]
["value364",{"$f":"VLOOKUP(A365,LookupValues!A:B,2,FALSE)","v":792}]
["value365",{"$f":"VLOOKUP(A366,LookupValues!A:B,2,FALSE)","v":668}]
["value366",{"$f":"VLOOKUP(A367,LookupValues!A:B,2,FALSE)","v":685}]
["value367",{"$f":"VLOOKUP(A368,LookupValues!A:B,2,FALSE)","v":468}]
["value368",{"$f":"VLOOKUP(A369,LookupValues!A:B,2,FALSE)","v":591}]
["value369",{"$f":"VLOOKUP(A370,LookupValues!A:B,2,FALSE)","v":801}]
["value370",{"$f":"VLOOKUP(A371,LookupValues!A:B,2,FALSE)","v":741}]
["value371",{"$f":"VLOOKUP(A372,LookupValues!A:B,2,FALSE)","v":475}]
["value372",{"$f":"VLOOKUP(A373,LookupValues!A:B,2,FALSE)","v":777}]
["value373",{"$f":"VLOOKUP(A374,LookupValues!A:B,2,FALSE)","v":506}]
["value374",{"$f":"VLOOKUP(A375,LookupValues!A:B,2,FALSE)","v":42}]
["value375",{"$f":"VLOOKUP(A376,LookupValues!A:B,2,FALSE)","v":123}]
["value376",{"$f":"VLOOKUP(A377,LookupValues!A:B,2,FALSE)","v":701}]
["value377",{"$f":"VLOOKUP(A378,LookupValues!A:B,2,FALSE)","v":855}]
["value378",{"$f":"VLOOKUP(A379,LookupValues!A:B,2,FALSE)","v":366}]
["value379",{"$f":"VLOOKUP(A380,LookupValues!A:B,2,FALSE)","v":289}]
["value380",{"$f":"VLOOKUP(A381,LookupValues!A:B,2,FALSE)","v":108}]
["value381",{"$f":"VLOOKUP(A382,LookupValues!A:B,2,FALSE)","v":487}]
["value382",{"$f":"VLOOKUP(A383,LookupValues!A:B,2,FALSE)","v":754}]
["value383",{"$f":"VLOOKUP(A384,LookupValues!A:B,2,FALSE)","v":140}]
["value384",{"$f":"VLOOKUP(A385,LookupValues!A:B,2,FALSE)","v":802}]
["value385",{"$f":"VLOOKUP(A386,LookupValues!A:B,2,FALSE)","v":522}]
["value386",{"$f":"VLOOKUP(A387,LookupValues!A:B,2,FALSE)","v":312}]
["value387",{"$f":"VLOOKUP(A388,LookupValues!A:B,2,FALSE)","v":473}]
["value388",{"$f":"VLOOKUP(A389,LookupValues!A:B,2,FALSE)","v":589}]
["value389",{"$f":"VLOOKUP(A390,LookupValues!A:B,2,FALSE)","v":991}]
["value390",{"$f":"VLOOKUP(A391,LookupValues!A:B,2,FALSE)","v":850}]
["value391",{"$f":"VLOOKUP(A392,LookupValues!A:B,2,FALSE)","v":995}]
["value392",{"$f":"VLOOKUP(A393,LookupValues!A:B,2,FALSE)","v":276}]
["value393",{"$f":"VLOOKUP(A394,LookupValues!A:B,2,FALSE)","v":672}]
["value394",{"$f":"VLOOKUP(A395,LookupValues!A:B,2,FALSE)","v":494}]
["value395",{"$f":"VLOOKUP(A396,LookupValues!A:B,2,FALSE)","v":112}]
["value396",{"$f":"VLOOKUP(A397,LookupValues!A:B,2,FALSE)","v":565}]
["value397",{"$f":"VLOOKUP(A398,LookupValues!A:B,2,FALSE)","v":932}]
["value398",{"$f":"VLOOKUP(A399,LookupValues!A:B,2,FALSE)","v":609}]
["value399",{"$f":"VLOOKUP(A400,LookupValues!A:B,2,FALSE)","v":397}]
["value400",{"$f":"VLOOKUP(A401,LookupValues!A:B,2,FALSE)","v":431}]
["value401",{"$f":"VLOOKUP(A402,LookupValues!A:B,2,FALSE)","v":724}]
["value402",{"$f":"VLOOKUP(A403,LookupValues!A:B,2,FALSE)","v":787}]
["value403",{"$f":"VLOOKUP(A404,LookupValues!A:B,2,FALSE)","v":625}]
["value404",{"$f":"VLOOKUP(A405,LookupValues!A:B,2,FALSE)","v":759}]
["value405",{"$f":"VLOOKUP(A406,LookupValues!A:B,2,FALSE)","v":404}]
["value406",{"$f":"VLOOKUP(A407,LookupValues!A:B,2,FALSE)","v":112}]
["value407",{"$f":"VLOOKUP(A408,LookupValues!A:B,2,FALSE)","v":215}]
["value408",{"$f":"VLOOKUP(A409,LookupValues!A:B,2,FALSE)","v":51}]
["value409",{"$f":"VLOOKUP(A410,LookupValues!A:B,2,FALSE)","v":952}]
["value410",{"$f":"VLOOKUP(A411,LookupValues!A:B,2,FALSE)","v":734}]
["value411",{"$f":"VLOOKUP(A412,LookupValues!A:B,2,FALSE)","v":826}]
["value412",{"$f":"VLOOKUP(A413,LookupValues!A:B,2,FALSE)","v":356}]
["value413",{"$f":"VLOOKUP(A414,LookupValues!A:B,2,FALSE)","v":374}]
["value414",{"$f":"VLOOKUP(A415,LookupValues!A:B,2,FALSE)","v":143}]
["value415",{"$f":"VLOOKUP(A416,LookupValues!A:B,2,FALSE)","v":751}]
["value416",{"$f":"VLOOKUP(A417,LookupValues!A:B,2,FALSE)","v":301}]
["value417",{"$f":"VLOOKUP(A418,LookupValues!A:B,2,FALSE)","v":174}]
["value418",{"$f":"VLOOKUP(A419,LookupValues!A:B,2,FALSE)","v":995}]
["value419",{"$f":"VLOOKUP(A420,LookupValues!A:B,2,FALSE)","v":77}]
["value420",{"$f":"VLOOKUP(A421,LookupValues!A:B,2,FALSE)","v":169}]
["value421",{"$f":"VLOOKUP(A422,LookupValues!A:B,2,FALSE)","v":542}]
["value422",{"$f":"VLOOKUP(A423,LookupValues!A:B,2,FALSE)","v":913}]
["value423",{"$f":"VLOOKUP(A424,LookupValues!A:B,2,FALSE)","v":777}]
["value424",{"$f":"VLOOKUP(A425,LookupValues!A:B,2,FALSE)","v":9}]
["value425",{"$f":"VLOOKUP(A426,LookupValues!A:B,2,FALSE)","v":49}]
["value426",{"$f":"VLOOKUP(A427,LookupValues!A:B,2,FALSE)","v":420}]
["value427",{"$f":"VLOOKUP(A428,LookupValues!A:B,2,FALSE)","v":858}]
["value428",{"$f":"VLOOKUP(A429,LookupValues!A:B,2,FALSE)","v":921}]
["value429",{"$f":"VLOOKUP(A430,LookupValues!A:B,2,FALSE)","v":611}]
["value430",{"$f":"VLOOKUP(A431,LookupValues!A:B,2,FALSE)","v":695}]
["value431",{"$f":"VLOOKUP(A432,LookupValues!A:B,2,FALSE)","v":442}]
["value432",{"$f":"VLOOKUP(A433,LookupValues!A:B,2,FALSE)","v":527}]
["value433",{"$f":"VLOOKUP(A434,LookupValues!A:B,2,FALSE)","v":447}]
["value434",{"$f":"VLOOKUP(A435,LookupValues!A:B,2,FALSE)","v":883}]
["value435",{"$f":"VLOOKUP(A436,LookupValues!A:B,2,FALSE)","v":153}]
["value436",{"$f":"VLOOKUP(A437,LookupValues!A:B,2,FALSE)","v":482}]
["value437",{"$f":"VLOOKUP(A438,LookupValues!A:B,2,FALSE)","v":237}]
["value438",{"$f":"VLOOKUP(A439,LookupValues!A:B,2,FALSE)","v":483}]
["value439",{"$f":"VLOOKUP(A440,LookupValues!A:B,2,FALSE)","v":132}]
["value440",{"$f":"VLOOKUP(A441,LookupValues!A:B,2,FALSE)","v":847}]
["value441",{"$f":"VLOOKUP(A442,LookupValues!A:B,2,FALSE)","v":611}]
["value442",{"$f":"VLOOKUP(A443,LookupValues!A:B,2,FALSE)","v":876}]
["value443",{"$f":"VLOOKUP(A444,LookupValues!A:B,2,FALSE)","v":964}]
["value444",{"$f":"VLOOKUP(A445,LookupValues!A:B,2,FALSE)","v":29}]
["value445",{"$f":"VLOOKUP(A446,LookupValues!A:B,2,FALSE)","v":745}]
["value446",{"$f":"VLOOKUP(A447,LookupValues!A:B,2,FALSE)","v":879}]
["value447",{"$f":"VLOOKUP(A448,LookupValues!A:B,2,FALSE)","v":431}]
["value448",{"$f":"VLOOKUP(A449,LookupValues!A:B,2,FALSE)","v":485}]
["value449",{"$f":"VLOOKUP(A450,LookupValues!A:B,2,FALSE)","v":597}]
["value450",{"$f":"VLOOKUP(A451,LookupValues!A:B,2,FALSE)","v":673}]
["value451",{"$f":"VLOOKUP(A452,LookupValues!A:B,2,FALSE)","v":864}]
["value452",{"$f":"VLOOKUP(A453,LookupValues!A:B,2,FALSE)","v":933}]
["value453",{"$f":"VLOOKUP(A454,LookupValues!A:B,2,FALSE)","v":281}]
["value454",{"$f":"VLOOKUP(A455,LookupValues!A:B,2,FALSE)","v":200}]
["value455",{"$f":"VLOOKUP(A456,LookupValues!A:B,2,FALSE)","v":788}]
["value456",{"$f":"VLOOKUP(A457,LookupValues!A:B,2,FALSE)","v":152}]
["value457",{"$f":"VLOOKUP(A458,LookupValues!A:B,2,FALSE)","v":353}]
["value458",{"$f":"VLOOKUP(A459,LookupValues!A:B,2,FALSE)","v":125}]
["value459",{"$f":"VLOOKUP(A460,LookupValues!A:B,2,FALSE)","v":951}]
["value460",{"$f":"VLOOKUP(A461,LookupValues!A:B,2,FALSE)","v":293}]
["value461",{"$f":"VLOOKUP(A462,LookupValues!A:B,2,FALSE)","v":769}]
["value462",{"$f":"VLOOKUP(A463,LookupValues!A:B,2,FALSE)","v":665}]
["value463",{"$f":"VLOOKUP(A464,LookupValues!A:B,2,FALSE)","v":343}]
["value464",{"$f":"VLOOKUP(A465,LookupValues!A:B,2,FALSE)","v":990}]
["value465",{"$f":"VLOOKUP(A466,LookupValues!A:B,2,FALSE)","v":555}]
["value466",{"$f":"VLOOKUP(A467,LookupValues!A:B,2,FALSE)","v":823}]
["value467",{"$f":"VLOOKUP(A468,LookupValues!A:B,2,FALSE)","v":732}]
["value468",{"$f":"VLOOKUP(A469,LookupValues!A:B,2,FALSE)","v":138}]
["value469",{"$f":"VLOOKUP(A470,LookupValues!A:B,2,FALSE)","v":391}]
["value470",{"$f":"VLOOKUP(A471,LookupValues!A:B,2,FALSE)","v":182}]
["value471",{"$f":"VLOOKUP(A472,LookupValues!A:B,2,FALSE)","v":147}]
["value472",{"$f":"VLOOKUP(A473,LookupValues!A:B,2,FALSE)","v":236}]
["value473",{"$f":"VLOOKUP(A474,LookupValues!A:B,2,FALSE)","v":992}]
["value474",{"$f":"VLOOKUP(A475,LookupValues!A:B,2,FALSE)","v":653}]
["value475",{"$f":"VLOOKUP(A476,LookupValues!A:B,2,FALSE)","v":959}]
["value476",{"$f":"VLOOKUP(A477,LookupValues!A:B,2,FALSE)","v":525}]
["value477",{"$f":"VLOOKUP(A478,LookupValues!A:B,2,FALSE)","v":671}]
["value478",{"$f":"VLOOKUP(A479,LookupValues!A:B,2,FALSE)","v":817}]
["value479",{"$f":"VLOOKUP(A480,LookupValues!A:B,2,FALSE)","v":572}]
["value480",{"$f":"VLOOKUP(A481,LookupValues!A:B,2,FALSE)","v":18}]
["value481",{"$f":"VLOOKUP(A482,LookupValues!A:B,2,FALSE)","v":882}]
["value482",{"$f":"VLOOKUP(A483,LookupValues!A:B,2,FALSE)","v":936}]
["value483",{"$f":"VLOOKUP(A484,LookupValues!A:B,2,FALSE)","v":455}]
["value484",{"$f":"VLOOKUP(A485,LookupValues!A:B,2,FALSE)","v":775}]
["value485",{"$f":"VLOOKUP(A486,LookupValues!A:B,2,FALSE)","v":650}]
["value486",{"$f":"VLOOKUP(A487,LookupValues!A:B,2,FALSE)","v":428}]
["value487",{"$f":"VLOOKUP(A488,LookupValues!A:B,2,FALSE)","v":288}]
["value488",{"$f":"VLOOKUP(A489,LookupValues!A:B,2,FALSE)","v":587}]
["value489",{"$f":"VLOOKUP(A490,LookupValues!A:B,2,FALSE)","v":980}]
["value490",{"$f":"VLOOKUP(A491,LookupValues!A:B,2,FALSE)","v":403}]
["value491",{"$f":"VLOOKUP(A492,LookupValues!A:B,2,FALSE)","v":711}]
["value492",{"$f":"VLOOKUP(A493,LookupValues!A:B,2,FALSE)","v":612}]
["value493",{"$f":"VLOOKUP(A494,LookupValues!A:B,2,FALSE)","v":708}]
["value494",{"$f":"VLOOKUP(A495,LookupValues!A:B,2,FALSE)","v":134}]
["value495",{"$f":"VLOOKUP(A496,LookupValues!A:B,2,FALSE)","v":851}]
["value496",{"$f":"VLOOKUP(A497,LookupValues!A:B,2,FALSE)","v":401}]
["value497",{"$f":"VLOOKUP(A498,LookupValues!A:B,2,FALSE)","v":304}]
["value498",{"$f":"VLOOKUP(A499,LookupValues!A:B,2,FALSE)","v":903}]
["value499",{"$f":"VLOOKUP(A500,LookupValues!A:B,2,FALSE)","v":988}]
["value500",{"$f":"VLOOKUP(A501,LookupValues!A:B,2,FALSE)","v":803}]
["value501",{"$f":"VLOOKUP(A502,LookupValues!A:B,2,FALSE)","v":643}]
["value502",{"$f":"VLOOKUP(A503,LookupValues!A:B,2,FALSE)","v":687}]
["value503",{"$f":"VLOOKUP(A504,LookupValues!A:B,2,FALSE)","v":174}]
["value504",{"$f":"VLOOKUP(A505,LookupValues!A:B,2,FALSE)","v":315}]
["value505",{"$f":"VLOOKUP(A506,LookupValues!A:B,2,FALSE)","v":828}]
["value506",{"$f":"VLOOKUP(A507,LookupValues!A:B,2,FALSE)","v":145}]
["value507",{"$f":"VLOOKUP(A508,LookupValues!A:B,2,FALSE)","v":450}]
["value508",{"$f":"VLOOKUP(A509,LookupValues!A:B,2,FALSE)","v":797}]
["value509",{"$f":"VLOOKUP(A510,LookupValues!A:B,2,FALSE)","v":323}]
["value510",{"$f":"VLOOKUP(A511,LookupValues!A:B,2,FALSE)","v":538}]
["value511",{"$f":"VLOOKUP(A512,LookupValues!A:B,2,FALSE)","v":659}]
["value512",{"$f":"VLOOKUP(A513,LookupValues!A:B,2,FALSE)","v":843}]
["value513",{"$f":"VLOOKUP(A514,LookupValues!A:B,2,FALSE)","v":527}]
["value514",{"$f":"VLOOKUP(A515,LookupValues!A:B,2,FALSE)","v":400}]
["value515",{"$f":"VLOOKUP(A516,LookupValues!A:B,2,FALSE)","v":683}]
["value516",{"$f":"VLOOKUP(A517,LookupValues!A:B,2,FALSE)","v":841}]
["value517",{"$f":"VLOOKUP(A518,LookupValues!A:B,2,FALSE)","v":763}]
["value518",{"$f":"VLOOKUP(A519,LookupValues!A:B,2,FALSE)","v":171}]
["value519",{"$f":"VLOOKUP(A520,LookupValues!A:B,2,FALSE)","v":446}]
["value520",{"$f":"VLOOKUP(A521,LookupValues!A:B,2,FALSE)","v":855}]
["value521",{"$f":"VLOOKUP(A522,LookupValues!A:B,2,FALSE)","v":816}]
["value522",{"$f":"VLOOKUP(A523,LookupValues!A:B,2,FALSE)","v":992}]
["value523",{"$f":"VLOOKUP(A524,LookupValues!A:B,2,FALSE)","v":603}]
["value524",{"$f":"VLOOKUP(A525,LookupValues!A:B,2,FALSE)","v":421}]
["value525",{"$f":"VLOOKUP(A526,LookupValues!A:B,2,FALSE)","v":637}]
["value526",{"$f":"VLOOKUP(A527,LookupValues!A:B,2,FALSE)","v":834}]
["value527",{"$f":"VLOOKUP(A528,LookupValues!A:B,2,FALSE)","v":506}]
["value528",{"$f":"VLOOKUP(A529,LookupValues!A:B,2,FALSE)","v":718}]
["value529",{"$f":"VLOOKUP(A530,LookupValues!A:B,2,FALSE)","v":47}]
["value530",{"$f":"VLOOKUP(A531,LookupValues!A:B,2,FALSE)","v":19}]
["value531",{"$f":"VLOOKUP(A532,LookupValues!A:B,2,FALSE)","v":685}]
["value532",{"$f":"VLOOKUP(A533,LookupValues!A:B,2,FALSE)","v":302}]
["value533",{"$f":"VLOOKUP(A534,LookupValues!A:B,2,FALSE)","v":62}]
["value534",{"$f":"VLOOKUP(A535,LookupValues!A:B,2,FALSE)","v":268}]
["value535",{"$f":"VLOOKUP(A536,LookupValues!A:B,2,FALSE)","v":641}]
["value536",{"$f":"VLOOKUP(A537,LookupValues!A:B,2,FALSE)","v":0}]
["value537",{"$f":"VLOOKUP(A538,LookupValues!A:B,2,FALSE)","v":451}]
["value538",{"$f":"VLOOKUP(A539,LookupValues!A:B,2,FALSE)","v":625}]
["value539",{"$f":"VLOOKUP(A540,LookupValues!A:B,2,FALSE)","v":963}]
["value540",{"$f":"VLOOKUP(A541,LookupValues!A:B,2,FALSE)","v":0}]
["value541",{"$f":"VLOOKUP(A542,LookupValues!A:B,2,FALSE)","v":971}]
["value542",{"$f":"VLOOKUP(A543,LookupValues!A:B,2,FALSE)","v":247}]
["value543",{"$f":"VLOOKUP(A544,LookupValues!A:B,2,FALSE)","v":533}]
["value544",{"$f":"VLOOKUP(A545,LookupValues!A:B,2,FALSE)","v":31}]
["value545",{"$f":"VLOOKUP(A546,LookupValues!A:B,2,FALSE)","v":604}]
["value546",{"$f":"VLOOKUP(A547,LookupValues!A:B,2,FALSE)","v":177}]
["value547",{"$f":"VLOOKUP(A548,LookupValues!A:B,2,FALSE)","v":379}]
["value548",{"$f":"VLOOKUP(A549,LookupValues!A:B,2,FALSE)","v":153}]
["value549",{"$f":"VLOOKUP(A550,LookupValues!A:B,2,FALSE)","v":639}]
["value550",{"$f":"VLOOKUP(A551,LookupValues!A:B,2,FALSE)","v":502}]
["value551",{"$f":"VLOOKUP(A552,LookupValues!A:B,2,FALSE)","v":751}]
["value552",{"$f":"VLOOKUP(A553,LookupValues!A:B,2,FALSE)","v":387}]
["value553",{"$f":"VLOOKUP(A554,LookupValues!A:B,2,FALSE)","v":966}]
["value554",{"$f":"VLOOKUP(A555,LookupValues!A:B,2,FALSE)","v":564}]
["value555",{"$f":"VLOOKUP(A556,LookupValues!A:B,2,FALSE)","v":232}]
["value556",{"$f":"VLOOKUP(A557,LookupValues!A:B,2,FALSE)","v":251}]
["value557",{"$f":"VLOOKUP(A558,LookupValues!A:B,2,FALSE)","v":686}]
["value558",{"$f":"VLOOKUP(A559,LookupValues!A:B,2,FALSE)","v":619}]
["value559",{"$f":"VLOOKUP(A560,LookupValues!A:B,2,FALSE)","v":199}]
["value560",{"$f":"VLOOKUP(A561,LookupValues!A:B,2,FALSE)","v":604}]
["value561",{"$f":"VLOOKUP(A562,LookupValues!A:B,2,FALSE)","v":263}]
["value562",{"$f":"VLOOKUP(A563,LookupValues!A:B,2,FALSE)","v":275}]
["value563",{"$f":"VLOOKUP(A564,LookupValues!A:B,2,FALSE)","v":395}]
["value564",{"$f":"VLOOKUP(A565,LookupValues!A:B,2,FALSE)","v":795}]
["value565",{"$f":"VLOOKUP(A566,LookupValues!A:B,2,FALSE)","v":196}]
["value566",{"$f":"VLOOKUP(A567,LookupValues!A:B,2,FALSE)","v":489}]
["value567",{"$f":"VLOOKUP(A568,LookupValues!A:B,2,FALSE)","v":836}]
["value568",{"$f":"VLOOKUP(A569,LookupValues!A:B,2,FALSE)","v":239}]
["value569",{"$f":"VLOOKUP(A570,LookupValues!A:B,2,FALSE)","v":860}]
["value570",{"$f":"VLOOKUP(A571,LookupValues!A:B,2,FALSE)","v":795}]
["value571",{"$f":"VLOOKUP(A572,LookupValues!A:B,2,FALSE)","v":571}]
["value572",{"$f":"VLOOKUP(A573,LookupValues!A:B,2,FALSE)","v":96}]
["value573",{"$f":"VLOOKUP(A574,LookupValues!A:B,2,FALSE)","v":782}]
["value574",{"$f":"VLOOKUP(A575,LookupValues!A:B,2,FALSE)","v":245}]
["value575",{"$f":"VLOOKUP(A576,LookupValues!A:B,2,FALSE)","v":638}]
["value576",{"$f":"VLOOKUP(A577,LookupValues!A:B,2,FALSE)","v":561}]
["value577",{"$f":"VLOOKUP(A578,LookupValues!A:B,2,FALSE)","v":510}]
["value578",{"$f":"VLOOKUP(A579,LookupValues!A:B,2,FALSE)","v":51}]
["value579",{"$f":"VLOOKUP(A580,LookupValues!A:B,2,FALSE)","v":2}]
["value580",{"$f":"VLOOKUP(A581,LookupValues!A:B,2,FALSE)","v":903}]
["value581",{"$f":"VLOOKUP(A582,LookupValues!A:B,2,FALSE)","v":977}]
["value582",{"$f":"VLOOKUP(A583,LookupValues!A:B,2,FALSE)","v":609}]
["value583",{"$f":"VLOOKUP(A584,LookupValues!A:B,2,FALSE)","v":640}]
["value584",{"$f":"VLOOKUP(A585,LookupValues!A:B,2,FALSE)","v":928}]
["value585",{"$f":"VLOOKUP(A586,LookupValues!A:B,2,FALSE)","v":653}]
["value586",{"$f":"VLOOKUP(A587,LookupValues!A:B,2,FALSE)","v":804}]
["value587",{"$f":"VLOOKUP(A588,LookupValues!A:B,2,FALSE)","v":509}]
["value588",{"$f":"VLOOKUP(A589,LookupValues!A:B,2,FALSE)","v":944}]
["value589",{"$f":"VLOOKUP(A590,LookupValues!A:B,2,FALSE)","v":268}]
["value590",{"$f":"VLOOKUP(A591,LookupValues!A:B,2,FALSE)","v":363}]
["value591",{"$f":"VLOOKUP(A592,LookupValues!A:B,2,FALSE)","v":261}]
["value592",{"$f":"VLOOKUP(A593,LookupValues!A:B,2,FALSE)","v":999}]
["value593",{"$f":"VLOOKUP(A594,LookupValues!A:B,2,FALSE)","v":268}]
["value594",{"$f":"VLOOKUP(A595,LookupValues!A:B,2,FALSE)","v":344}]
["value595",{"$f":"VLOOKUP(A596,LookupValues!A:B,2,FALSE)","v":967}]
["value596",{"$f":"VLOOKUP(A597,LookupValues!A:B,2,FALSE)","v":904}]
["value597",{"$f":"VLOOKUP(A598,LookupValues!A:B,2,FALSE)","v":594}]
["value598",{"$f":"VLOOKUP(A599,LookupValues!A:B,2,FALSE)","v":739}]
["value599",{"$f":"VLOOKUP(A600,LookupValues!A:B,2,FALSE)","v":597}]
["value600",{"$f":"VLOOKUP(A601,LookupValues!A:B,2,FALSE)","v":347}]
["value601",{"$f":"VLOOKUP(A602,LookupValues!A:B,2,FALSE)","v":726}]
["value602",{"$f":"VLOOKUP(A603,LookupValues!A:B,2,FALSE)","v":601}]
["value603",{"$f":"VLOOKUP(A604,LookupValues!A:B,2,FALSE)","v":696}]
["value604",{"$f":"VLOOKUP(A605,LookupValues!A:B,2,FALSE)","v":35}]
["value605",{"$f":"VLOOKUP(A606,LookupValues!A:B,2,FALSE)","v":827}]
["value606",{"$f":"VLOOKUP(A607,LookupValues!A:B,2,FALSE)","v":364}]
["value607",{"$f":"VLOOKUP(A608,LookupValues!A:B,2,FALSE)","v":467}]
["value608",{"$f":"VLOOKUP(A609,LookupValues!A:B,2,FALSE)","v":815}]
["value609",{"$f":"VLOOKUP(A610,LookupValues!A:B,2,FALSE)","v":401}]
["value610",{"$f":"VLOOKUP(A611,LookupValues!A:B,2,FALSE)","v":872}]
["value611",{"$f":"VLOOKUP(A612,LookupValues!A:B,2,FALSE)","v":669}]
["value612",{"$f":"VLOOKUP(A613,LookupValues!A:B,2,FALSE)","v":122}]
["value613",{"$f":"VLOOKUP(A614,LookupValues!A:B,2,FALSE)","v":999}]
["value614",{"$f":"VLOOKUP(A615,LookupValues!A:B,2,FALSE)","v":821}]
["value615",{"$f":"VLOOKUP(A616,LookupValues!A:B,2,FALSE)","v":975}]
["value616",{"$f":"VLOOKUP(A617,LookupValues!A:B,2,FALSE)","v":600}]
["value617",{"$f":"VLOOKUP(A618,LookupValues!A:B,2,FALSE)","v":262}]
["value618",{"$f":"VLOOKUP(A619,LookupValues!A:B,2,FALSE)","v":473}]
["value619",{"$f":"VLOOKUP(A620,LookupValues!A:B,2,FALSE)","v":448}]
["value620",{"$f":"VLOOKUP(A621,LookupValues!A:B,2,FALSE)","v":915}]
["value621",{"$f":"VLOOKUP(A622,LookupValues!A:B,2,FALSE)","v":495}]
["value622",{"$f":"VLOOKUP(A623,LookupValues!A:B,2,FALSE)","v":191}]
["value623",{"$f":"VLOOKUP(A624,LookupValues!A:B,2,FALSE)","v":595}]
["value624",{"$f":"VLOOKUP(A625,LookupValues!A:B,2,FALSE)","v":330}]
["value625",{"$f":"VLOOKUP(A626,LookupValues!A:B,2,FALSE)","v":373}]
["value626",{"$f":"VLOOKUP(A627,LookupValues!A:B,2,FALSE)","v":645}]
["value627",{"$f":"VLOOKUP(A628,LookupValues!A:B,2,FALSE)","v":732}]
["value628",{"$f":"VLOOKUP(A629,LookupValues!A:B,2,FALSE)","v":847}]
["value629",{"$f":"VLOOKUP(A630,LookupValues!A:B,2,FALSE)","v":496}]
["value630",{"$f":"VLOOKUP(A631,LookupValues!A:B,2,FALSE)","v":592}]
["value631",{"$f":"VLOOKUP(A632,LookupValues!A:B,2,FALSE)","v":801}]
["value632",{"$f":"VLOOKUP(A633,LookupValues!A:B,2,FALSE)","v":156}]
["value633",{"$f":"VLOOKUP(A634,LookupValues!A:B,2,FALSE)","v":454}]
["value634",{"$f":"VLOOKUP(A635,LookupValues!A:B,2,FALSE)","v":59}]
["value635",{"$f":"VLOOKUP(A636,LookupValues!A:B,2,FALSE)","v":993}]
["value636",{"$f":"VLOOKUP(A637,LookupValues!A:B,2,FALSE)","v":190}]
["value637",{"$f":"VLOOKUP(A638,LookupValues!A:B,2,FALSE)","v":324}]
["value638",{"$f":"VLOOKUP(A639,LookupValues!A:B,2,FALSE)","v":963}]
["value639",{"$f":"VLOOKUP(A640,LookupValues!A:B,2,FALSE)","v":857}]
["value640",{"$f":"VLOOKUP(A641,LookupValues!A:B,2,FALSE)","v":24}]
["value641",{"$f":"VLOOKUP(A642,LookupValues!A:B,2,FALSE)","v":568}]
["value642",{"$f":"VLOOKUP(A643,LookupValues!A:B,2,FALSE)","v":32}]
["value643",{"$f":"VLOOKUP(A644,LookupValues!A:B,2,FALSE)","v":652}]
["value644",{"$f":"VLOOKUP(A645,LookupValues!A:B,2,FALSE)","v":136}]
["value645",{"$f":"VLOOKUP(A646,LookupValues!A:B,2,FALSE)","v":988}]
["value646",{"$f":"VLOOKUP(A647,LookupValues!A:B,2,FALSE)","v":853}]
["value647",{"$f":"VLOOKUP(A648,LookupValues!A:B,2,FALSE)","v":648}]
["value648",{"$f":"VLOOKUP(A649,LookupValues!A:B,2,FALSE)","v":840}]
["value649",{"$f":"VLOOKUP(A650,LookupValues!A:B,2,FALSE)","v":576}]
["value650",{"$f":"VLOOKUP(A651,LookupValues!A:B,2,FALSE)","v":760}]
["value651",{"$f":"VLOOKUP(A652,LookupValues!A:B,2,FALSE)","v":21}]
["value652",{"$f":"VLOOKUP(A653,LookupValues!A:B,2,FALSE)","v":709}]
["value653",{"$f":"VLOOKUP(A654,LookupValues!A:B,2,FALSE)","v":96}]
["value654",{"$f":"VLOOKUP(A655,LookupValues!A:B,2,FALSE)","v":690}]
["value655",{"$f":"VLOOKUP(A656,LookupValues!A:B,2,FALSE)","v":509}]
["value656",{"$f":"VLOOKUP(A657,LookupValues!A:B,2,FALSE)","v":756}]
["value657",{"$f":"VLOOKUP(A658,LookupValues!A:B,2,FALSE)","v":86}]
["value658",{"$f":"VLOOKUP(A659,LookupValues!A:B,2,FALSE)","v":779}]
["value659",{"$f":"VLOOKUP(A660,LookupValues!A:B,2,FALSE)","v":57}]
["value660",{"$f":"VLOOKUP(A661,LookupValues!A:B,2,FALSE)","v":639}]
["value661",{"$f":"VLOOKUP(A662,LookupValues!A:B,2,FALSE)","v":533}]
["value662",{"$f":"VLOOKUP(A663,LookupValues!A:B,2,FALSE)","v":447}]
["value663",{"$f":"VLOOKUP(A664,LookupValues!A:B,2,FALSE)","v":698}]
["value664",{"$f":"VLOOKUP(A665,LookupValues!A:B,2,FALSE)","v":566}]
["value665",{"$f":"VLOOKUP(A666,LookupValues!A:B,2,FALSE)","v":131}]
["value666",{"$f":"VLOOKUP(A667,LookupValues!A:B,2,FALSE)","v":410}]
["value667",{"$f":"VLOOKUP(A668,LookupValues!A:B,2,FALSE)","v":375}]
["value668",{"$f":"VLOOKUP(A669,LookupValues!A:B,2,FALSE)","v":180}]
["value669",{"$f":"VLOOKUP(A670,LookupValues!A:B,2,FALSE)","v":997}]
["value670",{"$f":"VLOOKUP(A671,LookupValues!A:B,2,FALSE)","v":547}]
["value671",{"$f":"VLOOKUP(A672,LookupValues!A:B,2,FALSE)","v":347}]
["value672",{"$f":"VLOOKUP(A673,LookupValues!A:B,2,FALSE)","v":508}]
["value673",{"$f":"VLOOKUP(A674,LookupValues!A:B,2,FALSE)","v":834}]
["value674",{"$f":"VLOOKUP(A675,LookupValues!A:B,2,FALSE)","v":483}]
["value675",{"$f":"VLOOKUP(A676,LookupValues!A:B,2,FALSE)","v":851}]
["value676",{"$f":"VLOOKUP(A677,LookupValues!A:B,2,FALSE)","v":41}]
["value677",{"$f":"VLOOKUP(A678,LookupValues!A:B,2,FALSE)","v":242}]
["value678",{"$f":"VLOOKUP(A679,LookupValues!A:B,2,FALSE)","v":820}]
["value679",{"$f":"VLOOKUP(A680,LookupValues!A:B,2,FALSE)","v":712}]
["value680",{"$f":"VLOOKUP(A681,LookupValues!A:B,2,FALSE)","v":958}]
["value681",{"$f":"VLOOKUP(A682,LookupValues!A:B,2,FALSE)","v":192}]
["value682",{"$f":"VLOOKUP(A683,LookupValues!A:B,2,FALSE)","v":760}]
["value683",{"$f":"VLOOKUP(A684,LookupValues!A:B,2,FALSE)","v":828}]
["value684",{"$f":"VLOOKUP(A685,LookupValues!A:B,2,FALSE)","v":714}]
["value685",{"$f":"VLOOKUP(A686,LookupValues!A:B,2,FALSE)","v":974}]
["value686",{"$f":"VLOOKUP(A687,LookupValues!A:B,2,FALSE)","v":536}]
["value687",{"$f":"VLOOKUP(A688,LookupValues!A:B,2,FALSE)","v":917}]
["value688",{"$f":"VLOOKUP(A689,LookupValues!A:B,2,FALSE)","v":249}]
["value689",{"$f":"VLOOKUP(A690,LookupValues!A:B,2,FALSE)","v":172}]
["value690",{"$f":"VLOOKUP(A691,LookupValues!A:B,2,FALSE)","v":908}]
["value691",{"$f":"VLOOKUP(A692,LookupValues!A:B,2,FALSE)","v":215}]
["value692",{"$f":"VLOOKUP(A693,LookupValues!A:B,2,FALSE)","v":861}]
["value693",{"$f":"VLOOKUP(A694,LookupValues!A:B,2,FALSE)","v":428}]
["value694",{"$f":"VLOOKUP(A695,LookupValues!A:B,2,FALSE)","v":61}]
["value695",{"$f":"VLOOKUP(A696,LookupValues!A:B,2,FALSE)","v":140}]
["value696",{"$f":"VLOOKUP(A697,LookupValues!A:B,2,FALSE)","v":110}]
["value697",{"$f":"VLOOKUP(A698,LookupValues!A:B,2,FALSE)","v":988}]
["value698",{"$f":"VLOOKUP(A699,LookupValues!A:B,2,FALSE)","v":335}]
["value699",{"$f":"VLOOKUP(A700,LookupValues!A:B,2,FALSE)","v":545}]
["value700",{"$f":"VLOOKUP(A701,LookupValues!A:B,2,FALSE)","v":462}]
["value701",{"$f":"VLOOKUP(A702,LookupValues!A:B,2,FALSE)","v":979}]
["value702",{"$f":"VLOOKUP(A703,LookupValues!A:B,2,FALSE)","v":697}]
["value703",{"$f":"VLOOKUP(A704,LookupValues!A:B,2,FALSE)","v":877}]
["value704",{"$f":"VLOOKUP(A705,LookupValues!A:B,2,FALSE)","v":788}]
["value705",{"$f":"VLOOKUP(A706,LookupValues!A:B,2,FALSE)","v":652}]
["value706",{"$f":"VLOOKUP(A707,LookupValues!A:B,2,FALSE)","v":507}]
["value707",{"$f":"VLOOKUP(A708,LookupValues!A:B,2,FALSE)","v":129}]
["value708",{"$f":"VLOOKUP(A709,LookupValues!A:B,2,FALSE)","v":299}]
["value709",{"$f":"VLOOKUP(A710,LookupValues!A:B,2,FALSE)","v":460}]
["value710",{"$f":"VLOOKUP(A711,LookupValues!A:B,2,FALSE)","v":853}]
["value711",{"$f":"VLOOKUP(A712,LookupValues!A:B,2,FALSE)","v":208}]
["value712",{"$f":"VLOOKUP(A713,LookupValues!A:B,2,FALSE)","v":451}]
["value713",{"$f":"VLOOKUP(A714,LookupValues!A:B,2,FALSE)","v":616}]
["value714",{"$f":"VLOOKUP(A715,LookupValues!A:B,2,FALSE)","v":263}]
["value715",{"$f":"VLOOKUP(A716,LookupValues!A:B,2,FALSE)","v":859}]
["value716",{"$f":"VLOOKUP(A717,LookupValues!A:B,2,FALSE)","v":430}]
["value717",{"$f":"VLOOKUP(A718,LookupValues!A:B,2,FALSE)","v":251}]
["value718",{"$f":"VLOOKUP(A719,LookupValues!A:B,2,FALSE)","v":743}]
["value719",{"$f":"VLOOKUP(A720,LookupValues!A:B,2,FALSE)","v":114}]
["value720",{"$f":"VLOOKUP(A721,LookupValues!A:B,2,FALSE)","v":406}]
["value721",{"$f":"VLOOKUP(A722,LookupValues!A:B,2,FALSE)","v":423}]
["value722",{"$f":"VLOOKUP(A723,LookupValues!A:B,2,FALSE)","v":673}]
["value723",{"$f":"VLOOKUP(A724,LookupValues!A:B,2,FALSE)","v":330}]
["value724",{"$f":"VLOOKUP(A725,LookupValues!A:B,2,FALSE)","v":550}]
["value725",{"$f":"VLOOKUP(A726,LookupValues!A:B,2,FALSE)","v":865}]
["value726",{"$f":"VLOOKUP(A727,LookupValues!A:B,2,FALSE)","v":51}]
["value727",{"$f":"VLOOKUP(A728,LookupValues!A:B,2,FALSE)","v":487}]
["value728",{"$f":"VLOOKUP(A729,LookupValues!A:B,2,FALSE)","v":196}]
["value729",{"$f":"VLOOKUP(A730,LookupValues!A:B,2,FALSE)","v":114}]
["value730",{"$f":"VLOOKUP(A731,LookupValues!A:B,2,FALSE)","v":244}]
["value731",{"$f":"VLOOKUP(A732,LookupValues!A:B,2,FALSE)","v":293}]
["value732",{"$f":"VLOOKUP(A733,LookupValues!A:B,2,FALSE)","v":289}]
["value733",{"$f":"VLOOKUP(A734,LookupValues!A:B,2,FALSE)","v":787}]
["value734",{"$f":"VLOOKUP(A735,LookupValues!A:B,2,FALSE)","v":567}]
["value735",{"$f":"VLOOKUP(A736,LookupValues!A:B,2,FALSE)","v":326}]
["value736",{"$f":"VLOOKUP(A737,LookupValues!A:B,2,FALSE)","v":949}]
["value737",{"$f":"VLOOKUP(A738,LookupValues!A:B,2,FALSE)","v":600}]
["value738",{"$f":"VLOOKUP(A739,LookupValues!A:B,2,FALSE)","v":331}]
["value739",{"$f":"VLOOKUP(A740,LookupValues!A:B,2,FALSE)","v":342}]
["value740",{"$f":"VLOOKUP(A741,LookupValues!A:B,2,FALSE)","v":306}]
["value741",{"$f":"VLOOKUP(A742,LookupValues!A:B,2,FALSE)","v":94}]
["value742",{"$f":"VLOOKUP(A743,LookupValues!A:B,2,FALSE)","v":297}]
["value743",{"$f":"VLOOKUP(A744,LookupValues!A:B,2,FALSE)","v":719}]
["value744",{"$f":"VLOOKUP(A745,LookupValues!A:B,2,FALSE)","v":806}]
["value745",{"$f":"VLOOKUP(A746,LookupValues!A:B,2,FALSE)","v":141}]
["value746",{"$f":"VLOOKUP(A747,LookupValues!A:B,2,FALSE)","v":408}]
["value747",{"$f":"VLOOKUP(A748,LookupValues!A:B,2,FALSE)","v":603}]
["value748",{"$f":"VLOOKUP(A749,LookupValues!A:B,2,FALSE)","v":328}]
["value749",{"$f":"VLOOKUP(A750,LookupValues!A:B,2,FALSE)","v":341}]
["value750",{"$f":"VLOOKUP(A751,LookupValues!A:B,2,FALSE)","v":998}]
["value751",{"$f":"VLOOKUP(A752,LookupValues!A:B,2,FALSE)","v":352}]
["value752",{"$f":"VLOOKUP(A753,LookupValues!A:B,2,FALSE)","v":764}]
["value753",{"$f":"VLOOKUP(A754,LookupValues!A:B,2,FALSE)","v":440}]
["value754",{"$f":"VLOOKUP(A755,LookupValues!A:B,2,FALSE)","v":325}]
["value755",{"$f":"VLOOKUP(A756,LookupValues!A:B,2,FALSE)","v":622}]
["value756",{"$f":"VLOOKUP(A757,LookupValues!A:B,2,FALSE)","v":228}]
["value757",{"$f":"VLOOKUP(A758,LookupValues!A:B,2,FALSE)","v":234}]
["value758",{"$f":"VLOOKUP(A759,LookupValues!A:B,2,FALSE)","v":292}]
["value759",{"$f":"VLOOKUP(A760,LookupValues!A:B,2,FALSE)","v":584}]
["value760",{"$f":"VLOOKUP(A761,LookupValues!A:B,2,FALSE)","v":238}]
["value761",{"$f":"VLOOKUP(A762,LookupValues!A:B,2,FALSE)","v":787}]
["value762",{"$f":"VLOOKUP(A763,LookupValues!A:B,2,FALSE)","v":953}]
["value763",{"$f":"VLOOKUP(A764,LookupValues!A:B,2,FALSE)","v":575}]
["value764",{"$f":"VLOOKUP(A765,LookupValues!A:B,2,FALSE)","v":80}]
["value765",{"$f":"VLOOKUP(A766,LookupValues!A:B,2,FALSE)","v":16}]
["value766",{"$f":"VLOOKUP(A767,LookupValues!A:B,2,FALSE)","v":454}]
["value767",{"$f":"VLOOKUP(A768,LookupValues!A:B,2,FALSE)","v":70}]
["value768",{"$f":"VLOOKUP(A769,LookupValues!A:B,2,FALSE)","v":805}]
["value769",{"$f":"VLOOKUP(A770,LookupValues!A:B,2,FALSE)","v":628}]
["value770",{"$f":"VLOOKUP(A771,LookupValues!A:B,2,FALSE)","v":955}]
["value771",{"$f":"VLOOKUP(A772,LookupValues!A:B,2,FALSE)","v":223}]
["value772",{"$f":"VLOOKUP(A773,LookupValues!A:B,2,FALSE)","v":695}]
["value773",{"$f":"VLOOKUP(A774,LookupValues!A:B,2,FALSE)","v":75}]
["value774",{"$f":"VLOOKUP(A775,LookupValues!A:B,2,FALSE)","v":975}]
["value775",{"$f":"VLOOKUP(A776,LookupValues!A:B,2,FALSE)","v":640}]
["value776",{"$f":"VLOOKUP(A777,LookupValues!A:B,2,FALSE)","v":423}]
["value777",{"$f":"VLOOKUP(A778,LookupValues!A:B,2,FALSE)","v":617}]
["value778",{"$f":"VLOOKUP(A779,LookupValues!A:B,2,FALSE)","v":567}]
["value779",{"$f":"VLOOKUP(A780,LookupValues!A:B,2,FALSE)","v":615}]
["value780",{"$f":"VLOOKUP(A781,LookupValues!A:B,2,FALSE)","v":360}]
["value781",{"$f":"VLOOKUP(A782,LookupValues!A:B,2,FALSE)","v":282}]
["value782",{"$f":"VLOOKUP(A783,LookupValues!A:B,2,FALSE)","v":915}]
["value783",{"$f":"VLOOKUP(A784,LookupValues!A:B,2,FALSE)","v":432}]
["value784",{"$f":"VLOOKUP(A785,LookupValues!A:B,2,FALSE)","v":959}]
["value785",{"$f":"VLOOKUP(A786,LookupValues!A:B,2,FALSE)","v":726}]
["value786",{"$f":"VLOOKUP(A787,LookupValues!A:B,2,FALSE)","v":574}]
["value787",{"$f":"VLOOKUP(A788,LookupValues!A:B,2,FALSE)","v":916}]
["value788",{"$f":"VLOOKUP(A789,LookupValues!A:B,2,FALSE)","v":565}]
["value789",{"$f":"VLOOKUP(A790,LookupValues!A:B,2,FALSE)","v":102}]
["value790",{"$f":"VLOOKUP(A791,LookupValues!A:B,2,FALSE)","v":962}]
["value791",{"$f":"VLOOKUP(A792,LookupValues!A:B,2,FALSE)","v":84}]
["value792",{"$f":"VLOOKUP(A793,LookupValues!A:B,2,FALSE)","v":972}]
["value793",{"$f":"VLOOKUP(A794,LookupValues!A:B,2,FALSE)","v":112}]
["value794",{"$f":"VLOOKUP(A795,LookupValues!A:B,2,FALSE)","v":210}]
["value795",{"$f":"VLOOKUP(A796,LookupValues!A:B,2,FALSE)","v":242}]
["value796",{"$f":"VLOOKUP(A797,LookupValues!A:B,2,FALSE)","v":688}]
["value797",{"$f":"VLOOKUP(A798,LookupValues!A:B,2,FALSE)","v":721}]
["value798",{"$f":"VLOOKUP(A799,LookupValues!A:B,2,FALSE)","v":825}]
["value799",{"$f":"VLOOKUP(A800,LookupValues!A:B,2,FALSE)","v":59}]
["value800",{"$f":"VLOOKUP(A801,LookupValues!A:B,2,FALSE)","v":656}]
["value801",{"$f":"VLOOKUP(A802,LookupValues!A:B,2,FALSE)","v":74}]
["value802",{"$f":"VLOOKUP(A803,LookupValues!A:B,2,FALSE)","v":521}]
["value803",{"$f":"VLOOKUP(A804,LookupValues!A:B,2,FALSE)","v":767}]
["value804",{"$f":"VLOOKUP(A805,LookupValues!A:B,2,FALSE)","v":859}]
["value805",{"$f":"VLOOKUP(A806,LookupValues!A:B,2,FALSE)","v":416}]
["value806",{"$f":"VLOOKUP(A807,LookupValues!A:B,2,FALSE)","v":313}]
["value807",{"$f":"VLOOKUP(A808,LookupValues!A:B,2,FALSE)","v":938}]
["value808",{"$f":"VLOOKUP(A809,LookupValues!A:B,2,FALSE)","v":42}]
["value809",{"$f":"VLOOKUP(A810,LookupValues!A:B,2,FALSE)","v":694}]
["value810",{"$f":"VLOOKUP(A811,LookupValues!A:B,2,FALSE)","v":736}]
["value811",{"$f":"VLOOKUP(A812,LookupValues!A:B,2,FALSE)","v":734}]
["value812",{"$f":"VLOOKUP(A813,LookupValues!A:B,2,FALSE)","v":374}]
["value813",{"$f":"VLOOKUP(A814,LookupValues!A:B,2,FALSE)","v":47}]
["value814",{"$f":"VLOOKUP(A815,LookupValues!A:B,2,FALSE)","v":443}]
["value815",{"$f":"VLOOKUP(A816,LookupValues!A:B,2,FALSE)","v":395}]
["value816",{"$f":"VLOOKUP(A817,LookupValues!A:B,2,FALSE)","v":468}]
["value817",{"$f":"VLOOKUP(A818,LookupValues!A:B,2,FALSE)","v":167}]
["value818",{"$f":"VLOOKUP(A819,LookupValues!A:B,2,FALSE)","v":148}]
["value819",{"$f":"VLOOKUP(A820,LookupValues!A:B,2,FALSE)","v":504}]
["value820",{"$f":"VLOOKUP(A821,LookupValues!A:B,2,FALSE)","v":723}]
["value821",{"$f":"VLOOKUP(A822,LookupValues!A:B,2,FALSE)","v":141}]
["value822",{"$f":"VLOOKUP(A823,LookupValues!A:B,2,FALSE)","v":465}]
["value823",{"$f":"VLOOKUP(A824,LookupValues!A:B,2,FALSE)","v":515}]
["value824",{"$f":"VLOOKUP(A825,LookupValues!A:B,2,FALSE)","v":176}]
["value825",{"$f":"VLOOKUP(A826,LookupValues!A:B,2,FALSE)","v":360}]
["value826",{"$f":"VLOOKUP(A827,LookupValues!A:B,2,FALSE)","v":165}]
["value827",{"$f":"VLOOKUP(A828,LookupValues!A:B,2,FALSE)","v":897}]
["value828",{"$f":"VLOOKUP(A829,LookupValues!A:B,2,FALSE)","v":281}]
["value829",{"$f":"VLOOKUP(A830,LookupValues!A:B,2,FALSE)","v":534}]
["value830",{"$f":"VLOOKUP(A831,LookupValues!A:B,2,FALSE)","v":409}]
["value831",{"$f":"VLOOKUP(A832,LookupValues!A:B,2,FALSE)","v":119}]
["value832",{"$f":"VLOOKUP(A833,LookupValues!A:B,2,FALSE)","v":438}]
["value833",{"$f":"VLOOKUP(A834,LookupValues!A:B,2,FALSE)","v":953}]
["value834",{"$f":"VLOOKUP(A835,LookupValues!A:B,2,FALSE)","v":407}]
["value835",{"$f":"VLOOKUP(A836,LookupValues!A:B,2,FALSE)","v":494}]
["value836",{"$f":"VLOOKUP(A837,LookupValues!A:B,2,FALSE)","v":48}]
["value837",{"$f":"VLOOKUP(A838,LookupValues!A:B,2,FALSE)","v":347}]
["value838",{"$f":"VLOOKUP(A839,LookupValues!A:B,2,FALSE)","v":500}]
["value839",{"$f":"VLOOKUP(A840,LookupValues!A:B,2,FALSE)","v":415}]
["value840",{"$f":"VLOOKUP(A841,LookupValues!A:B,2,FALSE)","v":713}]
["value841",{"$f":"VLOOKUP(A842,LookupValues!A:B,2,FALSE)","v":451}]
["value842",{"$f":"VLOOKUP(A843,LookupValues!A:B,2,FALSE)","v":137}]
["value843",{"$f":"VLOOKUP(A844,LookupValues!A:B,2,FALSE)","v":472}]
["value844",{"$f":"VLOOKUP(A845,LookupValues!A:B,2,FALSE)","v":68}]
["value845",{"$f":"VLOOKUP(A846,LookupValues!A:B,2,FALSE)","v":435}]
["value846",{"$f":"VLOOKUP(A847,LookupValues!A:B,2,FALSE)","v":549}]
["value847",{"$f":"VLOOKUP(A848,LookupValues!A:B,2,FALSE)","v":887}]
["value848",{"$f":"VLOOKUP(A849,LookupValues!A:B,2,FALSE)","v":104}]
["value849",{"$f":"VLOOKUP(A850,LookupValues!A:B,2,FALSE)","v":358}]
["value850",{"$f":"VLOOKUP(A851,LookupValues!A:B,2,FALSE)","v":495}]
["value851",{"$f":"VLOOKUP(A852,LookupValues!A:B,2,FALSE)","v":976}]
["value852",{"$f":"VLOOKUP(A853,LookupValues!A:B,2,FALSE)","v":521}]
["value853",{"$f":"VLOOKUP(A854,LookupValues!A:B,2,FALSE)","v":93}]
["value854",{"$f":"VLOOKUP(A855,LookupValues!A:B,2,FALSE)","v":33}]
["value855",{"$f":"VLOOKUP(A856,LookupValues!A:B,2,FALSE)","v":223}]
["value856",{"$f":"VLOOKUP(A857,LookupValues!A:B,2,FALSE)","v":619}]
["value857",{"$f":"VLOOKUP(A858,LookupValues!A:B,2,FALSE)","v":375}]
["value858",{"$f":"VLOOKUP(A859,LookupValues!A:B,2,FALSE)","v":601}]
["value859",{"$f":"VLOOKUP(A860,LookupValues!A:B,2,FALSE)","v":293}]
["value860",{"$f":"VLOOKUP(A861,LookupValues!A:B,2,FALSE)","v":724}]
["value861",{"$f":"VLOOKUP(A862,LookupValues!A:B,2,FALSE)","v":796}]
["value862",{"$f":"VLOOKUP(A863,LookupValues!A:B,2,FALSE)","v":302}]
["value863",{"$f":"VLOOKUP(A864,LookupValues!A:B,2,FALSE)","v":858}]
["value864",{"$f":"VLOOKUP(A865,LookupValues!A:B,2,FALSE)","v":830}]
["value865",{"$f":"VLOOKUP(A866,LookupValues!A:B,2,FALSE)","v":116}]
["value866",{"$f":"VLOOKUP(A867,LookupValues!A:B,2,FALSE)","v":828}]
["value867",{"$f":"VLOOKUP(A868,LookupValues!A:B,2,FALSE)","v":782}]
["value868",{"$f":"VLOOKUP(A869,LookupValues!A:B,2,FALSE)","v":997}]
["value869",{"$f":"VLOOKUP(A870,LookupValues!A:B,2,FALSE)","v":949}]
["value870",{"$f":"VLOOKUP(A871,LookupValues!A:B,2,FALSE)","v":98}]
["value871",{"$f":"VLOOKUP(A872,LookupValues!A:B,2,FALSE)","v":936}]
["value872",{"$f":"VLOOKUP(A873,LookupValues!A:B,2,FALSE)","v":232}]
["value873",{"$f":"VLOOKUP(A874,LookupValues!A:B,2,FALSE)","v":139}]
["value874",{"$f":"VLOOKUP(A875,LookupValues!A:B,2,FALSE)","v":797}]
["value875",{"$f":"VLOOKUP(A876,LookupValues!A:B,2,FALSE)","v":286}]
["value876",{"$f":"VLOOKUP(A877,LookupValues!A:B,2,FALSE)","v":705}]
["value877",{"$f":"VLOOKUP(A878,LookupValues!A:B,2,FALSE)","v":707}]
["value878",{"$f":"VLOOKUP(A879,LookupValues!A:B,2,FALSE)","v":859}]
["value879",{"$f":"VLOOKUP(A880,LookupValues!A:B,2,FALSE)","v":133}]
["value880",{"$f":"VLOOKUP(A881,LookupValues!A:B,2,FALSE)","v":952}]
["value881",{"$f":"VLOOKUP(A882,LookupValues!A:B,2,FALSE)","v":675}]
["value882",{"$f":"VLOOKUP(A883,LookupValues!A:B,2,FALSE)","v":648}]
["value883",{"$f":"VLOOKUP(A884,LookupValues!A:B,2,FALSE)","v":992}]
["value884",{"$f":"VLOOKUP(A885,LookupValues!A:B,2,FALSE)","v":36}]
["value885",{"$f":"VLOOKUP(A886,LookupValues!A:B,2,FALSE)","v":748}]
["value886",{"$f":"VLOOKUP(A887,LookupValues!A:B,2,FALSE)","v":418}]
["value887",{"$f":"VLOOKUP(A888,LookupValues!A:B,2,FALSE)","v":765}]
["value888",{"$f":"VLOOKUP(A889,LookupValues!A:B,2,FALSE)","v":591}]
["value889",{"$f":"VLOOKUP(A890,LookupValues!A:B,2,FALSE)","v":510}]
["value890",{"$f":"VLOOKUP(A891,LookupValues!A:B,2,FALSE)","v":811}]
["value891",{"$f":"VLOOKUP(A892,LookupValues!A:B,2,FALSE)","v":236}]
["value892",{"$f":"VLOOKUP(A893,LookupValues!A:B,2,FALSE)","v":33}]
["value893",{"$f":"VLOOKUP(A894,LookupValues!A:B,2,FALSE)","v":276}]
["value894",{"$f":"VLOOKUP(A895,LookupValues!A:B,2,FALSE)","v":961}]
["value895",{"$f":"VLOOKUP(A896,LookupValues!A:B,2,FALSE)","v":403}]
["value896",{"$f":"VLOOKUP(A897,LookupValues!A:B,2,FALSE)","v":515}]
["value897",{"$f":"VLOOKUP(A898,LookupValues!A:B,2,FALSE)","v":442}]
["value898",{"$f":"VLOOKUP(A899,LookupValues!A:B,2,FALSE)","v":421}]
["value899",{"$f":"VLOOKUP(A900,LookupValues!A:B,2,FALSE)","v":591}]
["value900",{"$f":"VLOOKUP(A901,LookupValues!A:B,2,FALSE)","v":925}]
["value901",{"$f":"VLOOKUP(A902,LookupValues!A:B,2,FALSE)","v":502}]
["value902",{"$f":"VLOOKUP(A903,LookupValues!A:B,2,FALSE)","v":448}]
["value903",{"$f":"VLOOKUP(A904,LookupValues!A:B,2,FALSE)","v":191}]
["value904",{"$f":"VLOOKUP(A905,LookupValues!A:B,2,FALSE)","v":996}]
["value905",{"$f":"VLOOKUP(A906,LookupValues!A:B,2,FALSE)","v":161}]
["value906",{"$f":"VLOOKUP(A907,LookupValues!A:B,2,FALSE)","v":790}]
["value907",{"$f":"VLOOKUP(A908,LookupValues!A:B,2,FALSE)","v":185}]
["value908",{"$f":"VLOOKUP(A909,LookupValues!A:B,2,FALSE)","v":986}]
["value909",{"$f":"VLOOKUP(A910,LookupValues!A:B,2,FALSE)","v":300}]
["value910",{"$f":"VLOOKUP(A911,LookupValues!A:B,2,FALSE)","v":907}]
["value911",{"$f":"VLOOKUP(A912,LookupValues!A:B,2,FALSE)","v":787}]
["value912",{"$f":"VLOOKUP(A913,LookupValues!A:B,2,FALSE)","v":43}]
["value913",{"$f":"VLOOKUP(A914,LookupValues!A:B,2,FALSE)","v":36}]
["value914",{"$f":"VLOOKUP(A915,LookupValues!A:B,2,FALSE)","v":520}]
["value915",{"$f":"VLOOKUP(A916,LookupValues!A:B,2,FALSE)","v":560}]
["value916",{"$f":"VLOOKUP(A917,LookupValues!A:B,2,FALSE)","v":422}]
["value917",{"$f":"VLOOKUP(A918,LookupValues!A:B,2,FALSE)","v":763}]
["value918",{"$f":"VLOOKUP(A919,LookupValues!A:B,2,FALSE)","v":277}]
["value919",{"$f":"VLOOKUP(A920,LookupValues!A:B,2,FALSE)","v":892}]
["value920",{"$f":"VLOOKUP(A921,LookupValues!A:B,2,FALSE)","v":952}]
["value921",{"$f":"VLOOKUP(A922,LookupValues!A:B,2,FALSE)","v":610}]
["value922",{"$f":"VLOOKUP(A923,LookupValues!A:B,2,FALSE)","v":273}]
["value923",{"$f":"VLOOKUP(A924,LookupValues!A:B,2,FALSE)","v":247}]
["value924",{"$f":"VLOOKUP(A925,LookupValues!A:B,2,FALSE)","v":307}]
["value925",{"$f":"VLOOKUP(A926,LookupValues!A:B,2,FALSE)","v":715}]
["value926",{"$f":"VLOOKUP(A927,LookupValues!A:B,2,FALSE)","v":30}]
["value927",{"$f":"VLOOKUP(A928,LookupValues!A:B,2,FALSE)","v":493}]
["value928",{"$f":"VLOOKUP(A929,LookupValues!A:B,2,FALSE)","v":700}]
["value929",{"$f":"VLOOKUP(A930,LookupValues!A:B,2,FALSE)","v":775}]
["value930",{"$f":"VLOOKUP(A931,LookupValues!A:B,2,FALSE)","v":39}]
["value931",{"$f":"VLOOKUP(A932,LookupValues!A:B,2,FALSE)","v":365}]
["value932",{"$f":"VLOOKUP(A933,LookupValues!A:B,2,FALSE)","v":956}]
["value933",{"$f":"VLOOKUP(A934,LookupValues!A:B,2,FALSE)","v":709}]
["value934",{"$f":"VLOOKUP(A935,LookupValues!A:B,2,FALSE)","v":601}]
["value935",{"$f":"VLOOKUP(A936,LookupValues!A:B,2,FALSE)","v":385}]
["value936",{"$f":"VLOOKUP(A937,LookupValues!A:B,2,FALSE)","v":437}]
["value937",{"$f":"VLOOKUP(A938,LookupValues!A:B,2,FALSE)","v":6}]
["value938",{"$f":"VLOOKUP(A939,LookupValues!A:B,2,FALSE)","v":268}]
["value939",{"$f":"VLOOKUP(A940,LookupValues!A:B,2,FALSE)","v":532}]
["value940",{"$f":"VLOOKUP(A941,LookupValues!A:B,2,FALSE)","v":235}]
["value941",{"$f":"VLOOKUP(A942,LookupValues!A:B,2,FALSE)","v":624}]
["value942",{"$f":"VLOOKUP(A943,LookupValues!A:B,2,FALSE)","v":250}]
["value943",{"$f":"VLOOKUP(A944,LookupValues!A:B,2,FALSE)","v":200}]
["value944",{"$f":"VLOOKUP(A945,LookupValues!A:B,2,FALSE)","v":434}]
["value945",{"$f":"VLOOKUP(A946,LookupValues!A:B,2,FALSE)","v":624}]
["value946",{"$f":"VLOOKUP(A947,LookupValues!A:B,2,FALSE)","v":252}]
["value947",{"$f":"VLOOKUP(A948,LookupValues!A:B,2,FALSE)","v":129}]
["value948",{"$f":"VLOOKUP(A949,LookupValues!A:B,2,FALSE)","v":89}]
["value949",{"$f":"VLOOKUP(A950,LookupValues!A:B,2,FALSE)","v":833}]
["value950",{"$f":"VLOOKUP(A951,LookupValues!A:B,2,FALSE)","v":136}]
["value951",{"$f":"VLOOKUP(A952,LookupValues!A:B,2,FALSE)","v":733}]
["value952",{"$f":"VLOOKUP(A953,LookupValues!A:B,2,FALSE)","v":356}]
["value953",{"$f":"VLOOKUP(A954,LookupValues!A:B,2,FALSE)","v":282}]
["value954",{"$f":"VLOOKUP(A955,LookupValues!A:B,2,FALSE)","v":447}]
["value955",{"$f":"VLOOKUP(A956,LookupValues!A:B,2,FALSE)","v":472}]
["value956",{"$f":"VLOOKUP(A957,LookupValues!A:B,2,FALSE)","v":547}]
["value957",{"$f":"VLOOKUP(A958,LookupValues!A:B,2,FALSE)","v":947}]
["value958",{"$f":"VLOOKUP(A959,LookupValues!A:B,2,FALSE)","v":723}]
["value959",{"$f":"VLOOKUP(A960,LookupValues!A:B,2,FALSE)","v":750}]
["value960",{"$f":"VLOOKUP(A961,LookupValues!A:B,2,FALSE)","v":580}]
["value961",{"$f":"VLOOKUP(A962,LookupValues!A:B,2,FALSE)","v":550}]
["value962",{"$f":"VLOOKUP(A963,LookupValues!A:B,2,FALSE)","v":367}]
["value963",{"$f":"VLOOKUP(A964,LookupValues!A:B,2,FALSE)","v":27}]
["value964",{"$f":"VLOOKUP(A965,LookupValues!A:B,2,FALSE)","v":539}]
["value965",{"$f":"VLOOKUP(A966,LookupValues!A:B,2,FALSE)","v":616}]
["value966",{"$f":"VLOOKUP(A967,LookupValues!A:B,2,FALSE)","v":267}]
["value967",{"$f":"VLOOKUP(A968,LookupValues!A:B,2,FALSE)","v":803}]
["value968",{"$f":"VLOOKUP(A969,LookupValues!A:B,2,FALSE)","v":222}]
["value969",{"$f":"VLOOKUP(A970,LookupValues!A:B,2,FALSE)","v":602}]
["value970",{"$f":"VLOOKUP(A971,LookupValues!A:B,2,FALSE)","v":668}]
["value971",{"$f":"VLOOKUP(A972,LookupValues!A:B,2,FALSE)","v":553}]
["value972",{"$f":"VLOOKUP(A973,LookupValues!A:B,2,FALSE)","v":672}]
["value973",{"$f":"VLOOKUP(A974,LookupValues!A:B,2,FALSE)","v":224}]
["value974",{"$f":"VLOOKUP(A975,LookupValues!A:B,2,FALSE)","v":778}]
["value975",{"$f":"VLOOKUP(A976,LookupValues!A:B,2,FALSE)","v":292}]
["value976",{"$f":"VLOOKUP(A977,LookupValues!A:B,2,FALSE)","v":201}]
["value977",{"$f":"VLOOKUP(A978,LookupValues!A:B,2,FALSE)","v":367}]
["value978",{"$f":"VLOOKUP(A979,LookupValues!A:B,2,FALSE)","v":839}]
["value979",{"$f":"VLOOKUP(A980,LookupValues!A:B,2,FALSE)","v":829}]
["value980",{"$f":"VLOOKUP(A981,LookupValues!A:B,2,FALSE)","v":807}]
["value981",{"$f":"VLOOKUP(A982,LookupValues!A:B,2,FALSE)","v":538}]
["value982",{"$f":"VLOOKUP(A983,LookupValues!A:B,2,FALSE)","v":198}]
["value983",{"$f":"VLOOKUP(A984,LookupValues!A:B,2,FALSE)","v":296}]
["value984",{"$f":"VLOOKUP(A985,LookupValues!A:B,2,FALSE)","v":52}]
["value985",{"$f":"VLOOKUP(A986,LookupValues!A:B,2,FALSE)","v":902}]
["value986",{"$f":"VLOOKUP(A987,LookupValues!A:B,2,FALSE)","v":674}]
["value987",{"$f":"VLOOKUP(A988,LookupValues!A:B,2,FALSE)","v":428}]
["value988",{"$f":"VLOOKUP(A989,LookupValues!A:B,2,FALSE)","v":365}]
["value989",{"$f":"VLOOKUP(A990,LookupValues!A:B,2,FALSE)","v":447}]
["value990",{"$f":"VLOOKUP(A991,LookupValues!A:B,2,FALSE)","v":446}]
["value991",{"$f":"VLOOKUP(A992,LookupValues!A:B,2,FALSE)","v":237}]
["value992",{"$f":"VLOOKUP(A993,LookupValues!A:B,2,FALSE)","v":202}]
["value993",{"$f":"VLOOKUP(A994,LookupValues!A:B,2,FALSE)","v":116}]
["value994",{"$f":"VLOOKUP(A995,LookupValues!A:B,2,FALSE)","v":359}]
["value995",{"$f":"VLOOKUP(A996,LookupValues!A:B,2,FALSE)","v":430}]
["value996",{"$f":"VLOOKUP(A997,LookupValues!A:B,2,FALSE)","v":300}]
["value997",{"$f":"VLOOKUP(A998,LookupValues!A:B,2,FALSE)","v":501}]
["value998",{"$f":"VLOOKUP(A999,LookupValues!A:B,2,FALSE)","v":822}]
["value999",{"$f":"VLOOKUP(A1000,LookupValues!A:B,2,FALSE)","v":628}]
["value1000",{"$f":"VLOOKUP(A1001,LookupValues!A:B,2,FALSE)","v":721}]
["value1001",{"$f":"VLOOKUP(A1002,LookupValues!A:B,2,FALSE)","v":536}]
["value1002",{"$f":"VLOOKUP(A1003,LookupValues!A:B,2,FALSE)","v":86}]
["value1003",{"$f":"VLOOKUP(A1004,LookupValues!A:B,2,FALSE)","v":694}]
["value1004",{"$f":"VLOOKUP(A1005,LookupValues!A:B,2,FALSE)","v":164}]
["value1005",{"$f":"VLOOKUP(A1006,LookupValues!A:B,2,FALSE)","v":107}]
["value1006",{"$f":"VLOOKUP(A1007,LookupValues!A:B,2,FALSE)","v":370}]
["value1007",{"$f":"VLOOKUP(A1008,LookupValues!A:B,2,FALSE)","v":667}]
["value1008",{"$f":"VLOOKUP(A1009,LookupValues!A:B,2,FALSE)","v":495}]
["value1009",{"$f":"VLOOKUP(A1010,LookupValues!A:B,2,FALSE)","v":668}]
["value1010",{"$f":"VLOOKUP(A1011,LookupValues!A:B,2,FALSE)","v":248}]
["value1011",{"$f":"VLOOKUP(A1012,LookupValues!A:B,2,FALSE)","v":587}]
["value1012",{"$f":"VLOOKUP(A1013,LookupValues!A:B,2,FALSE)","v":412}]
["value1013",{"$f":"VLOOKUP(A1014,LookupValues!A:B,2,FALSE)","v":775}]
["value1014",{"$f":"VLOOKUP(A1015,LookupValues!A:B,2,FALSE)","v":629}]
["value1015",{"$f":"VLOOKUP(A1016,LookupValues!A:B,2,FALSE)","v":914}]
["value1016",{"$f":"VLOOKUP(A1017,LookupValues!A:B,2,FALSE)","v":428}]
["value1017",{"$f":"VLOOKUP(A1018,LookupValues!A:B,2,FALSE)","v":151}]
["value1018",{"$f":"VLOOKUP(A1019,LookupValues!A:B,2,FALSE)","v":363}]
["value1019",{"$f":"VLOOKUP(A1020,LookupValues!A:B,2,FALSE)","v":554}]
["value1020",{"$f":"VLOOKUP(A1021,LookupValues!A:B,2,FALSE)","v":597}]
["value1021",{"$f":"VLOOKUP(A1022,LookupValues!A:B,2,FALSE)","v":194}]
["value1022",{"$f":"VLOOKUP(A1023,LookupValues!A:B,2,FALSE)","v":632}]
["value1023",{"$f":"VLOOKUP(A1024,LookupValues!A:B,2,FALSE)","v":762}]
["value1024",{"$f":"VLOOKUP(A1025,LookupValues!A:B,2,FALSE)","v":785}]
["value1025",{"$f":"VLOOKUP(A1026,LookupValues!A:B,2,FALSE)","v":740}]
["value1026",{"$f":"VLOOKUP(A1027,LookupValues!A:B,2,FALSE)","v":70}]
["value1027",{"$f":"VLOOKUP(A1028,LookupValues!A:B,2,FALSE)","v":571}]
["value1028",{"$f":"VLOOKUP(A1029,LookupValues!A:B,2,FALSE)","v":307}]
["value1029",{"$f":"VLOOKUP(A1030,LookupValues!A:B,2,FALSE)","v":158}]
["value1030",{"$f":"VLOOKUP(A1031,LookupValues!A:B,2,FALSE)","v":707}]
["value1031",{"$f":"VLOOKUP(A1032,LookupValues!A:B,2,FALSE)","v":105}]
["value1032",{"$f":"VLOOKUP(A1033,LookupValues!A:B,2,FALSE)","v":588}]
["value1033",{"$f":"VLOOKUP(A1034,LookupValues!A:B,2,FALSE)","v":703}]
["value1034",{"$f":"VLOOKUP(A1035,LookupValues!A:B,2,FALSE)","v":294}]
["value1035",{"$f":"VLOOKUP(A1036,LookupValues!A:B,2,FALSE)","v":741}]
["value1036",{"$f":"VLOOKUP(A1037,LookupValues!A:B,2,FALSE)","v":607}]
["value1037",{"$f":"VLOOKUP(A1038,LookupValues!A:B,2,FALSE)","v":954}]
["value1038",{"$f":"VLOOKUP(A1039,LookupValues!A:B,2,FALSE)","v":873}]
["value1039",{"$f":"VLOOKUP(A1040,LookupValues!A:B,2,FALSE)","v":169}]
["value1040",{"$f":"VLOOKUP(A1041,LookupValues!A:B,2,FALSE)","v":255}]
["value1041",{"$f":"VLOOKUP(A1042,LookupValues!A:B,2,FALSE)","v":377}]
["value1042",{"$f":"VLOOKUP(A1043,LookupValues!A:B,2,FALSE)","v":807}]
["value1043",{"$f":"VLOOKUP(A1044,LookupValues!A:B,2,FALSE)","v":594}]
["value1044",{"$f":"VLOOKUP(A1045,LookupValues!A:B,2,FALSE)","v":772}]
["value1045",{"$f":"VLOOKUP(A1046,LookupValues!A:B,2,FALSE)","v":824}]
["value1046",{"$f":"VLOOKUP(A1047,LookupValues!A:B,2,FALSE)","v":441}]
["value1047",{"$f":"VLOOKUP(A1048,LookupValues!A:B,2,FALSE)","v":763}]
["value1048",{"$f":"VLOOKUP(A1049,LookupValues!A:B,2,FALSE)","v":233}]
["value1049",{"$f":"VLOOKUP(A1050,LookupValues!A:B,2,FALSE)","v":474}]
["value1050",{"$f":"VLOOKUP(A1051,LookupValues!A:B,2,FALSE)","v":690}]
["value1051",{"$f":"VLOOKUP(A1052,LookupValues!A:B,2,FALSE)","v":473}]
["value1052",{"$f":"VLOOKUP(A1053,LookupValues!A:B,2,FALSE)","v":925}]
["value1053",{"$f":"VLOOKUP(A1054,LookupValues!A:B,2,FALSE)","v":387}]
["value1054",{"$f":"VLOOKUP(A1055,LookupValues!A:B,2,FALSE)","v":684}]
["value1055",{"$f":"VLOOKUP(A1056,LookupValues!A:B,2,FALSE)","v":893}]
["value1056",{"$f":"VLOOKUP(A1057,LookupValues!A:B,2,FALSE)","v":272}]
["value1057",{"$f":"VLOOKUP(A1058,LookupValues!A:B,2,FALSE)","v":732}]
["value1058",{"$f":"VLOOKUP(A1059,LookupValues!A:B,2,FALSE)","v":883}]
["value1059",{"$f":"VLOOKUP(A1060,LookupValues!A:B,2,FALSE)","v":411}]
["value1060",{"$f":"VLOOKUP(A1061,LookupValues!A:B,2,FALSE)","v":770}]
["value1061",{"$f":"VLOOKUP(A1062,LookupValues!A:B,2,FALSE)","v":561}]
["value1062",{"$f":"VLOOKUP(A1063,LookupValues!A:B,2,FALSE)","v":382}]
["value1063",{"$f":"VLOOKUP(A1064,LookupValues!A:B,2,FALSE)","v":208}]
["value1064",{"$f":"VLOOKUP(A1065,LookupValues!A:B,2,FALSE)","v":713}]
["value1065",{"$f":"VLOOKUP(A1066,LookupValues!A:B,2,FALSE)","v":116}]
["value1066",{"$f":"VLOOKUP(A1067,LookupValues!A:B,2,FALSE)","v":395}]
["value1067",{"$f":"VLOOKUP(A1068,LookupValues!A:B,2,FALSE)","v":518}]
["value1068",{"$f":"VLOOKUP(A1069,LookupValues!A:B,2,FALSE)","v":966}]
["value1069",{"$f":"VLOOKUP(A1070,LookupValues!A:B,2,FALSE)","v":763}]
["value1070",{"$f":"VLOOKUP(A1071,LookupValues!A:B,2,FALSE)","v":193}]
["value1071",{"$f":"VLOOKUP(A1072,LookupValues!A:B,2,FALSE)","v":142}]
["value1072",{"$f":"VLOOKUP(A1073,LookupValues!A:B,2,FALSE)","v":527}]
["value1073",{"$f":"VLOOKUP(A1074,LookupValues!A:B,2,FALSE)","v":397}]
["value1074",{"$f":"VLOOKUP(A1075,LookupValues!A:B,2,FALSE)","v":473}]
["value1075",{"$f":"VLOOKUP(A1076,LookupValues!A:B,2,FALSE)","v":329}]
["value1076",{"$f":"VLOOKUP(A1077,LookupValues!A:B,2,FALSE)","v":728}]
["value1077",{"$f":"VLOOKUP(A1078,LookupValues!A:B,2,FALSE)","v":817}]
["value1078",{"$f":"VLOOKUP(A1079,LookupValues!A:B,2,FALSE)","v":347}]
["value1079",{"$f":"VLOOKUP(A1080,LookupValues!A:B,2,FALSE)","v":184}]
["value1080",{"$f":"VLOOKUP(A1081,LookupValues!A:B,2,FALSE)","v":441}]
["value1081",{"$f":"VLOOKUP(A1082,LookupValues!A:B,2,FALSE)","v":45}]
["value1082",{"$f":"VLOOKUP(A1083,LookupValues!A:B,2,FALSE)","v":833}]
["value1083",{"$f":"VLOOKUP(A1084,LookupValues!A:B,2,FALSE)","v":167}]
["value1084",{"$f":"VLOOKUP(A1085,LookupValues!A:B,2,FALSE)","v":454}]
["value1085",{"$f":"VLOOKUP(A1086,LookupValues!A:B,2,FALSE)","v":54}]
["value1086",{"$f":"VLOOKUP(A1087,LookupValues!A:B,2,FALSE)","v":220}]
["value1087",{"$f":"VLOOKUP(A1088,LookupValues!A:B,2,FALSE)","v":241}]
["value1088",{"$f":"VLOOKUP(A1089,LookupValues!A:B,2,FALSE)","v":528}]
["value1089",{"$f":"VLOOKUP(A1090,LookupValues!A:B,2,FALSE)","v":481}]
["value1090",{"$f":"VLOOKUP(A1091,LookupValues!A:B,2,FALSE)","v":907}]
["value1091",{"$f":"VLOOKUP(A1092,LookupValues!A:B,2,FALSE)","v":529}]
["value1092",{"$f":"VLOOKUP(A1093,LookupValues!A:B,2,FALSE)","v":729}]
["value1093",{"$f":"VLOOKUP(A1094,LookupValues!A:B,2,FALSE)","v":101}]
["value1094",{"$f":"VLOOKUP(A1095,LookupValues!A:B,2,FALSE)","v":983}]
["value1095",{"$f":"VLOOKUP(A1096,LookupValues!A:B,2,FALSE)","v":302}]
["value1096",{"$f":"VLOOKUP(A1097,LookupValues!A:B,2,FALSE)","v":365}]
["value1097",{"$f":"VLOOKUP(A1098,LookupValues!A:B,2,FALSE)","v":23}]
["value1098",{"$f":"VLOOKUP(A1099,LookupValues!A:B,2,FALSE)","v":602}]
["value1099",{"$f":"VLOOKUP(A1100,LookupValues!A:B,2,FALSE)","v":380}]
["value1100",{"$f":"VLOOKUP(A1101,LookupValues!A:B,2,FALSE)","v":722}]
["value1101",{"$f":"VLOOKUP(A1102,LookupValues!A:B,2,FALSE)","v":370}]
["value1102",{"$f":"VLOOKUP(A1103,LookupValues!A:B,2,FALSE)","v":385}]
["value1103",{"$f":"VLOOKUP(A1104,LookupValues!A:B,2,FALSE)","v":361}]
["value1104",{"$f":"VLOOKUP(A1105,LookupValues!A:B,2,FALSE)","v":828}]
["value1105",{"$f":"VLOOKUP(A1106,LookupValues!A:B,2,FALSE)","v":701}]
["value1106",{"$f":"VLOOKUP(A1107,LookupValues!A:B,2,FALSE)","v":747}]
["value1107",{"$f":"VLOOKUP(A1108,LookupValues!A:B,2,FALSE)","v":209}]
["value1108",{"$f":"VLOOKUP(A1109,LookupValues!A:B,2,FALSE)","v":852}]
["value1109",{"$f":"VLOOKUP(A1110,LookupValues!A:B,2,FALSE)","v":622}]
["value1110",{"$f":"VLOOKUP(A1111,LookupValues!A:B,2,FALSE)","v":952}]
["value1111",{"$f":"VLOOKUP(A1112,LookupValues!A:B,2,FALSE)","v":748}]
["value1112",{"$f":"VLOOKUP(A1113,LookupValues!A:B,2,FALSE)","v":182}]
["value1113",{"$f":"VLOOKUP(A1114,LookupValues!A:B,2,FALSE)","v":379}]
["value1114",{"$f":"VLOOKUP(A1115,LookupValues!A:B,2,FALSE)","v":648}]
["value1115",{"$f":"VLOOKUP(A1116,LookupValues!A:B,2,FALSE)","v":711}]
["value1116",{"$f":"VLOOKUP(A1117,LookupValues!A:B,2,FALSE)","v":808}]
["value1117",{"$f":"VLOOKUP(A1118,LookupValues!A:B,2,FALSE)","v":270}]
["value1118",{"$f":"VLOOKUP(A1119,LookupValues!A:B,2,FALSE)","v":524}]
["value1119",{"$f":"VLOOKUP(A1120,LookupValues!A:B,2,FALSE)","v":868}]
["value1120",{"$f":"VLOOKUP(A1121,LookupValues!A:B,2,FALSE)","v":743}]
["value1121",{"$f":"VLOOKUP(A1122,LookupValues!A:B,2,FALSE)","v":881}]
["value1122",{"$f":"VLOOKUP(A1123,LookupValues!A:B,2,FALSE)","v":807}]
["value1123",{"$f":"VLOOKUP(A1124,LookupValues!A:B,2,FALSE)","v":98}]
["value1124",{"$f":"VLOOKUP(A1125,LookupValues!A:B,2,FALSE)","v":437}]
["value1125",{"$f":"VLOOKUP(A1126,LookupValues!A:B,2,FALSE)","v":474}]
["value1126",{"$f":"VLOOKUP(A1127,LookupValues!A:B,2,FALSE)","v":301}]
["value1127",{"$f":"VLOOKUP(A1128,LookupValues!A:B,2,FALSE)","v":564}]
["value1128",{"$f":"VLOOKUP(A1129,LookupValues!A:B,2,FALSE)","v":278}]
["value1129",{"$f":"VLOOKUP(A1130,LookupValues!A:B,2,FALSE)","v":514}]
["value1130",{"$f":"VLOOKUP(A1131,LookupValues!A:B,2,FALSE)","v":883}]
["value1131",{"$f":"VLOOKUP(A1132,LookupValues!A:B,2,FALSE)","v":319}]
["value1132",{"$f":"VLOOKUP(A1133,LookupValues!A:B,2,FALSE)","v":643}]
["value1133",{"$f":"VLOOKUP(A1134,LookupValues!A:B,2,FALSE)","v":466}]
["value1134",{"$f":"VLOOKUP(A1135,LookupValues!A:B,2,FALSE)","v":828}]
["value1135",{"$f":"VLOOKUP(A1136,LookupValues!A:B,2,FALSE)","v":21}]
["value1136",{"$f":"VLOOKUP(A1137,LookupValues!A:B,2,FALSE)","v":665}]
["value1137",{"$f":"VLOOKUP(A1138,LookupValues!A:B,2,FALSE)","v":510}]
["value1138",{"$f":"VLOOKUP(A1139,LookupValues!A:B,2,FALSE)","v":833}]
["value1139",{"$f":"VLOOKUP(A1140,LookupValues!A:B,2,FALSE)","v":99}]
["value1140",{"$f":"VLOOKUP(A1141,LookupValues!A:B,2,FALSE)","v":631}]
["value1141",{"$f":"VLOOKUP(A1142,LookupValues!A:B,2,FALSE)","v":260}]
["value1142",{"$f":"VLOOKUP(A1143,LookupValues!A:B,2,FALSE)","v":564}]
["value1143",{"$f":"VLOOKUP(A1144,LookupValues!A:B,2,FALSE)","v":95}]
["value1144",{"$f":"VLOOKUP(A1145,LookupValues!A:B,2,FALSE)","v":768}]
["value1145",{"$f":"VLOOKUP(A1146,LookupValues!A:B,2,FALSE)","v":670}]
["value1146",{"$f":"VLOOKUP(A1147,LookupValues!A:B,2,FALSE)","v":97}]
["value1147",{"$f":"VLOOKUP(A1148,LookupValues!A:B,2,FALSE)","v":359}]
["value1148",{"$f":"VLOOKUP(A1149,LookupValues!A:B,2,FALSE)","v":483}]
["value1149",{"$f":"VLOOKUP(A1150,LookupValues!A:B,2,FALSE)","v":217}]
["value1150",{"$f":"VLOOKUP(A1151,LookupValues!A:B,2,FALSE)","v":353}]
["value1151",{"$f":"VLOOKUP(A1152,LookupValues!A:B,2,FALSE)","v":120}]
["value1152",{"$f":"VLOOKUP(A1153,LookupValues!A:B,2,FALSE)","v":666}]
["value1153",{"$f":"VLOOKUP(A1154,LookupValues!A:B,2,FALSE)","v":727}]
["value1154",{"$f":"VLOOKUP(A1155,LookupValues!A:B,2,FALSE)","v":576}]
["value1155",{"$f":"VLOOKUP(A1156,LookupValues!A:B,2,FALSE)","v":115}]
["value1156",{"$f":"VLOOKUP(A1157,LookupValues!A:B,2,FALSE)","v":856}]
["value1157",{"$f":"VLOOKUP(A1158,LookupValues!A:B,2,FALSE)","v":68}]
["value1158",{"$f":"VLOOKUP(A1159,LookupValues!A:B,2,FALSE)","v":369}]
["value1159",{"$f":"VLOOKUP(A1160,LookupValues!A:B,2,FALSE)","v":379}]
["value1160",{"$f":"VLOOKUP(A1161,LookupValues!A:B,2,FALSE)","v":507}]
["value1161",{"$f":"VLOOKUP(A1162,LookupValues!A:B,2,FALSE)","v":111}]
["value1162",{"$f":"VLOOKUP(A1163,LookupValues!A:B,2,FALSE)","v":226}]
["value1163",{"$f":"VLOOKUP(A1164,LookupValues!A:B,2,FALSE)","v":2}]
["value1164",{"$f":"VLOOKUP(A1165,LookupValues!A:B,2,FALSE)","v":962}]
["value1165",{"$f":"VLOOKUP(A1166,LookupValues!A:B,2,FALSE)","v":415}]
["value1166",{"$f":"VLOOKUP(A1167,LookupValues!A:B,2,FALSE)","v":194}]
["value1167",{"$f":"VLOOKUP(A1168,LookupValues!A:B,2,FALSE)","v":474}]
["value1168",{"$f":"VLOOKUP(A1169,LookupValues!A:B,2,FALSE)","v":6}]
["value1169",{"$f":"VLOOKUP(A1170,LookupValues!A:B,2,FALSE)","v":772}]
["value1170",{"$f":"VLOOKUP(A1171,LookupValues!A:B,2,FALSE)","v":97}]
["value1171",{"$f":"VLOOKUP(A1172,LookupValues!A:B,2,FALSE)","v":521}]
["value1172",{"$f":"VLOOKUP(A1173,LookupValues!A:B,2,FALSE)","v":73}]
["value1173",{"$f":"VLOOKUP(A1174,LookupValues!A:B,2,FALSE)","v":619}]
["value1174",{"$f":"VLOOKUP(A1175,LookupValues!A:B,2,FALSE)","v":791}]
["value1175",{"$f":"VLOOKUP(A1176,LookupValues!A:B,2,FALSE)","v":375}]
["value1176",{"$f":"VLOOKUP(A1177,LookupValues!A:B,2,FALSE)","v":286}]
["value1177",{"$f":"VLOOKUP(A1178,LookupValues!A:B,2,FALSE)","v":377}]
["value1178",{"$f":"VLOOKUP(A1179,LookupValues!A:B,2,FALSE)","v":211}]
["value1179",{"$f":"VLOOKUP(A1180,LookupValues!A:B,2,FALSE)","v":674}]
["value1180",{"$f":"VLOOKUP(A1181,LookupValues!A:B,2,FALSE)","v":517}]
["value1181",{"$f":"VLOOKUP(A1182,LookupValues!A:B,2,FALSE)","v":593}]
["value1182",{"$f":"VLOOKUP(A1183,LookupValues!A:B,2,FALSE)","v":195}]
["value1183",{"$f":"VLOOKUP(A1184,LookupValues!A:B,2,FALSE)","v":253}]
["value1184",{"$f":"VLOOKUP(A1185,LookupValues!A:B,2,FALSE)","v":199}]
["value1185",{"$f":"VLOOKUP(A1186,LookupValues!A:B,2,FALSE)","v":637}]
["value1186",{"$f":"VLOOKUP(A1187,LookupValues!A:B,2,FALSE)","v":616}]
["value1187",{"$f":"VLOOKUP(A1188,LookupValues!A:B,2,FALSE)","v":352}]
["value1188",{"$f":"VLOOKUP(A1189,LookupValues!A:B,2,FALSE)","v":627}]
["value1189",{"$f":"VLOOKUP(A1190,LookupValues!A:B,2,FALSE)","v":523}]
["value1190",{"$f":"VLOOKUP(A1191,LookupValues!A:B,2,FALSE)","v":933}]
["value1191",{"$f":"VLOOKUP(A1192,LookupValues!A:B,2,FALSE)","v":264}]
["value1192",{"$f":"VLOOKUP(A1193,LookupValues!A:B,2,FALSE)","v":959}]
["value1193",{"$f":"VLOOKUP(A1194,LookupValues!A:B,2,FALSE)","v":592}]
["value1194",{"$f":"VLOOKUP(A1195,LookupValues!A:B,2,FALSE)","v":87}]
["value1195",{"$f":"VLOOKUP(A1196,LookupValues!A:B,2,FALSE)","v":823}]
["value1196",{"$f":"VLOOKUP(A1197,LookupValues!A:B,2,FALSE)","v":531}]
["value1197",{"$f":"VLOOKUP(A1198,LookupValues!A:B,2,FALSE)","v":589}]
["value1198",{"$f":"VLOOKUP(A1199,LookupValues!A:B,2,FALSE)","v":603}]
["value1199",{"$f":"VLOOKUP(A1200,LookupValues!A:B,2,FALSE)","v":463}]
["value1200",{"$f":"VLOOKUP(A1201,LookupValues!A:B,2,FALSE)","v":573}]
["value1201",{"$f":"VLOOKUP(A1202,LookupValues!A:B,2,FALSE)","v":855}]
["value1202",{"$f":"VLOOKUP(A1203,LookupValues!A:B,2,FALSE)","v":860}]
["value1203",{"$f":"VLOOKUP(A1204,LookupValues!A:B,2,FALSE)","v":64}]
["value1204",{"$f":"VLOOKUP(A1205,LookupValues!A:B,2,FALSE)","v":854}]
["value1205",{"$f":"VLOOKUP(A1206,LookupValues!A:B,2,FALSE)","v":590}]
["value1206",{"$f":"VLOOKUP(A1207,LookupValues!A:B,2,FALSE)","v":205}]
["value1207",{"$f":"VLOOKUP(A1208,LookupValues!A:B,2,FALSE)","v":151}]
["value1208",{"$f":"VLOOKUP(A1209,LookupValues!A:B,2,FALSE)","v":181}]
["value1209",{"$f":"VLOOKUP(A1210,LookupValues!A:B,2,FALSE)","v":710}]
["value1210",{"$f":"VLOOKUP(A1211,LookupValues!A:B,2,FALSE)","v":279}]
["value1211",{"$f":"VLOOKUP(A1212,LookupValues!A:B,2,FALSE)","v":52}]
["value1212",{"$f":"VLOOKUP(A1213,LookupValues!A:B,2,FALSE)","v":747}]
["value1213",{"$f":"VLOOKUP(A1214,LookupValues!A:B,2,FALSE)","v":255}]
["value1214",{"$f":"VLOOKUP(A1215,LookupValues!A:B,2,FALSE)","v":266}]
["value1215",{"$f":"VLOOKUP(A1216,LookupValues!A:B,2,FALSE)","v":69}]
["value1216",{"$f":"VLOOKUP(A1217,LookupValues!A:B,2,FALSE)","v":61}]
["value1217",{"$f":"VLOOKUP(A1218,LookupValues!A:B,2,FALSE)","v":275}]
["value1218",{"$f":"VLOOKUP(A1219,LookupValues!A:B,2,FALSE)","v":116}]
["value1219",{"$f":"VLOOKUP(A1220,LookupValues!A:B,2,FALSE)","v":985}]
["value1220",{"$f":"VLOOKUP(A1221,LookupValues!A:B,2,FALSE)","v":957}]
["value1221",{"$f":"VLOOKUP(A1222,LookupValues!A:B,2,FALSE)","v":234}]
["value1222",{"$f":"VLOOKUP(A1223,LookupValues!A:B,2,FALSE)","v":258}]
["value1223",{"$f":"VLOOKUP(A1224,LookupValues!A:B,2,FALSE)","v":251}]
["value1224",{"$f":"VLOOKUP(A1225,LookupValues!A:B,2,FALSE)","v":356}]
["value1225",{"$f":"VLOOKUP(A1226,LookupValues!A:B,2,FALSE)","v":438}]
["value1226",{"$f":"VLOOKUP(A1227,LookupValues!A:B,2,FALSE)","v":195}]
["value1227",{"$f":"VLOOKUP(A1228,LookupValues!A:B,2,FALSE)","v":916}]
["value1228",{"$f":"VLOOKUP(A1229,LookupValues!A:B,2,FALSE)","v":701}]
["value1229",{"$f":"VLOOKUP(A1230,LookupValues!A:B,2,FALSE)","v":841}]
["value1230",{"$f":"VLOOKUP(A1231,LookupValues!A:B,2,FALSE)","v":760}]
["value1231",{"$f":"VLOOKUP(A1232,LookupValues!A:B,2,FALSE)","v":48}]
["value1232",{"$f":"VLOOKUP(A1233,LookupValues!A:B,2,FALSE)","v":888}]
["value1233",{"$f":"VLOOKUP(A1234,LookupValues!A:B,2,FALSE)","v":160}]
["value1234",{"$f":"VLOOKUP(A1235,LookupValues!A:B,2,FALSE)","v":65}]
["value1235",{"$f":"VLOOKUP(A1236,LookupValues!A:B,2,FALSE)","v":259}]
["value1236",{"$f":"VLOOKUP(A1237,LookupValues!A:B,2,FALSE)","v":420}]
["value1237",{"$f":"VLOOKUP(A1238,LookupValues!A:B,2,FALSE)","v":208}]
["value1238",{"$f":"VLOOKUP(A1239,LookupValues!A:B,2,FALSE)","v":449}]
["value1239",{"$f":"VLOOKUP(A1240,LookupValues!A:B,2,FALSE)","v":946}]
["value1240",{"$f":"VLOOKUP(A1241,LookupValues!A:B,2,FALSE)","v":811}]
["value1241",{"$f":"VLOOKUP(A1242,LookupValues!A:B,2,FALSE)","v":225}]
["value1242",{"$f":"VLOOKUP(A1243,LookupValues!A:B,2,FALSE)","v":185}]
["value1243",{"$f":"VLOOKUP(A1244,LookupValues!A:B,2,FALSE)","v":168}]
["value1244",{"$f":"VLOOKUP(A1245,LookupValues!A:B,2,FALSE)","v":616}]
["value1245",{"$f":"VLOOKUP(A1246,LookupValues!A:B,2,FALSE)","v":55}]
["value1246",{"$f":"VLOOKUP(A1247,LookupValues!A:B,2,FALSE)","v":414}]
["value1247",{"$f":"VLOOKUP(A1248,LookupValues!A:B,2,FALSE)","v":320}]
["value1248",{"$f":"VLOOKUP(A1249,LookupValues!A:B,2,FALSE)","v":72}]
["value1249",{"$f":"VLOOKUP(A1250,LookupValues!A:B,2,FALSE)","v":146}]
["value1250",{"$f":"VLOOKUP(A1251,LookupValues!A:B,2,FALSE)","v":561}]
["value1251",{"$f":"VLOOKUP(A1252,LookupValues!A:B,2,FALSE)","v":983}]
["value1252",{"$f":"VLOOKUP(A1253,LookupValues!A:B,2,FALSE)","v":265}]
["value1253",{"$f":"VLOOKUP(A1254,LookupValues!A:B,2,FALSE)","v":981}]
["value1254",{"$f":"VLOOKUP(A1255,LookupValues!A:B,2,FALSE)","v":161}]
["value1255",{"$f":"VLOOKUP(A1256,LookupValues!A:B,2,FALSE)","v":375}]
["value1256",{"$f":"VLOOKUP(A1257,LookupValues!A:B,2,FALSE)","v":841}]
["value1257",{"$f":"VLOOKUP(A1258,LookupValues!A:B,2,FALSE)","v":792}]
["value1258",{"$f":"VLOOKUP(A1259,LookupValues!A:B,2,FALSE)","v":580}]
["value1259",{"$f":"VLOOKUP(A1260,LookupValues!A:B,2,FALSE)","v":571}]
["value1260",{"$f":"VLOOKUP(A1261,LookupValues!A:B,2,FALSE)","v":603}]
["value1261",{"$f":"VLOOKUP(A1262,LookupValues!A:B,2,FALSE)","v":294}]
["value1262",{"$f":"VLOOKUP(A1263,LookupValues!A:B,2,FALSE)","v":457}]
["value1263",{"$f":"VLOOKUP(A1264,LookupValues!A:B,2,FALSE)","v":580}]
["value1264",{"$f":"VLOOKUP(A1265,LookupValues!A:B,2,FALSE)","v":486}]
["value1265",{"$f":"VLOOKUP(A1266,LookupValues!A:B,2,FALSE)","v":506}]
["value1266",{"$f":"VLOOKUP(A1267,LookupValues!A:B,2,FALSE)","v":474}]
["value1267",{"$f":"VLOOKUP(A1268,LookupValues!A:B,2,FALSE)","v":68}]
["value1268",{"$f":"VLOOKUP(A1269,LookupValues!A:B,2,FALSE)","v":806}]
["value1269",{"$f":"VLOOKUP(A1270,LookupValues!A:B,2,FALSE)","v":113}]
["value1270",{"$f":"VLOOKUP(A1271,LookupValues!A:B,2,FALSE)","v":554}]
["value1271",{"$f":"VLOOKUP(A1272,LookupValues!A:B,2,FALSE)","v":664}]
["value1272",{"$f":"VLOOKUP(A1273,LookupValues!A:B,2,FALSE)","v":374}]
["value1273",{"$f":"VLOOKUP(A1274,LookupValues!A:B,2,FALSE)","v":891}]
["value1274",{"$f":"VLOOKUP(A1275,LookupValues!A:B,2,FALSE)","v":836}]
["value1275",{"$f":"VLOOKUP(A1276,LookupValues!A:B,2,FALSE)","v":473}]
["value1276",{"$f":"VLOOKUP(A1277,LookupValues!A:B,2,FALSE)","v":182}]
["value1277",{"$f":"VLOOKUP(A1278,LookupValues!A:B,2,FALSE)","v":484}]
["value1278",{"$f":"VLOOKUP(A1279,LookupValues!A:B,2,FALSE)","v":168}]
["value1279",{"$f":"VLOOKUP(A1280,LookupValues!A:B,2,FALSE)","v":81}]
["value1280",{"$f":"VLOOKUP(A1281,LookupValues!A:B,2,FALSE)","v":635}]
["value1281",{"$f":"VLOOKUP(A1282,LookupValues!A:B,2,FALSE)","v":427}]
["value1282",{"$f":"VLOOKUP(A1283,LookupValues!A:B,2,FALSE)","v":134}]
["value1283",{"$f":"VLOOKUP(A1284,LookupValues!A:B,2,FALSE)","v":776}]
["value1284",{"$f":"VLOOKUP(A1285,LookupValues!A:B,2,FALSE)","v":809}]
["value1285",{"$f":"VLOOKUP(A1286,LookupValues!A:B,2,FALSE)","v":424}]
["value1286",{"$f":"VLOOKUP(A1287,LookupValues!A:B,2,FALSE)","v":804}]
["value1287",{"$f":"VLOOKUP(A1288,LookupValues!A:B,2,FALSE)","v":628}]
["value1288",{"$f":"VLOOKUP(A1289,LookupValues!A:B,2,FALSE)","v":209}]
["value1289",{"$f":"VLOOKUP(A1290,LookupValues!A:B,2,FALSE)","v":984}]
["value1290",{"$f":"VLOOKUP(A1291,LookupValues!A:B,2,FALSE)","v":233}]
["value1291",{"$f":"VLOOKUP(A1292,LookupValues!A:B,2,FALSE)","v":693}]
["value1292",{"$f":"VLOOKUP(A1293,LookupValues!A:B,2,FALSE)","v":917}]
["value1293",{"$f":"VLOOKUP(A1294,LookupValues!A:B,2,FALSE)","v":68}]
["value1294",{"$f":"VLOOKUP(A1295,LookupValues!A:B,2,FALSE)","v":371}]
["value1295",{"$f":"VLOOKUP(A1296,LookupValues!A:B,2,FALSE)","v":182}]
["value1296",{"$f":"VLOOKUP(A1297,LookupValues!A:B,2,FALSE)","v":853}]
["value1297",{"$f":"VLOOKUP(A1298,LookupValues!A:B,2,FALSE)","v":384}]
["value1298",{"$f":"VLOOKUP(A1299,LookupValues!A:B,2,FALSE)","v":159}]
["value1299",{"$f":"VLOOKUP(A1300,LookupValues!A:B,2,FALSE)","v":41}]
["value1300",{"$f":"VLOOKUP(A1301,LookupValues!A:B,2,FALSE)","v":317}]
["value1301",{"$f":"VLOOKUP(A1302,LookupValues!A:B,2,FALSE)","v":347}]
["value1302",{"$f":"VLOOKUP(A1303,LookupValues!A:B,2,FALSE)","v":285}]
["value1303",{"$f":"VLOOKUP(A1304,LookupValues!A:B,2,FALSE)","v":845}]
["value1304",{"$f":"VLOOKUP(A1305,LookupValues!A:B,2,FALSE)","v":671}]
["value1305",{"$f":"VLOOKUP(A1306,LookupValues!A:B,2,FALSE)","v":671}]
["value1306",{"$f":"VLOOKUP(A1307,LookupValues!A:B,2,FALSE)","v":57}]
["value1307",{"$f":"VLOOKUP(A1308,LookupValues!A:B,2,FALSE)","v":552}]
["value1308",{"$f":"VLOOKUP(A1309,LookupValues!A:B,2,FALSE)","v":661}]
["value1309",{"$f":"VLOOKUP(A1310,LookupValues!A:B,2,FALSE)","v":76}]
["value1310",{"$f":"VLOOKUP(A1311,LookupValues!A:B,2,FALSE)","v":160}]
["value1311",{"$f":"VLOOKUP(A1312,LookupValues!A:B,2,FALSE)","v":414}]
["value1312",{"$f":"VLOOKUP(A1313,LookupValues!A:B,2,FALSE)","v":97}]
["value1313",{"$f":"VLOOKUP(A1314,LookupValues!A:B,2,FALSE)","v":299}]
["value1314",{"$f":"VLOOKUP(A1315,LookupValues!A:B,2,FALSE)","v":532}]
["value1315",{"$f":"VLOOKUP(A1316,LookupValues!A:B,2,FALSE)","v":553}]
["value1316",{"$f":"VLOOKUP(A1317,LookupValues!A:B,2,FALSE)","v":301}]
["value1317",{"$f":"VLOOKUP(A1318,LookupValues!A:B,2,FALSE)","v":509}]
["value1318",{"$f":"VLOOKUP(A1319,LookupValues!A:B,2,FALSE)","v":892}]
["value1319",{"$f":"VLOOKUP(A1320,LookupValues!A:B,2,FALSE)","v":780}]
["value1320",{"$f":"VLOOKUP(A1321,LookupValues!A:B,2,FALSE)","v":766}]
["value1321",{"$f":"VLOOKUP(A1322,LookupValues!A:B,2,FALSE)","v":173}]
["value1322",{"$f":"VLOOKUP(A1323,LookupValues!A:B,2,FALSE)","v":487}]
["value1323",{"$f":"VLOOKUP(A1324,LookupValues!A:B,2,FALSE)","v":445}]
["value1324",{"$f":"VLOOKUP(A1325,LookupValues!A:B,2,FALSE)","v":96}]
["value1325",{"$f":"VLOOKUP(A1326,LookupValues!A:B,2,FALSE)","v":109}]
["value1326",{"$f":"VLOOKUP(A1327,LookupValues!A:B,2,FALSE)","v":84}]
["value1327",{"$f":"VLOOKUP(A1328,LookupValues!A:B,2,FALSE)","v":436}]
["value1328",{"$f":"VLOOKUP(A1329,LookupValues!A:B,2,FALSE)","v":455}]
["value1329",{"$f":"VLOOKUP(A1330,LookupValues!A:B,2,FALSE)","v":581}]
["value1330",{"$f":"VLOOKUP(A1331,LookupValues!A:B,2,FALSE)","v":513}]
["value1331",{"$f":"VLOOKUP(A1332,LookupValues!A:B,2,FALSE)","v":563}]
["value1332",{"$f":"VLOOKUP(A1333,LookupValues!A:B,2,FALSE)","v":827}]
["value1333",{"$f":"VLOOKUP(A1334,LookupValues!A:B,2,FALSE)","v":762}]
["value1334",{"$f":"VLOOKUP(A1335,LookupValues!A:B,2,FALSE)","v":527}]
["value1335",{"$f":"VLOOKUP(A1336,LookupValues!A:B,2,FALSE)","v":615}]
["value1336",{"$f":"VLOOKUP(A1337,LookupValues!A:B,2,FALSE)","v":209}]
["value1337",{"$f":"VLOOKUP(A1338,LookupValues!A:B,2,FALSE)","v":439}]
["value1338",{"$f":"VLOOKUP(A1339,LookupValues!A:B,2,FALSE)","v":66}]
["value1339",{"$f":"VLOOKUP(A1340,LookupValues!A:B,2,FALSE)","v":845}]
["value1340",{"$f":"VLOOKUP(A1341,LookupValues!A:B,2,FALSE)","v":157}]
["value1341",{"$f":"VLOOKUP(A1342,LookupValues!A:B,2,FALSE)","v":618}]
["value1342",{"$f":"VLOOKUP(A1343,LookupValues!A:B,2,FALSE)","v":330}]
["value1343",{"$f":"VLOOKUP(A1344,LookupValues!A:B,2,FALSE)","v":118}]
["value1344",{"$f":"VLOOKUP(A1345,LookupValues!A:B,2,FALSE)","v":900}]
["value1345",{"$f":"VLOOKUP(A1346,LookupValues!A:B,2,FALSE)","v":607}]
["value1346",{"$f":"VLOOKUP(A1347,LookupValues!A:B,2,FALSE)","v":468}]
["value1347",{"$f":"VLOOKUP(A1348,LookupValues!A:B,2,FALSE)","v":418}]
["value1348",{"$f":"VLOOKUP(A1349,LookupValues!A:B,2,FALSE)","v":908}]
["value1349",{"$f":"VLOOKUP(A1350,LookupValues!A:B,2,FALSE)","v":192}]
["value1350",{"$f":"VLOOKUP(A1351,LookupValues!A:B,2,FALSE)","v":946}]
["value1351",{"$f":"VLOOKUP(A1352,LookupValues!A:B,2,FALSE)","v":57}]
["value1352",{"$f":"VLOOKUP(A1353,LookupValues!A:B,2,FALSE)","v":830}]
["value1353",{"$f":"VLOOKUP(A1354,LookupValues!A:B,2,FALSE)","v":335}]
["value1354",{"$f":"VLOOKUP(A1355,LookupValues!A:B,2,FALSE)","v":485}]
["value1355",{"$f":"VLOOKUP(A1356,LookupValues!A:B,2,FALSE)","v":9}]
["value1356",{"$f":"VLOOKUP(A1357,LookupValues!A:B,2,FALSE)","v":108}]
["value1357",{"$f":"VLOOKUP(A1358,LookupValues!A:B,2,FALSE)","v":798}]
["value1358",{"$f":"VLOOKUP(A1359,LookupValues!A:B,2,FALSE)","v":351}]
["value1359",{"$f":"VLOOKUP(A1360,LookupValues!A:B,2,FALSE)","v":100}]
["value1360",{"$f":"VLOOKUP(A1361,LookupValues!A:B,2,FALSE)","v":612}]
["value1361",{"$f":"VLOOKUP(A1362,LookupValues!A:B,2,FALSE)","v":662}]
["value1362",{"$f":"VLOOKUP(A1363,LookupValues!A:B,2,FALSE)","v":769}]
["value1363",{"$f":"VLOOKUP(A1364,LookupValues!A:B,2,FALSE)","v":323}]
["value1364",{"$f":"VLOOKUP(A1365,LookupValues!A:B,2,FALSE)","v":324}]
["value1365",{"$f":"VLOOKUP(A1366,LookupValues!A:B,2,FALSE)","v":294}]
["value1366",{"$f":"VLOOKUP(A1367,LookupValues!A:B,2,FALSE)","v":871}]
["value1367",{"$f":"VLOOKUP(A1368,LookupValues!A:B,2,FALSE)","v":316}]
["value1368",{"$f":"VLOOKUP(A1369,LookupValues!A:B,2,FALSE)","v":484}]
["value1369",{"$f":"VLOOKUP(A1370,LookupValues!A:B,2,FALSE)","v":983}]
["value1370",{"$f":"VLOOKUP(A1371,LookupValues!A:B,2,FALSE)","v":211}]
["value1371",{"$f":"VLOOKUP(A1372,LookupValues!A:B,2,FALSE)","v":582}]
["value1372",{"$f":"VLOOKUP(A1373,LookupValues!A:B,2,FALSE)","v":540}]
["value1373",{"$f":"VLOOKUP(A1374,LookupValues!A:B,2,FALSE)","v":541}]
["value1374",{"$f":"VLOOKUP(A1375,LookupValues!A:B,2,FALSE)","v":248}]
["value1375",{"$f":"VLOOKUP(A1376,LookupValues!A:B,2,FALSE)","v":929}]
["value1376",{"$f":"VLOOKUP(A1377,LookupValues!A:B,2,FALSE)","v":809}]
["value1377",{"$f":"VLOOKUP(A1378,LookupValues!A:B,2,FALSE)","v":225}]
["value1378",{"$f":"VLOOKUP(A1379,LookupValues!A:B,2,FALSE)","v":794}]
["value1379",{"$f":"VLOOKUP(A1380,LookupValues!A:B,2,FALSE)","v":804}]
["value1380",{"$f":"VLOOKUP(A1381,LookupValues!A:B,2,FALSE)","v":774}]
["value1381",{"$f":"VLOOKUP(A1382,LookupValues!A:B,2,FALSE)","v":139}]
["value1382",{"$f":"VLOOKUP(A1383,LookupValues!A:B,2,FALSE)","v":297}]
["value1383",{"$f":"VLOOKUP(A1384,LookupValues!A:B,2,FALSE)","v":413}]
["value1384",{"$f":"VLOOKUP(A1385,LookupValues!A:B,2,FALSE)","v":336}]
["value1385",{"$f":"VLOOKUP(A1386,LookupValues!A:B,2,FALSE)","v":112}]
["value1386",{"$f":"VLOOKUP(A1387,LookupValues!A:B,2,FALSE)","v":147}]
["value1387",{"$f":"VLOOKUP(A1388,LookupValues!A:B,2,FALSE)","v":412}]
["value1388",{"$f":"VLOOKUP(A1389,LookupValues!A:B,2,FALSE)","v":775}]
["value1389",{"$f":"VLOOKUP(A1390,LookupValues!A:B,2,FALSE)","v":992}]
["value1390",{"$f":"VLOOKUP(A1391,LookupValues!A:B,2,FALSE)","v":663}]
["value1391",{"$f":"VLOOKUP(A1392,LookupValues!A:B,2,FALSE)","v":787}]
["value1392",{"$f":"VLOOKUP(A1393,LookupValues!A:B,2,FALSE)","v":719}]
["value1393",{"$f":"VLOOKUP(A1394,LookupValues!A:B,2,FALSE)","v":940}]
["value1394",{"$f":"VLOOKUP(A1395,LookupValues!A:B,2,FALSE)","v":840}]
["value1395",{"$f":"VLOOKUP(A1396,LookupValues!A:B,2,FALSE)","v":55}]
["value1396",{"$f":"VLOOKUP(A1397,LookupValues!A:B,2,FALSE)","v":590}]
["value1397",{"$f":"VLOOKUP(A1398,LookupValues!A:B,2,FALSE)","v":156}]
["value1398",{"$f":"VLOOKUP(A1399,LookupValues!A:B,2,FALSE)","v":733}]
["value1399",{"$f":"VLOOKUP(A1400,LookupValues!A:B,2,FALSE)","v":334}]
["value1400",{"$f":"VLOOKUP(A1401,LookupValues!A:B,2,FALSE)","v":3}]
["value1401",{"$f":"VLOOKUP(A1402,LookupValues!A:B,2,FALSE)","v":453}]
["value1402",{"$f":"VLOOKUP(A1403,LookupValues!A:B,2,FALSE)","v":815}]
["value1403",{"$f":"VLOOKUP(A1404,LookupValues!A:B,2,FALSE)","v":395}]
["value1404",{"$f":"VLOOKUP(A1405,LookupValues!A:B,2,FALSE)","v":239}]
["value1405",{"$f":"VLOOKUP(A1406,LookupValues!A:B,2,FALSE)","v":586}]
["value1406",{"$f":"VLOOKUP(A1407,LookupValues!A:B,2,FALSE)","v":499}]
["value1407",{"$f":"VLOOKUP(A1408,LookupValues!A:B,2,FALSE)","v":578}]
["value1408",{"$f":"VLOOKUP(A1409,LookupValues!A:B,2,FALSE)","v":983}]
["value1409",{"$f":"VLOOKUP(A1410,LookupValues!A:B,2,FALSE)","v":573}]
["value1410",{"$f":"VLOOKUP(A1411,LookupValues!A:B,2,FALSE)","v":474}]
["value1411",{"$f":"VLOOKUP(A1412,LookupValues!A:B,2,FALSE)","v":196}]
["value1412",{"$f":"VLOOKUP(A1413,LookupValues!A:B,2,FALSE)","v":834}]
["value1413",{"$f":"VLOOKUP(A1414,LookupValues!A:B,2,FALSE)","v":359}]
["value1414",{"$f":"VLOOKUP(A1415,LookupValues!A:B,2,FALSE)","v":788}]
["value1415",{"$f":"VLOOKUP(A1416,LookupValues!A:B,2,FALSE)","v":395}]
["value1416",{"$f":"VLOOKUP(A1417,LookupValues!A:B,2,FALSE)","v":832}]
["value1417",{"$f":"VLOOKUP(A1418,LookupValues!A:B,2,FALSE)","v":291}]
["value1418",{"$f":"VLOOKUP(A1419,LookupValues!A:B,2,FALSE)","v":164}]
["value1419",{"$f":"VLOOKUP(A1420,LookupValues!A:B,2,FALSE)","v":249}]
["value1420",{"$f":"VLOOKUP(A1421,LookupValues!A:B,2,FALSE)","v":531}]
["value1421",{"$f":"VLOOKUP(A1422,LookupValues!A:B,2,FALSE)","v":554}]
["value1422",{"$f":"VLOOKUP(A1423,LookupValues!A:B,2,FALSE)","v":771}]
["value1423",{"$f":"VLOOKUP(A1424,LookupValues!A:B,2,FALSE)","v":588}]
["value1424",{"$f":"VLOOKUP(A1425,LookupValues!A:B,2,FALSE)","v":249}]
["value1425",{"$f":"VLOOKUP(A1426,LookupValues!A:B,2,FALSE)","v":825}]
["value1426",{"$f":"VLOOKUP(A1427,LookupValues!A:B,2,FALSE)","v":38}]
["value1427",{"$f":"VLOOKUP(A1428,LookupValues!A:B,2,FALSE)","v":601}]
["value1428",{"$f":"VLOOKUP(A1429,LookupValues!A:B,2,FALSE)","v":121}]
["value1429",{"$f":"VLOOKUP(A1430,LookupValues!A:B,2,FALSE)","v":342}]
["value1430",{"$f":"VLOOKUP(A1431,LookupValues!A:B,2,FALSE)","v":724}]
["value1431",{"$f":"VLOOKUP(A1432,LookupValues!A:B,2,FALSE)","v":930}]
["value1432",{"$f":"VLOOKUP(A1433,LookupValues!A:B,2,FALSE)","v":318}]
["value1433",{"$f":"VLOOKUP(A1434,LookupValues!A:B,2,FALSE)","v":974}]
["value1434",{"$f":"VLOOKUP(A1435,LookupValues!A:B,2,FALSE)","v":896}]
["value1435",{"$f":"VLOOKUP(A1436,LookupValues!A:B,2,FALSE)","v":503}]
["value1436",{"$f":"VLOOKUP(A1437,LookupValues!A:B,2,FALSE)","v":651}]
["value1437",{"$f":"VLOOKUP(A1438,LookupValues!A:B,2,FALSE)","v":768}]
["value1438",{"$f":"VLOOKUP(A1439,LookupValues!A:B,2,FALSE)","v":846}]
["value1439",{"$f":"VLOOKUP(A1440,LookupValues!A:B,2,FALSE)","v":695}]
["value1440",{"$f":"VLOOKUP(A1441,LookupValues!A:B,2,FALSE)","v":916}]
["value1441",{"$f":"VLOOKUP(A1442,LookupValues!A:B,2,FALSE)","v":435}]
["value1442",{"$f":"VLOOKUP(A1443,LookupValues!A:B,2,FALSE)","v":738}]
["value1443",{"$f":"VLOOKUP(A1444,LookupValues!A:B,2,FALSE)","v":641}]
["value1444",{"$f":"VLOOKUP(A1445,LookupValues!A:B,2,FALSE)","v":680}]
["value1445",{"$f":"VLOOKUP(A1446,LookupValues!A:B,2,FALSE)","v":65}]
["value1446",{"$f":"VLOOKUP(A1447,LookupValues!A:B,2,FALSE)","v":133}]
["value1447",{"$f":"VLOOKUP(A1448,LookupValues!A:B,2,FALSE)","v":752}]
["value1448",{"$f":"VLOOKUP(A1449,LookupValues!A:B,2,FALSE)","v":16}]
["value1449",{"$f":"VLOOKUP(A1450,LookupValues!A:B,2,FALSE)","v":333}]
["value1450",{"$f":"VLOOKUP(A1451,LookupValues!A:B,2,FALSE)","v":829}]
["value1451",{"$f":"VLOOKUP(A1452,LookupValues!A:B,2,FALSE)","v":341}]
["value1452",{"$f":"VLOOKUP(A1453,LookupValues!A:B,2,FALSE)","v":968}]
["value1453",{"$f":"VLOOKUP(A1454,LookupValues!A:B,2,FALSE)","v":941}]
["value1454",{"$f":"VLOOKUP(A1455,LookupValues!A:B,2,FALSE)","v":655}]
["value1455",{"$f":"VLOOKUP(A1456,LookupValues!A:B,2,FALSE)","v":999}]
["value1456",{"$f":"VLOOKUP(A1457,LookupValues!A:B,2,FALSE)","v":993}]
["value1457",{"$f":"VLOOKUP(A1458,LookupValues!A:B,2,FALSE)","v":263}]
["value1458",{"$f":"VLOOKUP(A1459,LookupValues!A:B,2,FALSE)","v":438}]
["value1459",{"$f":"VLOOKUP(A1460,LookupValues!A:B,2,FALSE)","v":870}]
["value1460",{"$f":"VLOOKUP(A1461,LookupValues!A:B,2,FALSE)","v":172}]
["value1461",{"$f":"VLOOKUP(A1462,LookupValues!A:B,2,FALSE)","v":868}]
["value1462",{"$f":"VLOOKUP(A1463,LookupValues!A:B,2,FALSE)","v":600}]
["value1463",{"$f":"VLOOKUP(A1464,LookupValues!A:B,2,FALSE)","v":348}]
["value1464",{"$f":"VLOOKUP(A1465,LookupValues!A:B,2,FALSE)","v":494}]
["value1465",{"$f":"VLOOKUP(A1466,LookupValues!A:B,2,FALSE)","v":842}]
["value1466",{"$f":"VLOOKUP(A1467,LookupValues!A:B,2,FALSE)","v":895}]
["value1467",{"$f":"VLOOKUP(A1468,LookupValues!A:B,2,FALSE)","v":928}]
["value1468",{"$f":"VLOOKUP(A1469,LookupValues!A:B,2,FALSE)","v":659}]
["value1469",{"$f":"VLOOKUP(A1470,LookupValues!A:B,2,FALSE)","v":861}]
["value1470",{"$f":"VLOOKUP(A1471,LookupValues!A:B,2,FALSE)","v":169}]
["value1471",{"$f":"VLOOKUP(A1472,LookupValues!A:B,2,FALSE)","v":96}]
["value1472",{"$f":"VLOOKUP(A1473,LookupValues!A:B,2,FALSE)","v":358}]
["value1473",{"$f":"VLOOKUP(A1474,LookupValues!A:B,2,FALSE)","v":234}]
["value1474",{"$f":"VLOOKUP(A1475,LookupValues!A:B,2,FALSE)","v":76}]
["value1475",{"$f":"VLOOKUP(A1476,LookupValues!A:B,2,FALSE)","v":850}]
["value1476",{"$f":"VLOOKUP(A1477,LookupValues!A:B,2,FALSE)","v":854}]
["value1477",{"$f":"VLOOKUP(A1478,LookupValues!A:B,2,FALSE)","v":791}]
["value1478",{"$f":"VLOOKUP(A1479,LookupValues!A:B,2,FALSE)","v":526}]
["value1479",{"$f":"VLOOKUP(A1480,LookupValues!A:B,2,FALSE)","v":340}]
["value1480",{"$f":"VLOOKUP(A1481,LookupValues!A:B,2,FALSE)","v":957}]
["value1481",{"$f":"VLOOKUP(A1482,LookupValues!A:B,2,FALSE)","v":756}]
["value1482",{"$f":"VLOOKUP(A1483,LookupValues!A:B,2,FALSE)","v":812}]
["value1483",{"$f":"VLOOKUP(A1484,LookupValues!A:B,2,FALSE)","v":166}]
["value1484",{"$f":"VLOOKUP(A1485,LookupValues!A:B,2,FALSE)","v":512}]
["value1485",{"$f":"VLOOKUP(A1486,LookupValues!A:B,2,FALSE)","v":771}]
["value1486",{"$f":"VLOOKUP(A1487,LookupValues!A:B,2,FALSE)","v":310}]
["value1487",{"$f":"VLOOKUP(A1488,LookupValues!A:B,2,FALSE)","v":836}]
["value1488",{"$f":"VLOOKUP(A1489,LookupValues!A:B,2,FALSE)","v":743}]
["value1489",{"$f":"VLOOKUP(A1490,LookupValues!A:B,2,FALSE)","v":866}]
["value1490",{"$f":"VLOOKUP(A1491,LookupValues!A:B,2,FALSE)","v":688}]
["value1491",{"$f":"VLOOKUP(A1492,LookupValues!A:B,2,FALSE)","v":871}]
["value1492",{"$f":"VLOOKUP(A1493,LookupValues!A:B,2,FALSE)","v":608}]
["value1493",{"$f":"VLOOKUP(A1494,LookupValues!A:B,2,FALSE)","v":794}]
["value1494",{"$f":"VLOOKUP(A1495,LookupValues!A:B,2,FALSE)","v":579}]
["value1495",{"$f":"VLOOKUP(A1496,LookupValues!A:B,2,FALSE)","v":186}]
["value1496",{"$f":"VLOOKUP(A1497,LookupValues!A:B,2,FALSE)","v":922}]
["value1497",{"$f":"VLOOKUP(A1498,LookupValues!A:B,2,FALSE)","v":585}]
["value1498",{"$f":"VLOOKUP(A1499,LookupValues!A:B,2,FALSE)","v":830}]
["value1499",{"$f":"VLOOKUP(A1500,LookupValues!A:B,2,FALSE)","v":100}]
["value1500",{"$f":"VLOOKUP(A1501,LookupValues!A:B,2,FALSE)","v":880}]
["value1501",{"$f":"VLOOKUP(A1502,LookupValues!A:B,2,FALSE)","v":712}]
["value1502",{"$f":"VLOOKUP(A1503,LookupValues!A:B,2,FALSE)","v":401}]
["value1503",{"$f":"VLOOKUP(A1504,LookupValues!A:B,2,FALSE)","v":315}]
["value1504",{"$f":"VLOOKUP(A1505,LookupValues!A:B,2,FALSE)","v":161}]
["value1505",{"$f":"VLOOKUP(A1506,LookupValues!A:B,2,FALSE)","v":774}]
["value1506",{"$f":"VLOOKUP(A1507,LookupValues!A:B,2,FALSE)","v":264}]
["value1507",{"$f":"VLOOKUP(A1508,LookupValues!A:B,2,FALSE)","v":506}]
["value1508",{"$f":"VLOOKUP(A1509,LookupValues!A:B,2,FALSE)","v":129}]
["value1509",{"$f":"VLOOKUP(A1510,LookupValues!A:B,2,FALSE)","v":917}]
["value1510",{"$f":"VLOOKUP(A1511,LookupValues!A:B,2,FALSE)","v":512}]
["value1511",{"$f":"VLOOKUP(A1512,LookupValues!A:B,2,FALSE)","v":429}]
["value1512",{"$f":"VLOOKUP(A1513,LookupValues!A:B,2,FALSE)","v":954}]
["value1513",{"$f":"VLOOKUP(A1514,LookupValues!A:B,2,FALSE)","v":518}]
["value1514",{"$f":"VLOOKUP(A1515,LookupValues!A:B,2,FALSE)","v":809}]
["value1515",{"$f":"VLOOKUP(A1516,LookupValues!A:B,2,FALSE)","v":736}]
["value1516",{"$f":"VLOOKUP(A1517,LookupValues!A:B,2,FALSE)","v":523}]
["value1517",{"$f":"VLOOKUP(A1518,LookupValues!A:B,2,FALSE)","v":682}]
["value1518",{"$f":"VLOOKUP(A1519,LookupValues!A:B,2,FALSE)","v":587}]
["value1519",{"$f":"VLOOKUP(A1520,LookupValues!A:B,2,FALSE)","v":92}]
["value1520",{"$f":"VLOOKUP(A1521,LookupValues!A:B,2,FALSE)","v":349}]
["value1521",{"$f":"VLOOKUP(A1522,LookupValues!A:B,2,FALSE)","v":471}]
["value1522",{"$f":"VLOOKUP(A1523,LookupValues!A:B,2,FALSE)","v":184}]
["value1523",{"$f":"VLOOKUP(A1524,LookupValues!A:B,2,FALSE)","v":138}]
["value1524",{"$f":"VLOOKUP(A1525,LookupValues!A:B,2,FALSE)","v":788}]
["value1525",{"$f":"VLOOKUP(A1526,LookupValues!A:B,2,FALSE)","v":606}]
["value1526",{"$f":"VLOOKUP(A1527,LookupValues!A:B,2,FALSE)","v":908}]
["value1527",{"$f":"VLOOKUP(A1528,LookupValues!A:B,2,FALSE)","v":205}]
["value1528",{"$f":"VLOOKUP(A1529,LookupValues!A:B,2,FALSE)","v":447}]
["value1529",{"$f":"VLOOKUP(A1530,LookupValues!A:B,2,FALSE)","v":211}]
["value1530",{"$f":"VLOOKUP(A1531,LookupValues!A:B,2,FALSE)","v":906}]
["value1531",{"$f":"VLOOKUP(A1532,LookupValues!A:B,2,FALSE)","v":344}]
["value1532",{"$f":"VLOOKUP(A1533,LookupValues!A:B,2,FALSE)","v":648}]
["value1533",{"$f":"VLOOKUP(A1534,LookupValues!A:B,2,FALSE)","v":707}]
["value1534",{"$f":"VLOOKUP(A1535,LookupValues!A:B,2,FALSE)","v":933}]
["value1535",{"$f":"VLOOKUP(A1536,LookupValues!A:B,2,FALSE)","v":26}]
["value1536",{"$f":"VLOOKUP(A1537,LookupValues!A:B,2,FALSE)","v":44}]
["value1537",{"$f":"VLOOKUP(A1538,LookupValues!A:B,2,FALSE)","v":498}]
["value1538",{"$f":"VLOOKUP(A1539,LookupValues!A:B,2,FALSE)","v":628}]
["value1539",{"$f":"VLOOKUP(A1540,LookupValues!A:B,2,FALSE)","v":305}]
["value1540",{"$f":"VLOOKUP(A1541,LookupValues!A:B,2,FALSE)","v":472}]
["value1541",{"$f":"VLOOKUP(A1542,LookupValues!A:B,2,FALSE)","v":833}]
["value1542",{"$f":"VLOOKUP(A1543,LookupValues!A:B,2,FALSE)","v":215}]
["value1543",{"$f":"VLOOKUP(A1544,LookupValues!A:B,2,FALSE)","v":412}]
["value1544",{"$f":"VLOOKUP(A1545,LookupValues!A:B,2,FALSE)","v":529}]
["value1545",{"$f":"VLOOKUP(A1546,LookupValues!A:B,2,FALSE)","v":441}]
["value1546",{"$f":"VLOOKUP(A1547,LookupValues!A:B,2,FALSE)","v":585}]
["value1547",{"$f":"VLOOKUP(A1548,LookupValues!A:B,2,FALSE)","v":749}]
["value1548",{"$f":"VLOOKUP(A1549,LookupValues!A:B,2,FALSE)","v":950}]
["value1549",{"$f":"VLOOKUP(A1550,LookupValues!A:B,2,FALSE)","v":762}]
["value1550",{"$f":"VLOOKUP(A1551,LookupValues!A:B,2,FALSE)","v":354}]
["value1551",{"$f":"VLOOKUP(A1552,LookupValues!A:B,2,FALSE)","v":751}]
["value1552",{"$f":"VLOOKUP(A1553,LookupValues!A:B,2,FALSE)","v":374}]
["value1553",{"$f":"VLOOKUP(A1554,LookupValues!A:B,2,FALSE)","v":999}]
["value1554",{"$f":"VLOOKUP(A1555,LookupValues!A:B,2,FALSE)","v":51}]
["value1555",{"$f":"VLOOKUP(A1556,LookupValues!A:B,2,FALSE)","v":149}]
["value1556",{"$f":"VLOOKUP(A1557,LookupValues!A:B,2,FALSE)","v":914}]
["value1557",{"$f":"VLOOKUP(A1558,LookupValues!A:B,2,FALSE)","v":547}]
["value1558",{"$f":"VLOOKUP(A1559,LookupValues!A:B,2,FALSE)","v":798}]
["value1559",{"$f":"VLOOKUP(A1560,LookupValues!A:B,2,FALSE)","v":545}]
["value1560",{"$f":"VLOOKUP(A1561,LookupValues!A:B,2,FALSE)","v":522}]
["value1561",{"$f":"VLOOKUP(A1562,LookupValues!A:B,2,FALSE)","v":779}]
["value1562",{"$f":"VLOOKUP(A1563,LookupValues!A:B,2,FALSE)","v":710}]
["value1563",{"$f":"VLOOKUP(A1564,LookupValues!A:B,2,FALSE)","v":330}]
["value1564",{"$f":"VLOOKUP(A1565,LookupValues!A:B,2,FALSE)","v":301}]
["value1565",{"$f":"VLOOKUP(A1566,LookupValues!A:B,2,FALSE)","v":873}]
["value1566",{"$f":"VLOOKUP(A1567,LookupValues!A:B,2,FALSE)","v":710}]
["value1567",{"$f":"VLOOKUP(A1568,LookupValues!A:B,2,FALSE)","v":268}]
["value1568",{"$f":"VLOOKUP(A1569,LookupValues!A:B,2,FALSE)","v":254}]
["value1569",{"$f":"VLOOKUP(A1570,LookupValues!A:B,2,FALSE)","v":827}]
["value1570",{"$f":"VLOOKUP(A1571,LookupValues!A:B,2,FALSE)","v":203}]
["value1571",{"$f":"VLOOKUP(A1572,LookupValues!A:B,2,FALSE)","v":359}]
["value1572",{"$f":"VLOOKUP(A1573,LookupValues!A:B,2,FALSE)","v":982}]
["value1573",{"$f":"VLOOKUP(A1574,LookupValues!A:B,2,FALSE)","v":106}]
["value1574",{"$f":"VLOOKUP(A1575,LookupValues!A:B,2,FALSE)","v":932}]
["value1575",{"$f":"VLOOKUP(A1576,LookupValues!A:B,2,FALSE)","v":999}]
["value1576",{"$f":"VLOOKUP(A1577,LookupValues!A:B,2,FALSE)","v":537}]
["value1577",{"$f":"VLOOKUP(A1578,LookupValues!A:B,2,FALSE)","v":408}]
["value1578",{"$f":"VLOOKUP(A1579,LookupValues!A:B,2,FALSE)","v":905}]
["value1579",{"$f":"VLOOKUP(A1580,LookupValues!A:B,2,FALSE)","v":434}]
["value1580",{"$f":"VLOOKUP(A1581,LookupValues!A:B,2,FALSE)","v":270}]
["value1581",{"$f":"VLOOKUP(A1582,LookupValues!A:B,2,FALSE)","v":145}]
["value1582",{"$f":"VLOOKUP(A1583,LookupValues!A:B,2,FALSE)","v":554}]
["value1583",{"$f":"VLOOKUP(A1584,LookupValues!A:B,2,FALSE)","v":655}]
["value1584",{"$f":"VLOOKUP(A1585,LookupValues!A:B,2,FALSE)","v":195}]
["value1585",{"$f":"VLOOKUP(A1586,LookupValues!A:B,2,FALSE)","v":701}]
["value1586",{"$f":"VLOOKUP(A1587,LookupValues!A:B,2,FALSE)","v":308}]
["value1587",{"$f":"VLOOKUP(A1588,LookupValues!A:B,2,FALSE)","v":549}]
["value1588",{"$f":"VLOOKUP(A1589,LookupValues!A:B,2,FALSE)","v":914}]
["value1589",{"$f":"VLOOKUP(A1590,LookupValues!A:B,2,FALSE)","v":620}]
["value1590",{"$f":"VLOOKUP(A1591,LookupValues!A:B,2,FALSE)","v":662}]
["value1591",{"$f":"VLOOKUP(A1592,LookupValues!A:B,2,FALSE)","v":464}]
["value1592",{"$f":"VLOOKUP(A1593,LookupValues!A:B,2,FALSE)","v":583}]
["value1593",{"$f":"VLOOKUP(A1594,LookupValues!A:B,2,FALSE)","v":401}]
["value1594",{"$f":"VLOOKUP(A1595,LookupValues!A:B,2,FALSE)","v":889}]
["value1595",{"$f":"VLOOKUP(A1596,LookupValues!A:B,2,FALSE)","v":75}]
["value1596",{"$f":"VLOOKUP(A1597,LookupValues!A:B,2,FALSE)","v":983}]
["value1597",{"$f":"VLOOKUP(A1598,LookupValues!A:B,2,FALSE)","v":340}]
["value1598",{"$f":"VLOOKUP(A1599,LookupValues!A:B,2,FALSE)","v":755}]
["value1599",{"$f":"VLOOKUP(A1600,LookupValues!A:B,2,FALSE)","v":628}]
["value1600",{"$f":"VLOOKUP(A1601,LookupValues!A:B,2,FALSE)","v":916}]
["value1601",{"$f":"VLOOKUP(A1602,LookupValues!A:B,2,FALSE)","v":914}]
["value1602",{"$f":"VLOOKUP(A1603,LookupValues!A:B,2,FALSE)","v":261}]
["value1603",{"$f":"VLOOKUP(A1604,LookupValues!A:B,2,FALSE)","v":522}]
["value1604",{"$f":"VLOOKUP(A1605,LookupValues!A:B,2,FALSE)","v":502}]
["value1605",{"$f":"VLOOKUP(A1606,LookupValues!A:B,2,FALSE)","v":605}]
["value1606",{"$f":"VLOOKUP(A1607,LookupValues!A:B,2,FALSE)","v":127}]
["value1607",{"$f":"VLOOKUP(A1608,LookupValues!A:B,2,FALSE)","v":44}]
["value1608",{"$f":"VLOOKUP(A1609,LookupValues!A:B,2,FALSE)","v":904}]
["value1609",{"$f":"VLOOKUP(A1610,LookupValues!A:B,2,FALSE)","v":508}]
["value1610",{"$f":"VLOOKUP(A1611,LookupValues!A:B,2,FALSE)","v":980}]
["value1611",{"$f":"VLOOKUP(A1612,LookupValues!A:B,2,FALSE)","v":245}]
["value1612",{"$f":"VLOOKUP(A1613,LookupValues!A:B,2,FALSE)","v":250}]
["value1613",{"$f":"VLOOKUP(A1614,LookupValues!A:B,2,FALSE)","v":853}]
["value1614",{"$f":"VLOOKUP(A1615,LookupValues!A:B,2,FALSE)","v":652}]
["value1615",{"$f":"VLOOKUP(A1616,LookupValues!A:B,2,FALSE)","v":165}]
["value1616",{"$f":"VLOOKUP(A1617,LookupValues!A:B,2,FALSE)","v":685}]
["value1617",{"$f":"VLOOKUP(A1618,LookupValues!A:B,2,FALSE)","v":338}]
["value1618",{"$f":"VLOOKUP(A1619,LookupValues!A:B,2,FALSE)","v":647}]
["value1619",{"$f":"VLOOKUP(A1620,LookupValues!A:B,2,FALSE)","v":883}]
["value1620",{"$f":"VLOOKUP(A1621,LookupValues!A:B,2,FALSE)","v":500}]
["value1621",{"$f":"VLOOKUP(A1622,LookupValues!A:B,2,FALSE)","v":845}]
["value1622",{"$f":"VLOOKUP(A1623,LookupValues!A:B,2,FALSE)","v":169}]
["value1623",{"$f":"VLOOKUP(A1624,LookupValues!A:B,2,FALSE)","v":207}]
["value1624",{"$f":"VLOOKUP(A1625,LookupValues!A:B,2,FALSE)","v":3}]
["value1625",{"$f":"VLOOKUP(A1626,LookupValues!A:B,2,FALSE)","v":786}]
["value1626",{"$f":"VLOOKUP(A1627,LookupValues!A:B,2,FALSE)","v":279}]
["value1627",{"$f":"VLOOKUP(A1628,LookupValues!A:B,2,FALSE)","v":897}]
["value1628",{"$f":"VLOOKUP(A1629,LookupValues!A:B,2,FALSE)","v":410}]
["value1629",{"$f":"VLOOKUP(A1630,LookupValues!A:B,2,FALSE)","v":638}]
["value1630",{"$f":"VLOOKUP(A1631,LookupValues!A:B,2,FALSE)","v":852}]
["value1631",{"$f":"VLOOKUP(A1632,LookupValues!A:B,2,FALSE)","v":843}]
["value1632",{"$f":"VLOOKUP(A1633,LookupValues!A:B,2,FALSE)","v":58}]
["value1633",{"$f":"VLOOKUP(A1634,LookupValues!A:B,2,FALSE)","v":753}]
["value1634",{"$f":"VLOOKUP(A1635,LookupValues!A:B,2,FALSE)","v":653}]
["value1635",{"$f":"VLOOKUP(A1636,LookupValues!A:B,2,FALSE)","v":20}]
["value1636",{"$f":"VLOOKUP(A1637,LookupValues!A:B,2,FALSE)","v":242}]
["value1637",{"$f":"VLOOKUP(A1638,LookupValues!A:B,2,FALSE)","v":322}]
["value1638",{"$f":"VLOOKUP(A1639,LookupValues!A:B,2,FALSE)","v":415}]
["value1639",{"$f":"VLOOKUP(A1640,LookupValues!A:B,2,FALSE)","v":116}]
["value1640",{"$f":"VLOOKUP(A1641,LookupValues!A:B,2,FALSE)","v":920}]
["value1641",{"$f":"VLOOKUP(A1642,LookupValues!A:B,2,FALSE)","v":208}]
["value1642",{"$f":"VLOOKUP(A1643,LookupValues!A:B,2,FALSE)","v":936}]
["value1643",{"$f":"VLOOKUP(A1644,LookupValues!A:B,2,FALSE)","v":839}]
["value1644",{"$f":"VLOOKUP(A1645,LookupValues!A:B,2,FALSE)","v":664}]
["value1645",{"$f":"VLOOKUP(A1646,LookupValues!A:B,2,FALSE)","v":792}]
["value1646",{"$f":"VLOOKUP(A1647,LookupValues!A:B,2,FALSE)","v":871}]
["value1647",{"$f":"VLOOKUP(A1648,LookupValues!A:B,2,FALSE)","v":815}]
["value1648",{"$f":"VLOOKUP(A1649,LookupValues!A:B,2,FALSE)","v":296}]
["value1649",{"$f":"VLOOKUP(A1650,LookupValues!A:B,2,FALSE)","v":275}]
["value1650",{"$f":"VLOOKUP(A1651,LookupValues!A:B,2,FALSE)","v":204}]
["value1651",{"$f":"VLOOKUP(A1652,LookupValues!A:B,2,FALSE)","v":679}]
["value1652",{"$f":"VLOOKUP(A1653,LookupValues!A:B,2,FALSE)","v":671}]
["value1653",{"$f":"VLOOKUP(A1654,LookupValues!A:B,2,FALSE)","v":542}]
["value1654",{"$f":"VLOOKUP(A1655,LookupValues!A:B,2,FALSE)","v":381}]
["value1655",{"$f":"VLOOKUP(A1656,LookupValues!A:B,2,FALSE)","v":494}]
["value1656",{"$f":"VLOOKUP(A1657,LookupValues!A:B,2,FALSE)","v":112}]
["value1657",{"$f":"VLOOKUP(A1658,LookupValues!A:B,2,FALSE)","v":399}]
["value1658",{"$f":"VLOOKUP(A1659,LookupValues!A:B,2,FALSE)","v":150}]
["value1659",{"$f":"VLOOKUP(A1660,LookupValues!A:B,2,FALSE)","v":376}]
["value1660",{"$f":"VLOOKUP(A1661,LookupValues!A:B,2,FALSE)","v":655}]
["value1661",{"$f":"VLOOKUP(A1662,LookupValues!A:B,2,FALSE)","v":623}]
["value1662",{"$f":"VLOOKUP(A1663,LookupValues!A:B,2,FALSE)","v":781}]
["value1663",{"$f":"VLOOKUP(A1664,LookupValues!A:B,2,FALSE)","v":855}]
["value1664",{"$f":"VLOOKUP(A1665,LookupValues!A:B,2,FALSE)","v":198}]
["value1665",{"$f":"VLOOKUP(A1666,LookupValues!A:B,2,FALSE)","v":150}]
["value1666",{"$f":"VLOOKUP(A1667,LookupValues!A:B,2,FALSE)","v":623}]
["value1667",{"$f":"VLOOKUP(A1668,LookupValues!A:B,2,FALSE)","v":204}]
["value1668",{"$f":"VLOOKUP(A1669,LookupValues!A:B,2,FALSE)","v":226}]
["value1669",{"$f":"VLOOKUP(A1670,LookupValues!A:B,2,FALSE)","v":182}]
["value1670",{"$f":"VLOOKUP(A1671,LookupValues!A:B,2,FALSE)","v":267}]
["value1671",{"$f":"VLOOKUP(A1672,LookupValues!A:B,2,FALSE)","v":123}]
["value1672",{"$f":"VLOOKUP(A1673,LookupValues!A:B,2,FALSE)","v":390}]
["value1673",{"$f":"VLOOKUP(A1674,LookupValues!A:B,2,FALSE)","v":833}]
["value1674",{"$f":"VLOOKUP(A1675,LookupValues!A:B,2,FALSE)","v":736}]
["value1675",{"$f":"VLOOKUP(A1676,LookupValues!A:B,2,FALSE)","v":450}]
["value1676",{"$f":"VLOOKUP(A1677,LookupValues!A:B,2,FALSE)","v":132}]
["value1677",{"$f":"VLOOKUP(A1678,LookupValues!A:B,2,FALSE)","v":325}]
["value1678",{"$f":"VLOOKUP(A1679,LookupValues!A:B,2,FALSE)","v":568}]
["value1679",{"$f":"VLOOKUP(A1680,LookupValues!A:B,2,FALSE)","v":98}]
["value1680",{"$f":"VLOOKUP(A1681,LookupValues!A:B,2,FALSE)","v":450}]
["value1681",{"$f":"VLOOKUP(A1682,LookupValues!A:B,2,FALSE)","v":504}]
["value1682",{"$f":"VLOOKUP(A1683,LookupValues!A:B,2,FALSE)","v":327}]
["value1683",{"$f":"VLOOKUP(A1684,LookupValues!A:B,2,FALSE)","v":63}]
["value1684",{"$f":"VLOOKUP(A1685,LookupValues!A:B,2,FALSE)","v":682}]
["value1685",{"$f":"VLOOKUP(A1686,LookupValues!A:B,2,FALSE)","v":517}]
["value1686",{"$f":"VLOOKUP(A1687,LookupValues!A:B,2,FALSE)","v":714}]
["value1687",{"$f":"VLOOKUP(A1688,LookupValues!A:B,2,FALSE)","v":975}]
["value1688",{"$f":"VLOOKUP(A1689,LookupValues!A:B,2,FALSE)","v":146}]
["value1689",{"$f":"VLOOKUP(A1690,LookupValues!A:B,2,FALSE)","v":3}]
["value1690",{"$f":"VLOOKUP(A1691,LookupValues!A:B,2,FALSE)","v":994}]
["value1691",{"$f":"VLOOKUP(A1692,LookupValues!A:B,2,FALSE)","v":591}]
["value1692",{"$f":"VLOOKUP(A1693,LookupValues!A:B,2,FALSE)","v":40}]
["value1693",{"$f":"VLOOKUP(A1694,LookupValues!A:B,2,FALSE)","v":435}]
["value1694",{"$f":"VLOOKUP(A1695,LookupValues!A:B,2,FALSE)","v":752}]
["value1695",{"$f":"VLOOKUP(A1696,LookupValues!A:B,2,FALSE)","v":528}]
["value1696",{"$f":"VLOOKUP(A1697,LookupValues!A:B,2,FALSE)","v":947}]
["value1697",{"$f":"VLOOKUP(A1698,LookupValues!A:B,2,FALSE)","v":182}]
["value1698",{"$f":"VLOOKUP(A1699,LookupValues!A:B,2,FALSE)","v":283}]
["value1699",{"$f":"VLOOKUP(A1700,LookupValues!A:B,2,FALSE)","v":846}]
["value1700",{"$f":"VLOOKUP(A1701,LookupValues!A:B,2,FALSE)","v":412}]
["value1701",{"$f":"VLOOKUP(A1702,LookupValues!A:B,2,FALSE)","v":678}]
["value1702",{"$f":"VLOOKUP(A1703,LookupValues!A:B,2,FALSE)","v":749}]
["value1703",{"$f":"VLOOKUP(A1704,LookupValues!A:B,2,FALSE)","v":786}]
["value1704",{"$f":"VLOOKUP(A1705,LookupValues!A:B,2,FALSE)","v":215}]
["value1705",{"$f":"VLOOKUP(A1706,LookupValues!A:B,2,FALSE)","v":439}]
["value1706",{"$f":"VLOOKUP(A1707,LookupValues!A:B,2,FALSE)","v":455}]
["value1707",{"$f":"VLOOKUP(A1708,LookupValues!A:B,2,FALSE)","v":477}]
["value1708",{"$f":"VLOOKUP(A1709,LookupValues!A:B,2,FALSE)","v":179}]
["value1709",{"$f":"VLOOKUP(A1710,LookupValues!A:B,2,FALSE)","v":811}]
["value1710",{"$f":"VLOOKUP(A1711,LookupValues!A:B,2,FALSE)","v":205}]
["value1711",{"$f":"VLOOKUP(A1712,LookupValues!A:B,2,FALSE)","v":735}]
["value1712",{"$f":"VLOOKUP(A1713,LookupValues!A:B,2,FALSE)","v":76}]
["value1713",{"$f":"VLOOKUP(A1714,LookupValues!A:B,2,FALSE)","v":664}]
["value1714",{"$f":"VLOOKUP(A1715,LookupValues!A:B,2,FALSE)","v":63}]
["value1715",{"$f":"VLOOKUP(A1716,LookupValues!A:B,2,FALSE)","v":55}]
["value1716",{"$f":"VLOOKUP(A1717,LookupValues!A:B,2,FALSE)","v":136}]
["value1717",{"$f":"VLOOKUP(A1718,LookupValues!A:B,2,FALSE)","v":652}]
["value1718",{"$f":"VLOOKUP(A1719,LookupValues!A:B,2,FALSE)","v":199}]
["value1719",{"$f":"VLOOKUP(A1720,LookupValues!A:B,2,FALSE)","v":713}]
["value1720",{"$f":"VLOOKUP(A1721,LookupValues!A:B,2,FALSE)","v":814}]
["value1721",{"$f":"VLOOKUP(A1722,LookupValues!A:B,2,FALSE)","v":335}]
["value1722",{"$f":"VLOOKUP(A1723,LookupValues!A:B,2,FALSE)","v":834}]
["value1723",{"$f":"VLOOKUP(A1724,LookupValues!A:B,2,FALSE)","v":998}]
["value1724",{"$f":"VLOOKUP(A1725,LookupValues!A:B,2,FALSE)","v":399}]
["value1725",{"$f":"VLOOKUP(A1726,LookupValues!A:B,2,FALSE)","v":31}]
["value1726",{"$f":"VLOOKUP(A1727,LookupValues!A:B,2,FALSE)","v":380}]
["value1727",{"$f":"VLOOKUP(A1728,LookupValues!A:B,2,FALSE)","v":909}]
["value1728",{"$f":"VLOOKUP(A1729,LookupValues!A:B,2,FALSE)","v":482}]
["value1729",{"$f":"VLOOKUP(A1730,LookupValues!A:B,2,FALSE)","v":487}]
["value1730",{"$f":"VLOOKUP(A1731,LookupValues!A:B,2,FALSE)","v":423}]
["value1731",{"$f":"VLOOKUP(A1732,LookupValues!A:B,2,FALSE)","v":215}]
["value1732",{"$f":"VLOOKUP(A1733,LookupValues!A:B,2,FALSE)","v":596}]
["value1733",{"$f":"VLOOKUP(A1734,LookupValues!A:B,2,FALSE)","v":519}]
["value1734",{"$f":"VLOOKUP(A1735,LookupValues!A:B,2,FALSE)","v":383}]
["value1735",{"$f":"VLOOKUP(A1736,LookupValues!A:B,2,FALSE)","v":122}]
["value1736",{"$f":"VLOOKUP(A1737,LookupValues!A:B,2,FALSE)","v":251}]
["value1737",{"$f":"VLOOKUP(A1738,LookupValues!A:B,2,FALSE)","v":623}]
["value1738",{"$f":"VLOOKUP(A1739,LookupValues!A:B,2,FALSE)","v":449}]
["value1739",{"$f":"VLOOKUP(A1740,LookupValues!A:B,2,FALSE)","v":126}]
["value1740",{"$f":"VLOOKUP(A1741,LookupValues!A:B,2,FALSE)","v":818}]
["value1741",{"$f":"VLOOKUP(A1742,LookupValues!A:B,2,FALSE)","v":909}]
["value1742",{"$f":"VLOOKUP(A1743,LookupValues!A:B,2,FALSE)","v":251}]
["value1743",{"$f":"VLOOKUP(A1744,LookupValues!A:B,2,FALSE)","v":182}]
["value1744",{"$f":"VLOOKUP(A1745,LookupValues!A:B,2,FALSE)","v":62}]
["value1745",{"$f":"VLOOKUP(A1746,LookupValues!A:B,2,FALSE)","v":756}]
["value1746",{"$f":"VLOOKUP(A1747,LookupValues!A:B,2,FALSE)","v":818}]
["value1747",{"$f":"VLOOKUP(A1748,LookupValues!A:B,2,FALSE)","v":468}]
["value1748",{"$f":"VLOOKUP(A1749,LookupValues!A:B,2,FALSE)","v":184}]
["value1749",{"$f":"VLOOKUP(A1750,LookupValues!A:B,2,FALSE)","v":514}]
["value1750",{"$f":"VLOOKUP(A1751,LookupValues!A:B,2,FALSE)","v":281}]
["value1751",{"$f":"VLOOKUP(A1752,LookupValues!A:B,2,FALSE)","v":928}]
["value1752",{"$f":"VLOOKUP(A1753,LookupValues!A:B,2,FALSE)","v":893}]
["value1753",{"$f":"VLOOKUP(A1754,LookupValues!A:B,2,FALSE)","v":20}]
["value1754",{"$f":"VLOOKUP(A1755,LookupValues!A:B,2,FALSE)","v":219}]
["value1755",{"$f":"VLOOKUP(A1756,LookupValues!A:B,2,FALSE)","v":486}]
["value1756",{"$f":"VLOOKUP(A1757,LookupValues!A:B,2,FALSE)","v":752}]
["value1757",{"$f":"VLOOKUP(A1758,LookupValues!A:B,2,FALSE)","v":987}]
["value1758",{"$f":"VLOOKUP(A1759,LookupValues!A:B,2,FALSE)","v":306}]
["value1759",{"$f":"VLOOKUP(A1760,LookupValues!A:B,2,FALSE)","v":32}]
["value1760",{"$f":"VLOOKUP(A1761,LookupValues!A:B,2,FALSE)","v":988}]
["value1761",{"$f":"VLOOKUP(A1762,LookupValues!A:B,2,FALSE)","v":303}]
["value1762",{"$f":"VLOOKUP(A1763,LookupValues!A:B,2,FALSE)","v":445}]
["value1763",{"$f":"VLOOKUP(A1764,LookupValues!A:B,2,FALSE)","v":351}]
["value1764",{"$f":"VLOOKUP(A1765,LookupValues!A:B,2,FALSE)","v":633}]
["value1765",{"$f":"VLOOKUP(A1766,LookupValues!A:B,2,FALSE)","v":998}]
["value1766",{"$f":"VLOOKUP(A1767,LookupValues!A:B,2,FALSE)","v":812}]
["value1767",{"$f":"VLOOKUP(A1768,LookupValues!A:B,2,FALSE)","v":160}]
["value1768",{"$f":"VLOOKUP(A1769,LookupValues!A:B,2,FALSE)","v":166}]
["value1769",{"$f":"VLOOKUP(A1770,LookupValues!A:B,2,FALSE)","v":782}]
["value1770",{"$f":"VLOOKUP(A1771,LookupValues!A:B,2,FALSE)","v":164}]
["value1771",{"$f":"VLOOKUP(A1772,LookupValues!A:B,2,FALSE)","v":370}]
["value1772",{"$f":"VLOOKUP(A1773,LookupValues!A:B,2,FALSE)","v":488}]
["value1773",{"$f":"VLOOKUP(A1774,LookupValues!A:B,2,FALSE)","v":917}]
["value1774",{"$f":"VLOOKUP(A1775,LookupValues!A:B,2,FALSE)","v":485}]
["value1775",{"$f":"VLOOKUP(A1776,LookupValues!A:B,2,FALSE)","v":174}]
["value1776",{"$f":"VLOOKUP(A1777,LookupValues!A:B,2,FALSE)","v":737}]
["value1777",{"$f":"VLOOKUP(A1778,LookupValues!A:B,2,FALSE)","v":650}]
["value1778",{"$f":"VLOOKUP(A1779,LookupValues!A:B,2,FALSE)","v":879}]
["value1779",{"$f":"VLOOKUP(A1780,LookupValues!A:B,2,FALSE)","v":14}]
["value1780",{"$f":"VLOOKUP(A1781,LookupValues!A:B,2,FALSE)","v":873}]
["value1781",{"$f":"VLOOKUP(A1782,LookupValues!A:B,2,FALSE)","v":828}]
["value1782",{"$f":"VLOOKUP(A1783,LookupValues!A:B,2,FALSE)","v":731}]
["value1783",{"$f":"VLOOKUP(A1784,LookupValues!A:B,2,FALSE)","v":683}]
["value1784",{"$f":"VLOOKUP(A1785,LookupValues!A:B,2,FALSE)","v":533}]
["value1785",{"$f":"VLOOKUP(A1786,LookupValues!A:B,2,FALSE)","v":560}]
["value1786",{"$f":"VLOOKUP(A1787,LookupValues!A:B,2,FALSE)","v":271}]
["value1787",{"$f":"VLOOKUP(A1788,LookupValues!A:B,2,FALSE)","v":380}]
["value1788",{"$f":"VLOOKUP(A1789,LookupValues!A:B,2,FALSE)","v":512}]
["value1789",{"$f":"VLOOKUP(A1790,LookupValues!A:B,2,FALSE)","v":484}]
["value1790",{"$f":"VLOOKUP(A1791,LookupValues!A:B,2,FALSE)","v":712}]
["value1791",{"$f":"VLOOKUP(A1792,LookupValues!A:B,2,FALSE)","v":519}]
["value1792",{"$f":"VLOOKUP(A1793,LookupValues!A:B,2,FALSE)","v":466}]
["value1793",{"$f":"VLOOKUP(A1794,LookupValues!A:B,2,FALSE)","v":758}]
["value1794",{"$f":"VLOOKUP(A1795,LookupValues!A:B,2,FALSE)","v":545}]
["value1795",{"$f":"VLOOKUP(A1796,LookupValues!A:B,2,FALSE)","v":159}]
["value1796",{"$f":"VLOOKUP(A1797,LookupValues!A:B,2,FALSE)","v":814}]
["value1797",{"$f":"VLOOKUP(A1798,LookupValues!A:B,2,FALSE)","v":25}]
["value1798",{"$f":"VLOOKUP(A1799,LookupValues!A:B,2,FALSE)","v":937}]
["value1799",{"$f":"VLOOKUP(A1800,LookupValues!A:B,2,FALSE)","v":459}]
["value1800",{"$f":"VLOOKUP(A1801,LookupValues!A:B,2,FALSE)","v":837}]
["value1801",{"$f":"VLOOKUP(A1802,LookupValues!A:B,2,FALSE)","v":479}]
["value1802",{"$f":"VLOOKUP(A1803,LookupValues!A:B,2,FALSE)","v":955}]
["value1803",{"$f":"VLOOKUP(A1804,LookupValues!A:B,2,FALSE)","v":252}]
["value1804",{"$f":"VLOOKUP(A1805,LookupValues!A:B,2,FALSE)","v":70}]
["value1805",{"$f":"VLOOKUP(A1806,LookupValues!A:B,2,FALSE)","v":637}]
["value1806",{"$f":"VLOOKUP(A1807,LookupValues!A:B,2,FALSE)","v":81}]
["value1807",{"$f":"VLOOKUP(A1808,LookupValues!A:B,2,FALSE)","v":676}]
["value1808",{"$f":"VLOOKUP(A1809,LookupValues!A:B,2,FALSE)","v":777}]
["value1809",{"$f":"VLOOKUP(A1810,LookupValues!A:B,2,FALSE)","v":784}]
["value1810",{"$f":"VLOOKUP(A1811,LookupValues!A:B,2,FALSE)","v":831}]
["value1811",{"$f":"VLOOKUP(A1812,LookupValues!A:B,2,FALSE)","v":276}]
["value1812",{"$f":"VLOOKUP(A1813,LookupValues!A:B,2,FALSE)","v":821}]
["value1813",{"$f":"VLOOKUP(A1814,LookupValues!A:B,2,FALSE)","v":220}]
["value1814",{"$f":"VLOOKUP(A1815,LookupValues!A:B,2,FALSE)","v":190}]
["value1815",{"$f":"VLOOKUP(A1816,LookupValues!A:B,2,FALSE)","v":376}]
["value1816",{"$f":"VLOOKUP(A1817,LookupValues!A:B,2,FALSE)","v":458}]
["value1817",{"$f":"VLOOKUP(A1818,LookupValues!A:B,2,FALSE)","v":932}]
["value1818",{"$f":"VLOOKUP(A1819,LookupValues!A:B,2,FALSE)","v":15}]
["value1819",{"$f":"VLOOKUP(A1820,LookupValues!A:B,2,FALSE)","v":298}]
["value1820",{"$f":"VLOOKUP(A1821,LookupValues!A:B,2,FALSE)","v":932}]
["value1821",{"$f":"VLOOKUP(A1822,LookupValues!A:B,2,FALSE)","v":725}]
["value1822",{"$f":"VLOOKUP(A1823,LookupValues!A:B,2,FALSE)","v":323}]
["value1823",{"$f":"VLOOKUP(A1824,LookupValues!A:B,2,FALSE)","v":522}]
["value1824",{"$f":"VLOOKUP(A1825,LookupValues!A:B,2,FALSE)","v":124}]
["value1825",{"$f":"VLOOKUP(A1826,LookupValues!A:B,2,FALSE)","v":327}]
["value1826",{"$f":"VLOOKUP(A1827,LookupValues!A:B,2,FALSE)","v":423}]
["value1827",{"$f":"VLOOKUP(A1828,LookupValues!A:B,2,FALSE)","v":747}]
["value1828",{"$f":"VLOOKUP(A1829,LookupValues!A:B,2,FALSE)","v":842}]
["value1829",{"$f":"VLOOKUP(A1830,LookupValues!A:B,2,FALSE)","v":855}]
["value1830",{"$f":"VLOOKUP(A1831,LookupValues!A:B,2,FALSE)","v":778}]
["value1831",{"$f":"VLOOKUP(A1832,LookupValues!A:B,2,FALSE)","v":909}]
["value1832",{"$f":"VLOOKUP(A1833,LookupValues!A:B,2,FALSE)","v":330}]
["value1833",{"$f":"VLOOKUP(A1834,LookupValues!A:B,2,FALSE)","v":797}]
["value1834",{"$f":"VLOOKUP(A1835,LookupValues!A:B,2,FALSE)","v":788}]
["value1835",{"$f":"VLOOKUP(A1836,LookupValues!A:B,2,FALSE)","v":38}]
["value1836",{"$f":"VLOOKUP(A1837,LookupValues!A:B,2,FALSE)","v":194}]
["value1837",{"$f":"VLOOKUP(A1838,LookupValues!A:B,2,FALSE)","v":738}]
["value1838",{"$f":"VLOOKUP(A1839,LookupValues!A:B,2,FALSE)","v":794}]
["value1839",{"$f":"VLOOKUP(A1840,LookupValues!A:B,2,FALSE)","v":593}]
["value1840",{"$f":"VLOOKUP(A1841,LookupValues!A:B,2,FALSE)","v":446}]
["value1841",{"$f":"VLOOKUP(A1842,LookupValues!A:B,2,FALSE)","v":933}]
["value1842",{"$f":"VLOOKUP(A1843,LookupValues!A:B,2,FALSE)","v":365}]
["value1843",{"$f":"VLOOKUP(A1844,LookupValues!A:B,2,FALSE)","v":51}]
["value1844",{"$f":"VLOOKUP(A1845,LookupValues!A:B,2,FALSE)","v":604}]
["value1845",{"$f":"VLOOKUP(A1846,LookupValues!A:B,2,FALSE)","v":913}]
["value1846",{"$f":"VLOOKUP(A1847,LookupValues!A:B,2,FALSE)","v":130}]
["value1847",{"$f":"VLOOKUP(A1848,LookupValues!A:B,2,FALSE)","v":392}]
["value1848",{"$f":"VLOOKUP(A1849,LookupValues!A:B,2,FALSE)","v":830}]
["value1849",{"$f":"VLOOKUP(A1850,LookupValues!A:B,2,FALSE)","v":447}]
["value1850",{"$f":"VLOOKUP(A1851,LookupValues!A:B,2,FALSE)","v":251}]
["value1851",{"$f":"VLOOKUP(A1852,LookupValues!A:B,2,FALSE)","v":964}]
["value1852",{"$f":"VLOOKUP(A1853,LookupValues!A:B,2,FALSE)","v":454}]
["value1853",{"$f":"VLOOKUP(A1854,LookupValues!A:B,2,FALSE)","v":313}]
["value1854",{"$f":"VLOOKUP(A1855,LookupValues!A:B,2,FALSE)","v":69}]
["value1855",{"$f":"VLOOKUP(A1856,LookupValues!A:B,2,FALSE)","v":83}]
["value1856",{"$f":"VLOOKUP(A1857,LookupValues!A:B,2,FALSE)","v":164}]
["value1857",{"$f":"VLOOKUP(A1858,LookupValues!A:B,2,FALSE)","v":620}]
["value1858",{"$f":"VLOOKUP(A1859,LookupValues!A:B,2,FALSE)","v":699}]
["value1859",{"$f":"VLOOKUP(A1860,LookupValues!A:B,2,FALSE)","v":779}]
["value1860",{"$f":"VLOOKUP(A1861,LookupValues!A:B,2,FALSE)","v":897}]
["value1861",{"$f":"VLOOKUP(A1862,LookupValues!A:B,2,FALSE)","v":709}]
["value1862",{"$f":"VLOOKUP(A1863,LookupValues!A:B,2,FALSE)","v":638}]
["value1863",{"$f":"VLOOKUP(A1864,LookupValues!A:B,2,FALSE)","v":23}]
["value1864",{"$f":"VLOOKUP(A1865,LookupValues!A:B,2,FALSE)","v":359}]
["value1865",{"$f":"VLOOKUP(A1866,LookupValues!A:B,2,FALSE)","v":653}]
["value1866",{"$f":"VLOOKUP(A1867,LookupValues!A:B,2,FALSE)","v":924}]
["value1867",{"$f":"VLOOKUP(A1868,LookupValues!A:B,2,FALSE)","v":855}]
["value1868",{"$f":"VLOOKUP(A1869,LookupValues!A:B,2,FALSE)","v":686}]
["value1869",{"$f":"VLOOKUP(A1870,LookupValues!A:B,2,FALSE)","v":310}]
["value1870",{"$f":"VLOOKUP(A1871,LookupValues!A:B,2,FALSE)","v":126}]
["value1871",{"$f":"VLOOKUP(A1872,LookupValues!A:B,2,FALSE)","v":459}]
["value1872",{"$f":"VLOOKUP(A1873,LookupValues!A:B,2,FALSE)","v":504}]
["value1873",{"$f":"VLOOKUP(A1874,LookupValues!A:B,2,FALSE)","v":494}]
["value1874",{"$f":"VLOOKUP(A1875,LookupValues!A:B,2,FALSE)","v":737}]
["value1875",{"$f":"VLOOKUP(A1876,LookupValues!A:B,2,FALSE)","v":843}]
["value1876",{"$f":"VLOOKUP(A1877,LookupValues!A:B,2,FALSE)","v":963}]
["value1877",{"$f":"VLOOKUP(A1878,LookupValues!A:B,2,FALSE)","v":771}]
["value1878",{"$f":"VLOOKUP(A1879,LookupValues!A:B,2,FALSE)","v":450}]
["value1879",{"$f":"VLOOKUP(A1880,LookupValues!A:B,2,FALSE)","v":39}]
["value1880",{"$f":"VLOOKUP(A1881,LookupValues!A:B,2,FALSE)","v":42}]
["value1881",{"$f":"VLOOKUP(A1882,LookupValues!A:B,2,FALSE)","v":791}]
["value1882",{"$f":"VLOOKUP(A1883,LookupValues!A:B,2,FALSE)","v":267}]
["value1883",{"$f":"VLOOKUP(A1884,LookupValues!A:B,2,FALSE)","v":746}]
["value1884",{"$f":"VLOOKUP(A1885,LookupValues!A:B,2,FALSE)","v":403}]
["value1885",{"$f":"VLOOKUP(A1886,LookupValues!A:B,2,FALSE)","v":104}]
["value1886",{"$f":"VLOOKUP(A1887,LookupValues!A:B,2,FALSE)","v":49}]
["value1887",{"$f":"VLOOKUP(A1888,LookupValues!A:B,2,FALSE)","v":781}]
["value1888",{"$f":"VLOOKUP(A1889,LookupValues!A:B,2,FALSE)","v":46}]
["value1889",{"$f":"VLOOKUP(A1890,LookupValues!A:B,2,FALSE)","v":194}]
["value1890",{"$f":"VLOOKUP(A1891,LookupValues!A:B,2,FALSE)","v":980}]
["value1891",{"$f":"VLOOKUP(A1892,LookupValues!A:B,2,FALSE)","v":14}]
["value1892",{"$f":"VLOOKUP(A1893,LookupValues!A:B,2,FALSE)","v":878}]
["value1893",{"$f":"VLOOKUP(A1894,LookupValues!A:B,2,FALSE)","v":723}]
["value1894",{"$f":"VLOOKUP(A1895,LookupValues!A:B,2,FALSE)","v":31}]
["value1895",{"$f":"VLOOKUP(A1896,LookupValues!A:B,2,FALSE)","v":227}]
["value1896",{"$f":"VLOOKUP(A1897,LookupValues!A:B,2,FALSE)","v":505}]
["value1897",{"$f":"VLOOKUP(A1898,LookupValues!A:B,2,FALSE)","v":131}]
["value1898",{"$f":"VLOOKUP(A1899,LookupValues!A:B,2,FALSE)","v":526}]
["value1899",{"$f":"VLOOKUP(A1900,LookupValues!A:B,2,FALSE)","v":601}]
["value1900",{"$f":"VLOOKUP(A1901,LookupValues!A:B,2,FALSE)","v":505}]
["value1901",{"$f":"VLOOKUP(A1902,LookupValues!A:B,2,FALSE)","v":927}]
["value1902",{"$f":"VLOOKUP(A1903,LookupValues!A:B,2,FALSE)","v":343}]
["value1903",{"$f":"VLOOKUP(A1904,LookupValues!A:B,2,FALSE)","v":132}]
["value1904",{"$f":"VLOOKUP(A1905,LookupValues!A:B,2,FALSE)","v":181}]
["value1905",{"$f":"VLOOKUP(A1906,LookupValues!A:B,2,FALSE)","v":458}]
["value1906",{"$f":"VLOOKUP(A1907,LookupValues!A:B,2,FALSE)","v":548}]
["value1907",{"$f":"VLOOKUP(A1908,LookupValues!A:B,2,FALSE)","v":73}]
["value1908",{"$f":"VLOOKUP(A1909,LookupValues!A:B,2,FALSE)","v":333}]
["value1909",{"$f":"VLOOKUP(A1910,LookupValues!A:B,2,FALSE)","v":507}]
["value1910",{"$f":"VLOOKUP(A1911,LookupValues!A:B,2,FALSE)","v":656}]
["value1911",{"$f":"VLOOKUP(A1912,LookupValues!A:B,2,FALSE)","v":615}]
["value1912",{"$f":"VLOOKUP(A1913,LookupValues!A:B,2,FALSE)","v":490}]
["value1913",{"$f":"VLOOKUP(A1914,LookupValues!A:B,2,FALSE)","v":66}]
["value1914",{"$f":"VLOOKUP(A1915,LookupValues!A:B,2,FALSE)","v":805}]
["value1915",{"$f":"VLOOKUP(A1916,LookupValues!A:B,2,FALSE)","v":630}]
["value1916",{"$f":"VLOOKUP(A1917,LookupValues!A:B,2,FALSE)","v":172}]
["value1917",{"$f":"VLOOKUP(A1918,LookupValues!A:B,2,FALSE)","v":9}]
["value1918",{"$f":"VLOOKUP(A1919,LookupValues!A:B,2,FALSE)","v":319}]
["value1919",{"$f":"VLOOKUP(A1920,LookupValues!A:B,2,FALSE)","v":176}]
["value1920",{"$f":"VLOOKUP(A1921,LookupValues!A:B,2,FALSE)","v":923}]
["value1921",{"$f":"VLOOKUP(A1922,LookupValues!A:B,2,FALSE)","v":978}]
["value1922",{"$f":"VLOOKUP(A1923,LookupValues!A:B,2,FALSE)","v":228}]
["value1923",{"$f":"VLOOKUP(A1924,LookupValues!A:B,2,FALSE)","v":615}]
["value1924",{"$f":"VLOOKUP(A1925,LookupValues!A:B,2,FALSE)","v":846}]
["value1925",{"$f":"VLOOKUP(A1926,LookupValues!A:B,2,FALSE)","v":839}]
["value1926",{"$f":"VLOOKUP(A1927,LookupValues!A:B,2,FALSE)","v":809}]
["value1927",{"$f":"VLOOKUP(A1928,LookupValues!A:B,2,FALSE)","v":431}]
["value1928",{"$f":"VLOOKUP(A1929,LookupValues!A:B,2,FALSE)","v":526}]
["value1929",{"$f":"VLOOKUP(A1930,LookupValues!A:B,2,FALSE)","v":160}]
["value1930",{"$f":"VLOOKUP(A1931,LookupValues!A:B,2,FALSE)","v":740}]
["value1931",{"$f":"VLOOKUP(A1932,LookupValues!A:B,2,FALSE)","v":10}]
["value1932",{"$f":"VLOOKUP(A1933,LookupValues!A:B,2,FALSE)","v":845}]
["value1933",{"$f":"VLOOKUP(A1934,LookupValues!A:B,2,FALSE)","v":947}]
["value1934",{"$f":"VLOOKUP(A1935,LookupValues!A:B,2,FALSE)","v":218}]
["value1935",{"$f":"VLOOKUP(A1936,LookupValues!A:B,2,FALSE)","v":826}]
["value1936",{"$f":"VLOOKUP(A1937,LookupValues!A:B,2,FALSE)","v":428}]
["value1937",{"$f":"VLOOKUP(A1938,LookupValues!A:B,2,FALSE)","v":18}]
["value1938",{"$f":"VLOOKUP(A1939,LookupValues!A:B,2,FALSE)","v":566}]
["value1939",{"$f":"VLOOKUP(A1940,LookupValues!A:B,2,FALSE)","v":949}]
["value1940",{"$f":"VLOOKUP(A1941,LookupValues!A:B,2,FALSE)","v":994}]
["value1941",{"$f":"VLOOKUP(A1942,LookupValues!A:B,2,FALSE)","v":818}]
["value1942",{"$f":"VLOOKUP(A1943,LookupValues!A:B,2,FALSE)","v":941}]
["value1943",{"$f":"VLOOKUP(A1944,LookupValues!A:B,2,FALSE)","v":554}]
["value1944",{"$f":"VLOOKUP(A1945,LookupValues!A:B,2,FALSE)","v":733}]
["value1945",{"$f":"VLOOKUP(A1946,LookupValues!A:B,2,FALSE)","v":676}]
["value1946",{"$f":"VLOOKUP(A1947,LookupValues!A:B,2,FALSE)","v":278}]
["value1947",{"$f":"VLOOKUP(A1948,LookupValues!A:B,2,FALSE)","v":20}]
["value1948",{"$f":"VLOOKUP(A1949,LookupValues!A:B,2,FALSE)","v":139}]
["value1949",{"$f":"VLOOKUP(A1950,LookupValues!A:B,2,FALSE)","v":719}]
["value1950",{"$f":"VLOOKUP(A1951,LookupValues!A:B,2,FALSE)","v":448}]
["value1951",{"$f":"VLOOKUP(A1952,LookupValues!A:B,2,FALSE)","v":522}]
["value1952",{"$f":"VLOOKUP(A1953,LookupValues!A:B,2,FALSE)","v":762}]
["value1953",{"$f":"VLOOKUP(A1954,LookupValues!A:B,2,FALSE)","v":226}]
["value1954",{"$f":"VLOOKUP(A1955,LookupValues!A:B,2,FALSE)","v":416}]
["value1955",{"$f":"VLOOKUP(A1956,LookupValues!A:B,2,FALSE)","v":503}]
["value1956",{"$f":"VLOOKUP(A1957,LookupValues!A:B,2,FALSE)","v":396}]
["value1957",{"$f":"VLOOKUP(A1958,LookupValues!A:B,2,FALSE)","v":695}]
["value1958",{"$f":"VLOOKUP(A1959,LookupValues!A:B,2,FALSE)","v":253}]
["value1959",{"$f":"VLOOKUP(A1960,LookupValues!A:B,2,FALSE)","v":19}]
["value1960",{"$f":"VLOOKUP(A1961,LookupValues!A:B,2,FALSE)","v":305}]
["value1961",{"$f":"VLOOKUP(A1962,LookupValues!A:B,2,FALSE)","v":289}]
["value1962",{"$f":"VLOOKUP(A1963,LookupValues!A:B,2,FALSE)","v":583}]
["value1963",{"$f":"VLOOKUP(A1964,LookupValues!A:B,2,FALSE)","v":649}]
["value1964",{"$f":"VLOOKUP(A1965,LookupValues!A:B,2,FALSE)","v":864}]
["value1965",{"$f":"VLOOKUP(A1966,LookupValues!A:B,2,FALSE)","v":998}]
["value1966",{"$f":"VLOOKUP(A1967,LookupValues!A:B,2,FALSE)","v":313}]
["value1967",{"$f":"VLOOKUP(A1968,LookupValues!A:B,2,FALSE)","v":578}]
["value1968",{"$f":"VLOOKUP(A1969,LookupValues!A:B,2,FALSE)","v":758}]
["value1969",{"$f":"VLOOKUP(A1970,LookupValues!A:B,2,FALSE)","v":48}]
["value1970",{"$f":"VLOOKUP(A1971,LookupValues!A:B,2,FALSE)","v":870}]
["value1971",{"$f":"VLOOKUP(A1972,LookupValues!A:B,2,FALSE)","v":225}]
["value1972",{"$f":"VLOOKUP(A1973,LookupValues!A:B,2,FALSE)","v":813}]
["value1973",{"$f":"VLOOKUP(A1974,LookupValues!A:B,2,FALSE)","v":152}]
["value1974",{"$f":"VLOOKUP(A1975,LookupValues!A:B,2,FALSE)","v":614}]
["value1975",{"$f":"VLOOKUP(A1976,LookupValues!A:B,2,FALSE)","v":937}]
["value1976",{"$f":"VLOOKUP(A1977,LookupValues!A:B,2,FALSE)","v":42}]
["value1977",{"$f":"VLOOKUP(A1978,LookupValues!A:B,2,FALSE)","v":511}]
["value1978",{"$f":"VLOOKUP(A1979,LookupValues!A:B,2,FALSE)","v":487}]
["value1979",{"$f":"VLOOKUP(A1980,LookupValues!A:B,2,FALSE)","v":915}]
["value1980",{"$f":"VLOOKUP(A1981,LookupValues!A:B,2,FALSE)","v":855}]
["value1981",{"$f":"VLOOKUP(A1982,LookupValues!A:B,2,FALSE)","v":735}]
["value1982",{"$f":"VLOOKUP(A1983,LookupValues!A:B,2,FALSE)","v":301}]
["value1983",{"$f":"VLOOKUP(A1984,LookupValues!A:B,2,FALSE)","v":185}]
["value1984",{"$f":"VLOOKUP(A1985,LookupValues!A:B,2,FALSE)","v":461}]
["value1985",{"$f":"VLOOKUP(A1986,LookupValues!A:B,2,FALSE)","v":713}]
["value1986",{"$f":"VLOOKUP(A1987,LookupValues!A:B,2,FALSE)","v":620}]
["value1987",{"$f":"VLOOKUP(A1988,LookupValues!A:B,2,FALSE)","v":319}]
["value1988",{"$f":"VLOOKUP(A1989,LookupValues!A:B,2,FALSE)","v":526}]
["value1989",{"$f":"VLOOKUP(A1990,LookupValues!A:B,2,FALSE)","v":307}]
["value1990",{"$f":"VLOOKUP(A1991,LookupValues!A:B,2,FALSE)","v":258}]
["value1991",{"$f":"VLOOKUP(A1992,LookupValues!A:B,2,FALSE)","v":871}]
["value1992",{"$f":"VLOOKUP(A1993,LookupValues!A:B,2,FALSE)","v":508}]
["value1993",{"$f":"VLOOKUP(A1994,LookupValues!A:B,2,FALSE)","v":907}]
["value1994",{"$f":"VLOOKUP(A1995,LookupValues!A:B,2,FALSE)","v":754}]
["value1995",{"$f":"VLOOKUP(A1996,LookupValues!A:B,2,FALSE)","v":229}]
["value1996",{"$f":"VLOOKUP(A1997,LookupValues!A:B,2,FALSE)","v":946}]
["value1997",{"$f":"VLOOKUP(A1998,LookupValues!A:B,2,FALSE)","v":109}]
["value1998",{"$f":"VLOOKUP(A1999,LookupValues!A:B,2,FALSE)","v":412}]
["value1999",{"$f":"VLOOKUP(A2000,LookupValues!A:B,2,FALSE)","v":338}]
["value2009",{"$f":"VLOOKUP(A2010,LookupValues!A:B,2,FALSE)","v":687}]
["value2064",{"$f":"VLOOKUP(A2065,LookupValues!A:B,2,FALSE)","v":575}]
["value2142",{"$f":"VLOOKUP(A2143,LookupValues!A:B,2,FALSE)","v":686}]
["value2161",{"$f":"VLOOKUP(A2162,LookupValues!A:B,2,FALSE)","v":848}]
["value2224",{"$f":"VLOOKUP(A2225,LookupValues!A:B,2,FALSE)","v":472}]
["value2267",{"$f":"VLOOKUP(A2268,LookupValues!A:B,2,FALSE)","v":569}]
["value2335",{"$f":"VLOOKUP(A2336,LookupValues!A:B,2,FALSE)","v":255}]
["value2364",{"$f":"VLOOKUP(A2365,LookupValues!A:B,2,FALSE)","v":691}]
["value2391",{"$f":"VLOOKUP(A2392,LookupValues!A:B,2,FALSE)","v":625}]
["value2460",{"$f":"VLOOKUP(A2461,LookupValues!A:B,2,FALSE)","v":573}]
["value2489",{"$f":"VLOOKUP(A2490,LookupValues!A:B,2,FALSE)","v":322}]
["value2557",{"$f":"VLOOKUP(A2558,LookupValues!A:B,2,FALSE)","v":907}]
["value2590",{"$f":"VLOOKUP(A2591,LookupValues!A:B,2,FALSE)","v":364}]
["value2663",{"$f":"VLOOKUP(A2664,LookupValues!A:B,2,FALSE)","v":649}]
["value2682",{"$f":"VLOOKUP(A2683,LookupValues!A:B,2,FALSE)","v":376}]
["value2760",{"$f":"VLOOKUP(A2761,LookupValues!A:B,2,FALSE)","v":427}]
["value2805",{"$f":"VLOOKUP(A2806,LookupValues!A:B,2,FALSE)","v":844}]
["value2856",{"$f":"VLOOKUP(A2857,LookupValues!A:B,2,FALSE)","v":173}]
["value2885",{"$f":"VLOOKUP(A2886,LookupValues!A:B,2,FALSE)","v":261}]
["value2953",{"$f":"VLOOKUP(A2954,LookupValues!A:B,2,FALSE)","v":500}]
["value3004",{"$f":"VLOOKUP(A3005,LookupValues!A:B,2,FALSE)","v":671}]
["value3049",{"$f":"VLOOKUP(A3050,LookupValues!A:B,2,FALSE)","v":306}]
["value3078",{"$f":"VLOOKUP(A3079,LookupValues!A:B,2,FALSE)","v":64}]
["value3156",{"$f":"VLOOKUP(A3157,LookupValues!A:B,2,FALSE)","v":663}]
["value3171",{"$f":"VLOOKUP(A3172,LookupValues!A:B,2,FALSE)","v":495}]
["value3252",{"$f":"VLOOKUP(A3253,LookupValues!A:B,2,FALSE)","v":798}]
["value3281",{"$f":"VLOOKUP(A3282,LookupValues!A:B,2,FALSE)","v":409}]
["value3349",{"$f":"VLOOKUP(A3350,LookupValues!A:B,2,FALSE)","v":118}]
["value3370",{"$f":"VLOOKUP(A3371,LookupValues!A:B,2,FALSE)","v":876}]
["value3445",{"$f":"VLOOKUP(A3446,LookupValues!A:B,2,FALSE)","v":767}]
["value3474",{"$f":"VLOOKUP(A3475,LookupValues!A:B,2,FALSE)","v":711}]
["value3552",{"$f":"VLOOKUP(A3553,LookupValues!A:B,2,FALSE)","v":957}]
["value3585",{"$f":"VLOOKUP(A3586,LookupValues!A:B,2,FALSE)","v":378}]
["value3648",{"$f":"VLOOKUP(A3649,LookupValues!A:B,2,FALSE)","v":769}]
["value3677",{"$f":"VLOOKUP(A3678,LookupValues!A:B,2,FALSE)","v":830}]
["value3745",{"$f":"VLOOKUP(A3746,LookupValues!A:B,2,FALSE)","v":133}]
["value3784",{"$f":"VLOOKUP(A3785,LookupValues!A:B,2,FALSE)","v":379}]
["value3841",{"$f":"VLOOKUP(A3842,LookupValues!A:B,2,FALSE)","v":164}]
["value3870",{"$f":"VLOOKUP(A3871,LookupValues!A:B,2,FALSE)","v":121}]
["value3948",{"$f":"VLOOKUP(A3949,LookupValues!A:B,2,FALSE)","v":400}]
["value3951",{"$f":"VLOOKUP(A3952,LookupValues!A:B,2,FALSE)","v":339}]
["value4044",{"$f":"VLOOKUP(A4045,LookupValues!A:B,2,FALSE)","v":656}]
["value4063",{"$f":"VLOOKUP(A4064,LookupValues!A:B,2,FALSE)","v":484}]
["value4141",{"$f":"VLOOKUP(A4142,LookupValues!A:B,2,FALSE)","v":773}]
["value4150",{"$f":"VLOOKUP(A4151,LookupValues!A:B,2,FALSE)","v":118}]
["value4237",{"$f":"VLOOKUP(A4238,LookupValues!A:B,2,FALSE)","v":878}]
["value4266",{"$f":"VLOOKUP(A4267,LookupValues!A:B,2,FALSE)","v":478}]
["value4295",{"$f":"VLOOKUP(A4296,LookupValues!A:B,2,FALSE)","v":610}]
["value4365",{"$f":"VLOOKUP(A4366,LookupValues!A:B,2,FALSE)","v":899}]
["value4391",{"$f":"VLOOKUP(A4392,LookupValues!A:B,2,FALSE)","v":140}]
["value4459",{"$f":"VLOOKUP(A4460,LookupValues!A:B,2,FALSE)","v":17}]
["value4488",{"$f":"VLOOKUP(A4489,LookupValues!A:B,2,FALSE)","v":139}]
["value4564",{"$f":"VLOOKUP(A4565,LookupValues!A:B,2,FALSE)","v":31}]
["value4584",{"$f":"VLOOKUP(A4585,LookupValues!A:B,2,FALSE)","v":425}]
["value4662",{"$f":"VLOOKUP(A4663,LookupValues!A:B,2,FALSE)","v":98}]
["value4681",{"$f":"VLOOKUP(A4682,LookupValues!A:B,2,FALSE)","v":895}]
["value4731",{"$f":"VLOOKUP(A4732,LookupValues!A:B,2,FALSE)","v":306}]
["value4787",{"$f":"VLOOKUP(A4788,LookupValues!A:B,2,FALSE)","v":419}]
["value4855",{"$f":"VLOOKUP(A4856,LookupValues!A:B,2,FALSE)","v":907}]
["value4884",{"$f":"VLOOKUP(A4885,LookupValues!A:B,2,FALSE)","v":210}]
["value4930",{"$f":"VLOOKUP(A4931,LookupValues!A:B,2,FALSE)","v":505}]
["value4980",{"$f":"VLOOKUP(A4981,LookupValues!A:B,2,FALSE)","v":173}]
["value5058",{"$f":"VLOOKUP(A5059,LookupValues!A:B,2,FALSE)","v":536}]
["value5077",{"$f":"VLOOKUP(A5078,LookupValues!A:B,2,FALSE)","v":380}]
["value5145",{"$f":"VLOOKUP(A5146,LookupValues!A:B,2,FALSE)","v":364}]
["value5183",{"$f":"VLOOKUP(A5184,LookupValues!A:B,2,FALSE)","v":830}]
["value5251",{"$f":"VLOOKUP(A5252,LookupValues!A:B,2,FALSE)","v":384}]
["value5280",{"$f":"VLOOKUP(A5281,LookupValues!A:B,2,FALSE)","v":898}]
["value5344",{"$f":"VLOOKUP(A5345,LookupValues!A:B,2,FALSE)","v":218}]
["value5376",{"$f":"VLOOKUP(A5377,LookupValues!A:B,2,FALSE)","v":7}]
["value5454",{"$f":"VLOOKUP(A5455,LookupValues!A:B,2,FALSE)","v":268}]
["value5473",{"$f":"VLOOKUP(A5474,LookupValues!A:B,2,FALSE)","v":102}]
["value5511",{"$f":"VLOOKUP(A5512,LookupValues!A:B,2,FALSE)","v":841}]
["value5579",{"$f":"VLOOKUP(A5580,LookupValues!A:B,2,FALSE)","v":781}]
["value5647",{"$f":"VLOOKUP(A5648,LookupValues!A:B,2,FALSE)","v":935}]
["value5676",{"$f":"VLOOKUP(A5677,LookupValues!A:B,2,FALSE)","v":210}]
["value5726",{"$f":"VLOOKUP(A5727,LookupValues!A:B,2,FALSE)","v":549}]
["value5772",{"$f":"VLOOKUP(A5773,LookupValues!A:B,2,FALSE)","v":507}]
["value5850",{"$f":"VLOOKUP(A5851,LookupValues!A:B,2,FALSE)","v":542}]
["value5869",{"$f":"VLOOKUP(A5870,LookupValues!A:B,2,FALSE)","v":342}]
["value5925",{"$f":"VLOOKUP(A5926,LookupValues!A:B,2,FALSE)","v":49}]
["value5975",{"$f":"VLOOKUP(A5976,LookupValues!A:B,2,FALSE)","v":206}]
["value6043",{"$f":"VLOOKUP(A6044,LookupValues!A:B,2,FALSE)","v":271}]
["value6072",{"$f":"VLOOKUP(A6073,LookupValues!A:B,2,FALSE)","v":95}]
["value6140",{"$f":"VLOOKUP(A6141,LookupValues!A:B,2,FALSE)","v":322}]
["value6168",{"$f":"VLOOKUP(A6169,LookupValues!A:B,2,FALSE)","v":949}]
["value6197",{"$f":"VLOOKUP(A6198,LookupValues!A:B,2,FALSE)","v":415}]
["value6265",{"$f":"VLOOKUP(A6266,LookupValues!A:B,2,FALSE)","v":723}]
["value6291",{"$f":"VLOOKUP(A6292,LookupValues!A:B,2,FALSE)","v":308}]
["value6371",{"$f":"VLOOKUP(A6372,LookupValues!A:B,2,FALSE)","v":78}]
["value6390",{"$f":"VLOOKUP(A6391,LookupValues!A:B,2,FALSE)","v":317}]
["value6468",{"$f":"VLOOKUP(A6469,LookupValues!A:B,2,FALSE)","v":352}]
["value6506",{"$f":"VLOOKUP(A6507,LookupValues!A:B,2,FALSE)","v":806}]
["value6564",{"$f":"VLOOKUP(A6565,LookupValues!A:B,2,FALSE)","v":320}]
["value6593",{"$f":"VLOOKUP(A6594,LookupValues!A:B,2,FALSE)","v":688}]
["value6661",{"$f":"VLOOKUP(A6662,LookupValues!A:B,2,FALSE)","v":613}]
["value6705",{"$f":"VLOOKUP(A6706,LookupValues!A:B,2,FALSE)","v":160}]
["value6757",{"$f":"VLOOKUP(A6758,LookupValues!A:B,2,FALSE)","v":91}]
["value6786",{"$f":"VLOOKUP(A6787,LookupValues!A:B,2,FALSE)","v":782}]
["value6864",{"$f":"VLOOKUP(A6865,LookupValues!A:B,2,FALSE)","v":292}]
["value6920",{"$f":"VLOOKUP(A6921,LookupValues!A:B,2,FALSE)","v":504}]
["value6960",{"$f":"VLOOKUP(A6961,LookupValues!A:B,2,FALSE)","v":506}]
["value6989",{"$f":"VLOOKUP(A6990,LookupValues!A:B,2,FALSE)","v":226}]
["value7057",{"$f":"VLOOKUP(A7058,LookupValues!A:B,2,FALSE)","v":176}]
["value7071",{"$f":"VLOOKUP(A7072,LookupValues!A:B,2,FALSE)","v":947}]
["value7153",{"$f":"VLOOKUP(A7154,LookupValues!A:B,2,FALSE)","v":201}]
["value7182",{"$f":"VLOOKUP(A7183,LookupValues!A:B,2,FALSE)","v":388}]
["value7260",{"$f":"VLOOKUP(A7261,LookupValues!A:B,2,FALSE)","v":640}]
["value7286",{"$f":"VLOOKUP(A7287,LookupValues!A:B,2,FALSE)","v":239}]
["value7356",{"$f":"VLOOKUP(A7357,LookupValues!A:B,2,FALSE)","v":366}]
["value7375",{"$f":"VLOOKUP(A7376,LookupValues!A:B,2,FALSE)","v":18}]
["value7453",{"$f":"VLOOKUP(A7454,LookupValues!A:B,2,FALSE)","v":236}]
["value7485",{"$f":"VLOOKUP(A7486,LookupValues!A:B,2,FALSE)","v":22}]
["value7549",{"$f":"VLOOKUP(A7550,LookupValues!A:B,2,FALSE)","v":148}]
["value7578",{"$f":"VLOOKUP(A7579,LookupValues!A:B,2,FALSE)","v":853}]
["value7607",{"$f":"VLOOKUP(A7608,LookupValues!A:B,2,FALSE)","v":210}]
["value7700",{"$f":"VLOOKUP(A7701,LookupValues!A:B,2,FALSE)","v":120}]
["value7703",{"$f":"VLOOKUP(A7704,LookupValues!A:B,2,FALSE)","v":513}]
["value7771",{"$f":"VLOOKUP(A7772,LookupValues!A:B,2,FALSE)","v":291}]
["value7849",{"$f":"VLOOKUP(A7850,LookupValues!A:B,2,FALSE)","v":669}]
["value7851",{"$f":"VLOOKUP(A7852,LookupValues!A:B,2,FALSE)","v":769}]
["value7945",{"$f":"VLOOKUP(A7946,LookupValues!A:B,2,FALSE)","v":483}]
["value7974",{"$f":"VLOOKUP(A7975,LookupValues!A:B,2,FALSE)","v":926}]
["value8003",{"$f":"VLOOKUP(A8004,LookupValues!A:B,2,FALSE)","v":784}]
["value8066",{"$f":"VLOOKUP(A8067,LookupValues!A:B,2,FALSE)","v":581}]
["value8099",{"$f":"VLOOKUP(A8100,LookupValues!A:B,2,FALSE)","v":988}]
["value8167",{"$f":"VLOOKUP(A8168,LookupValues!A:B,2,FALSE)","v":908}]
["value8196",{"$f":"VLOOKUP(A8197,LookupValues!A:B,2,FALSE)","v":627}]
["value8265",{"$f":"VLOOKUP(A8266,LookupValues!A:B,2,FALSE)","v":760}]
["value8292",{"$f":"VLOOKUP(A8293,LookupValues!A:B,2,FALSE)","v":227}]
["value8370",{"$f":"VLOOKUP(A8371,LookupValues!A:B,2,FALSE)","v":436}]
["value8389",{"$f":"VLOOKUP(A8390,LookupValues!A:B,2,FALSE)","v":889}]
["value8480",{"$f":"VLOOKUP(A8481,LookupValues!A:B,2,FALSE)","v":360}]
["value8495",{"$f":"VLOOKUP(A8496,LookupValues!A:B,2,FALSE)","v":118}]
["value8563",{"$f":"VLOOKUP(A8564,LookupValues!A:B,2,FALSE)","v":379}]
["value8592",{"$f":"VLOOKUP(A8593,LookupValues!A:B,2,FALSE)","v":446}]
["value8631",{"$f":"VLOOKUP(A8632,LookupValues!A:B,2,FALSE)","v":571}]
["value8688",{"$f":"VLOOKUP(A8689,LookupValues!A:B,2,FALSE)","v":228}]
["value8766",{"$f":"VLOOKUP(A8767,LookupValues!A:B,2,FALSE)","v":108}]
["value8785",{"$f":"VLOOKUP(A8786,LookupValues!A:B,2,FALSE)","v":86}]
["value8846",{"$f":"VLOOKUP(A8847,LookupValues!A:B,2,FALSE)","v":909}]
["value8891",{"$f":"VLOOKUP(A8892,LookupValues!A:B,2,FALSE)","v":556}]
["value8959",{"$f":"VLOOKUP(A8960,LookupValues!A:B,2,FALSE)","v":500}]
["value8988",{"$f":"VLOOKUP(A8989,LookupValues!A:B,2,FALSE)","v":521}]
["value9061",{"$f":"VLOOKUP(A9062,LookupValues!A:B,2,FALSE)","v":97}]
["value9084",{"$f":"VLOOKUP(A9085,LookupValues!A:B,2,FALSE)","v":946}]
["value9162",{"$f":"VLOOKUP(A9163,LookupValues!A:B,2,FALSE)","v":37}]
["value9181",{"$f":"VLOOKUP(A9182,LookupValues!A:B,2,FALSE)","v":462}]
["value9260",{"$f":"VLOOKUP(A9261,LookupValues!A:B,2,FALSE)","v":715}]
["value9287",{"$f":"VLOOKUP(A9288,LookupValues!A:B,2,FALSE)","v":836}]
["value9355",{"$f":"VLOOKUP(A9356,LookupValues!A:B,2,FALSE)","v":725}]
["value9384",{"$f":"VLOOKUP(A9385,LookupValues!A:B,2,FALSE)","v":372}]
["value9427",{"$f":"VLOOKUP(A9428,LookupValues!A:B,2,FALSE)","v":993}]
["value9480",{"$f":"VLOOKUP(A9481,LookupValues!A:B,2,FALSE)","v":948}]
["value9509",{"$f":"VLOOKUP(A9510,LookupValues!A:B,2,FALSE)","v":388}]
["value9577",{"$f":"VLOOKUP(A9578,LookupValues!A:B,2,FALSE)","v":703}]
["value9626",{"$f":"VLOOKUP(A9627,LookupValues!A:B,2,FALSE)","v":975}]
["value9683",{"$f":"VLOOKUP(A9684,LookupValues!A:B,2,FALSE)","v":641}]
["value9702",{"$f":"VLOOKUP(A9703,LookupValues!A:B,2,FALSE)","v":340}]
["value9780",{"$f":"VLOOKUP(A9781,LookupValues!A:B,2,FALSE)","v":804}]
["value9841",{"$f":"VLOOKUP(A9842,LookupValues!A:B,2,FALSE)","v":247}]
["value9876",{"$f":"VLOOKUP(A9877,LookupValues!A:B,2,FALSE)","v":51}]
["value9905",{"$f":"VLOOKUP(A9906,LookupValues!A:B,2,FALSE)","v":472}]
["value9973",{"$f":"VLOOKUP(A9974,LookupValues!A:B,2,FALSE)","v":657}]
["value40",{"$f":"VLOOKUP(A10041,LookupValues!A:B,2,FALSE)","v":705}]
["value69",{"$f":"VLOOKUP(A10070,LookupValues!A:B,2,FALSE)","v":206}]
["value98",{"$f":"VLOOKUP(A10099,LookupValues!A:B,2,FALSE)","v":64}]
["value176",{"$f":"VLOOKUP(A10177,LookupValues!A:B,2,FALSE)","v":565}]
["value207",{"$f":"VLOOKUP(A10208,LookupValues!A:B,2,FALSE)","v":802}]
["value272",{"$f":"VLOOKUP(A10273,LookupValues!A:B,2,FALSE)","v":593}]
["value301",{"$f":"VLOOKUP(A10302,LookupValues!A:B,2,FALSE)","v":916}]
["value369",{"$f":"VLOOKUP(A10370,LookupValues!A:B,2,FALSE)","v":801}]
["value406",{"$f":"VLOOKUP(A10407,LookupValues!A:B,2,FALSE)","v":112}]
["value465",{"$f":"VLOOKUP(A10466,LookupValues!A:B,2,FALSE)","v":555}]
["value494",{"$f":"VLOOKUP(A10495,LookupValues!A:B,2,FALSE)","v":134}]
["value572",{"$f":"VLOOKUP(A10573,LookupValues!A:B,2,FALSE)","v":96}]
["value621",{"$f":"VLOOKUP(A10622,LookupValues!A:B,2,FALSE)","v":495}]
["value668",{"$f":"VLOOKUP(A10669,LookupValues!A:B,2,FALSE)","v":180}]
["value697",{"$f":"VLOOKUP(A10698,LookupValues!A:B,2,FALSE)","v":988}]
["value765",{"$f":"VLOOKUP(A10766,LookupValues!A:B,2,FALSE)","v":16}]
["value820",{"$f":"VLOOKUP(A10821,LookupValues!A:B,2,FALSE)","v":723}]
["value861",{"$f":"VLOOKUP(A10862,LookupValues!A:B,2,FALSE)","v":796}]
["value890",{"$f":"VLOOKUP(A10891,LookupValues!A:B,2,FALSE)","v":811}]
["value968",{"$f":"VLOOKUP(A10969,LookupValues!A:B,2,FALSE)","v":222}]
["value987",{"$f":"VLOOKUP(A10988,LookupValues!A:B,2,FALSE)","v":428}]
["value1064",{"$f":"VLOOKUP(A11065,LookupValues!A:B,2,FALSE)","v":713}]
["value1083",{"$f":"VLOOKUP(A11084,LookupValues!A:B,2,FALSE)","v":167}]
["value1161",{"$f":"VLOOKUP(A11162,LookupValues!A:B,2,FALSE)","v":111}]
["value1186",{"$f":"VLOOKUP(A11187,LookupValues!A:B,2,FALSE)","v":616}]
["value1257",{"$f":"VLOOKUP(A11258,LookupValues!A:B,2,FALSE)","v":792}]
["value1286",{"$f":"VLOOKUP(A11287,LookupValues!A:B,2,FALSE)","v":804}]
["value1315",{"$f":"VLOOKUP(A11316,LookupValues!A:B,2,FALSE)","v":553}]
["value1401",{"$f":"VLOOKUP(A11402,LookupValues!A:B,2,FALSE)","v":453}]
["value1411",{"$f":"VLOOKUP(A11412,LookupValues!A:B,2,FALSE)","v":196}]
["value1479",{"$f":"VLOOKUP(A11480,LookupValues!A:B,2,FALSE)","v":340}]
["value1508",{"$f":"VLOOKUP(A11509,LookupValues!A:B,2,FALSE)","v":129}]
["value1600",{"$f":"VLOOKUP(A11601,LookupValues!A:B,2,FALSE)","v":916}]
["value1604",{"$f":"VLOOKUP(A11605,LookupValues!A:B,2,FALSE)","v":502}]
["value1682",{"$f":"VLOOKUP(A11683,LookupValues!A:B,2,FALSE)","v":327}]
["value1701",{"$f":"VLOOKUP(A11702,LookupValues!A:B,2,FALSE)","v":678}]
["value1767",{"$f":"VLOOKUP(A11768,LookupValues!A:B,2,FALSE)","v":160}]
["value1807",{"$f":"VLOOKUP(A11808,LookupValues!A:B,2,FALSE)","v":676}]
["value1875",{"$f":"VLOOKUP(A11876,LookupValues!A:B,2,FALSE)","v":843}]
["value1904",{"$f":"VLOOKUP(A11905,LookupValues!A:B,2,FALSE)","v":181}]
["value1966",{"$f":"VLOOKUP(A11967,LookupValues!A:B,2,FALSE)","v":313}]
["value2000",{"$f":"VLOOKUP(A12001,LookupValues!A:B,2,FALSE)","v":38}]
["value2078",{"$f":"VLOOKUP(A12079,LookupValues!A:B,2,FALSE)","v":817}]
["value2097",{"$f":"VLOOKUP(A12098,LookupValues!A:B,2,FALSE)","v":308}]
["value2181",{"$f":"VLOOKUP(A12182,LookupValues!A:B,2,FALSE)","v":43}]
["value2203",{"$f":"VLOOKUP(A12204,LookupValues!A:B,2,FALSE)","v":513}]
["value2271",{"$f":"VLOOKUP(A12272,LookupValues!A:B,2,FALSE)","v":790}]
["value2300",{"$f":"VLOOKUP(A12301,LookupValues!A:B,2,FALSE)","v":478}]
["value2380",{"$f":"VLOOKUP(A12381,LookupValues!A:B,2,FALSE)","v":660}]
["value2396",{"$f":"VLOOKUP(A12397,LookupValues!A:B,2,FALSE)","v":731}]
["value2474",{"$f":"VLOOKUP(A12475,LookupValues!A:B,2,FALSE)","v":905}]
["value2493",{"$f":"VLOOKUP(A12494,LookupValues!A:B,2,FALSE)","v":625}]
["value2547",{"$f":"VLOOKUP(A12548,LookupValues!A:B,2,FALSE)","v":60}]
["value2599",{"$f":"VLOOKUP(A12600,LookupValues!A:B,2,FALSE)","v":132}]
["value2667",{"$f":"VLOOKUP(A12668,LookupValues!A:B,2,FALSE)","v":538}]
["value2696",{"$f":"VLOOKUP(A12697,LookupValues!A:B,2,FALSE)","v":296}]
["value2762",{"$f":"VLOOKUP(A12763,LookupValues!A:B,2,FALSE)","v":879}]
["value2792",{"$f":"VLOOKUP(A12793,LookupValues!A:B,2,FALSE)","v":83}]
["value2870",{"$f":"VLOOKUP(A12871,LookupValues!A:B,2,FALSE)","v":810}]
["value2889",{"$f":"VLOOKUP(A12890,LookupValues!A:B,2,FALSE)","v":102}]
["value2961",{"$f":"VLOOKUP(A12962,LookupValues!A:B,2,FALSE)","v":313}]
["value2995",{"$f":"VLOOKUP(A12996,LookupValues!A:B,2,FALSE)","v":676}]
["value3063",{"$f":"VLOOKUP(A13064,LookupValues!A:B,2,FALSE)","v":800}]
["value3092",{"$f":"VLOOKUP(A13093,LookupValues!A:B,2,FALSE)","v":806}]
["value3128",{"$f":"VLOOKUP(A13129,LookupValues!A:B,2,FALSE)","v":241}]
["value3188",{"$f":"VLOOKUP(A13189,LookupValues!A:B,2,FALSE)","v":38}]
["value3217",{"$f":"VLOOKUP(A13218,LookupValues!A:B,2,FALSE)","v":66}]
["value3285",{"$f":"VLOOKUP(A13286,LookupValues!A:B,2,FALSE)","v":788}]
["value3327",{"$f":"VLOOKUP(A13328,LookupValues!A:B,2,FALSE)","v":906}]
["value3391",{"$f":"VLOOKUP(A13392,LookupValues!A:B,2,FALSE)","v":580}]
["value3410",{"$f":"VLOOKUP(A13411,LookupValues!A:B,2,FALSE)","v":85}]
["value3488",{"$f":"VLOOKUP(A13489,LookupValues!A:B,2,FALSE)","v":233}]
["value3542",{"$f":"VLOOKUP(A13543,LookupValues!A:B,2,FALSE)","v":977}]
["value3584",{"$f":"VLOOKUP(A13585,LookupValues!A:B,2,FALSE)","v":975}]
["value3613",{"$f":"VLOOKUP(A13614,LookupValues!A:B,2,FALSE)","v":482}]
["value3681",{"$f":"VLOOKUP(A13682,LookupValues!A:B,2,FALSE)","v":964}]
["value3741",{"$f":"VLOOKUP(A13742,LookupValues!A:B,2,FALSE)","v":98}]
["value3777",{"$f":"VLOOKUP(A13778,LookupValues!A:B,2,FALSE)","v":553}]
["value3806",{"$f":"VLOOKUP(A13807,LookupValues!A:B,2,FALSE)","v":70}]
["value3884",{"$f":"VLOOKUP(A13885,LookupValues!A:B,2,FALSE)","v":73}]
["value3908",{"$f":"VLOOKUP(A13909,LookupValues!A:B,2,FALSE)","v":560}]
["value3980",{"$f":"VLOOKUP(A13981,LookupValues!A:B,2,FALSE)","v":166}]
["value4009",{"$f":"VLOOKUP(A14010,LookupValues!A:B,2,FALSE)","v":953}]
["value4077",{"$f":"VLOOKUP(A14078,LookupValues!A:B,2,FALSE)","v":509}]
["value4107",{"$f":"VLOOKUP(A14108,LookupValues!A:B,2,FALSE)","v":967}]
["value4173",{"$f":"VLOOKUP(A14174,LookupValues!A:B,2,FALSE)","v":807}]
["value4202",{"$f":"VLOOKUP(A14203,LookupValues!A:B,2,FALSE)","v":961}]
["value4280",{"$f":"VLOOKUP(A14281,LookupValues!A:B,2,FALSE)","v":892}]
["value4322",{"$f":"VLOOKUP(A14323,LookupValues!A:B,2,FALSE)","v":828}]
["value4376",{"$f":"VLOOKUP(A14377,LookupValues!A:B,2,FALSE)","v":403}]
["value4395",{"$f":"VLOOKUP(A14396,LookupValues!A:B,2,FALSE)","v":387}]
["value4473",{"$f":"VLOOKUP(A14474,LookupValues!A:B,2,FALSE)","v":866}]
["value4521",{"$f":"VLOOKUP(A14522,LookupValues!A:B,2,FALSE)","v":755}]
["value4569",{"$f":"VLOOKUP(A14570,LookupValues!A:B,2,FALSE)","v":777}]
["value4598",{"$f":"VLOOKUP(A14599,LookupValues!A:B,2,FALSE)","v":134}]
["value4627",{"$f":"VLOOKUP(A14628,LookupValues!A:B,2,FALSE)","v":346}]
["value4688",{"$f":"VLOOKUP(A14689,LookupValues!A:B,2,FALSE)","v":219}]
["value4723",{"$f":"VLOOKUP(A14724,LookupValues!A:B,2,FALSE)","v":607}]
["value4791",{"$f":"VLOOKUP(A14792,LookupValues!A:B,2,FALSE)","v":787}]
["value4869",{"$f":"VLOOKUP(A14870,LookupValues!A:B,2,FALSE)","v":765}]
["value4887",{"$f":"VLOOKUP(A14888,LookupValues!A:B,2,FALSE)","v":700}]
["value4965",{"$f":"VLOOKUP(A14966,LookupValues!A:B,2,FALSE)","v":915}]
["value4994",{"$f":"VLOOKUP(A14995,LookupValues!A:B,2,FALSE)","v":981}]
["value5023",{"$f":"VLOOKUP(A15024,LookupValues!A:B,2,FALSE)","v":31}]
["value5102",{"$f":"VLOOKUP(A15103,LookupValues!A:B,2,FALSE)","v":291}]
["value5119",{"$f":"VLOOKUP(A15120,LookupValues!A:B,2,FALSE)","v":809}]
["value5187",{"$f":"VLOOKUP(A15188,LookupValues!A:B,2,FALSE)","v":594}]
["value5216",{"$f":"VLOOKUP(A15217,LookupValues!A:B,2,FALSE)","v":1}]
["value5301",{"$f":"VLOOKUP(A15302,LookupValues!A:B,2,FALSE)","v":531}]
["value5312",{"$f":"VLOOKUP(A15313,LookupValues!A:B,2,FALSE)","v":1000}]
["value5390",{"$f":"VLOOKUP(A15391,LookupValues!A:B,2,FALSE)","v":727}]
["value5409",{"$f":"VLOOKUP(A15410,LookupValues!A:B,2,FALSE)","v":829}]
["value5468",{"$f":"VLOOKUP(A15469,LookupValues!A:B,2,FALSE)","v":898}]
["value5515",{"$f":"VLOOKUP(A15516,LookupValues!A:B,2,FALSE)","v":943}]
["value5583",{"$f":"VLOOKUP(A15584,LookupValues!A:B,2,FALSE)","v":434}]
["value5612",{"$f":"VLOOKUP(A15613,LookupValues!A:B,2,FALSE)","v":915}]
["value5667",{"$f":"VLOOKUP(A15668,LookupValues!A:B,2,FALSE)","v":398}]
["value5708",{"$f":"VLOOKUP(A15709,LookupValues!A:B,2,FALSE)","v":288}]
["value5786",{"$f":"VLOOKUP(A15787,LookupValues!A:B,2,FALSE)","v":238}]
["value5805",{"$f":"VLOOKUP(A15806,LookupValues!A:B,2,FALSE)","v":724}]
["value5882",{"$f":"VLOOKUP(A15883,LookupValues!A:B,2,FALSE)","v":967}]
["value5911",{"$f":"VLOOKUP(A15912,LookupValues!A:B,2,FALSE)","v":702}]
["value5979",{"$f":"VLOOKUP(A15980,LookupValues!A:B,2,FALSE)","v":337}]
["value6008",{"$f":"VLOOKUP(A16009,LookupValues!A:B,2,FALSE)","v":519}]
["value6049",{"$f":"VLOOKUP(A16050,LookupValues!A:B,2,FALSE)","v":217}]
["value6104",{"$f":"VLOOKUP(A16105,LookupValues!A:B,2,FALSE)","v":430}]
["value6182",{"$f":"VLOOKUP(A16183,LookupValues!A:B,2,FALSE)","v":980}]
["value6201",{"$f":"VLOOKUP(A16202,LookupValues!A:B,2,FALSE)","v":820}]
["value6248",{"$f":"VLOOKUP(A16249,LookupValues!A:B,2,FALSE)","v":801}]
["value6307",{"$f":"VLOOKUP(A16308,LookupValues!A:B,2,FALSE)","v":7}]
["value6375",{"$f":"VLOOKUP(A16376,LookupValues!A:B,2,FALSE)","v":455}]
["value6404",{"$f":"VLOOKUP(A16405,LookupValues!A:B,2,FALSE)","v":367}]
["value6463",{"$f":"VLOOKUP(A16464,LookupValues!A:B,2,FALSE)","v":121}]
["value6500",{"$f":"VLOOKUP(A16501,LookupValues!A:B,2,FALSE)","v":573}]
["value6529",{"$f":"VLOOKUP(A16530,LookupValues!A:B,2,FALSE)","v":593}]
["value6597",{"$f":"VLOOKUP(A16598,LookupValues!A:B,2,FALSE)","v":531}]
["value6662",{"$f":"VLOOKUP(A16663,LookupValues!A:B,2,FALSE)","v":857}]
["value6703",{"$f":"VLOOKUP(A16704,LookupValues!A:B,2,FALSE)","v":676}]
["value6722",{"$f":"VLOOKUP(A16723,LookupValues!A:B,2,FALSE)","v":646}]
["value6800",{"$f":"VLOOKUP(A16801,LookupValues!A:B,2,FALSE)","v":182}]
["value6829",{"$f":"VLOOKUP(A16830,LookupValues!A:B,2,FALSE)","v":943}]
["value6896",{"$f":"VLOOKUP(A16897,LookupValues!A:B,2,FALSE)","v":133}]
["value6925",{"$f":"VLOOKUP(A16926,LookupValues!A:B,2,FALSE)","v":284}]
["value6993",{"$f":"VLOOKUP(A16994,LookupValues!A:B,2,FALSE)","v":940}]
["value7028",{"$f":"VLOOKUP(A17029,LookupValues!A:B,2,FALSE)","v":125}]
["value7089",{"$f":"VLOOKUP(A17090,LookupValues!A:B,2,FALSE)","v":496}]
["value7118",{"$f":"VLOOKUP(A17119,LookupValues!A:B,2,FALSE)","v":670}]
["value7196",{"$f":"VLOOKUP(A17197,LookupValues!A:B,2,FALSE)","v":836}]
["value7243",{"$f":"VLOOKUP(A17244,LookupValues!A:B,2,FALSE)","v":91}]
["value7292",{"$f":"VLOOKUP(A17293,LookupValues!A:B,2,FALSE)","v":425}]
["value7321",{"$f":"VLOOKUP(A17322,LookupValues!A:B,2,FALSE)","v":763}]
["value7389",{"$f":"VLOOKUP(A17390,LookupValues!A:B,2,FALSE)","v":483}]
["value7442",{"$f":"VLOOKUP(A17443,LookupValues!A:B,2,FALSE)","v":880}]
["value7485",{"$f":"VLOOKUP(A17486,LookupValues!A:B,2,FALSE)","v":22}]
["value7514",{"$f":"VLOOKUP(A17515,LookupValues!A:B,2,FALSE)","v":784}]
["value7592",{"$f":"VLOOKUP(A17593,LookupValues!A:B,2,FALSE)","v":450}]
["value7609",{"$f":"VLOOKUP(A17610,LookupValues!A:B,2,FALSE)","v":155}]
["value7688",{"$f":"VLOOKUP(A17689,LookupValues!A:B,2,FALSE)","v":124}]
["value7717",{"$f":"VLOOKUP(A17718,LookupValues!A:B,2,FALSE)","v":120}]
["value7785",{"$f":"VLOOKUP(A17786,LookupValues!A:B,2,FALSE)","v":54}]
["value7808",{"$f":"VLOOKUP(A17809,LookupValues!A:B,2,FALSE)","v":49}]
["value7881",{"$f":"VLOOKUP(A17882,LookupValues!A:B,2,FALSE)","v":104}]
["value7910",{"$f":"VLOOKUP(A17911,LookupValues!A:B,2,FALSE)","v":550}]
["value7988",{"$f":"VLOOKUP(A17989,LookupValues!A:B,2,FALSE)","v":825}]
["value8023",{"$f":"VLOOKUP(A18024,LookupValues!A:B,2,FALSE)","v":931}]
["value8084",{"$f":"VLOOKUP(A18085,LookupValues!A:B,2,FALSE)","v":374}]
["value8103",{"$f":"VLOOKUP(A18104,LookupValues!A:B,2,FALSE)","v":601}]
["value8181",{"$f":"VLOOKUP(A18182,LookupValues!A:B,2,FALSE)","v":775}]
["value8222",{"$f":"VLOOKUP(A18223,LookupValues!A:B,2,FALSE)","v":76}]
["value8277",{"$f":"VLOOKUP(A18278,LookupValues!A:B,2,FALSE)","v":773}]
["value8306",{"$f":"VLOOKUP(A18307,LookupValues!A:B,2,FALSE)","v":245}]
["value8335",{"$f":"VLOOKUP(A18336,LookupValues!A:B,2,FALSE)","v":157}]
["value8389",{"$f":"VLOOKUP(A18390,LookupValues!A:B,2,FALSE)","v":889}]
["value8431",{"$f":"VLOOKUP(A18432,LookupValues!A:B,2,FALSE)","v":481}]
["value8499",{"$f":"VLOOKUP(A18500,LookupValues!A:B,2,FALSE)","v":154}]
["value8528",{"$f":"VLOOKUP(A18529,LookupValues!A:B,2,FALSE)","v":522}]
["value8588",{"$f":"VLOOKUP(A18589,LookupValues!A:B,2,FALSE)","v":700}]
["value8624",{"$f":"VLOOKUP(A18625,LookupValues!A:B,2,FALSE)","v":875}]
["value8702",{"$f":"VLOOKUP(A18703,LookupValues!A:B,2,FALSE)","v":135}]
["value8721",{"$f":"VLOOKUP(A18722,LookupValues!A:B,2,FALSE)","v":45}]
["value8803",{"$f":"VLOOKUP(A18804,LookupValues!A:B,2,FALSE)","v":66}]
["value8827",{"$f":"VLOOKUP(A18828,LookupValues!A:B,2,FALSE)","v":897}]
["value8895",{"$f":"VLOOKUP(A18896,LookupValues!A:B,2,FALSE)","v":461}]
["value8924",{"$f":"VLOOKUP(A18925,LookupValues!A:B,2,FALSE)","v":520}]
["value9002",{"$f":"VLOOKUP(A19003,LookupValues!A:B,2,FALSE)","v":483}]
["value9020",{"$f":"VLOOKUP(A19021,LookupValues!A:B,2,FALSE)","v":106}]
["value9098",{"$f":"VLOOKUP(A19099,LookupValues!A:B,2,FALSE)","v":20}]
["value9117",{"$f":"VLOOKUP(A19118,LookupValues!A:B,2,FALSE)","v":508}]
["value9169",{"$f":"VLOOKUP(A19170,LookupValues!A:B,2,FALSE)","v":839}]
["value9223",{"$f":"VLOOKUP(A19224,LookupValues!A:B,2,FALSE)","v":850}]
["value9291",{"$f":"VLOOKUP(A19292,LookupValues!A:B,2,FALSE)","v":58}]
["value9320",{"$f":"VLOOKUP(A19321,LookupValues!A:B,2,FALSE)","v":374}]
["value9368",{"$f":"VLOOKUP(A19369,LookupValues!A:B,2,FALSE)","v":481}]
["value9416",{"$f":"VLOOKUP(A19417,LookupValues!A:B,2,FALSE)","v":635}]
["value9494",{"$f":"VLOOKUP(A19495,LookupValues!A:B,2,FALSE)","v":265}]
["value9513",{"$f":"VLOOKUP(A19514,LookupValues!A:B,2,FALSE)","v":663}]
["value9583",{"$f":"VLOOKUP(A19584,LookupValues!A:B,2,FALSE)","v":179}]
["value9619",{"$f":"VLOOKUP(A19620,LookupValues!A:B,2,FALSE)","v":567}]
["value9687",{"$f":"VLOOKUP(A19688,LookupValues!A:B,2,FALSE)","v":286}]
["value9716",{"$f":"VLOOKUP(A19717,LookupValues!A:B,2,FALSE)","v":109}]
["value9750",{"$f":"VLOOKUP(A19751,LookupValues!A:B,2,FALSE)","v":438}]
["value9812",{"$f":"VLOOKUP(A19813,LookupValues!A:B,2,FALSE)","v":544}]
["value9890",{"$f":"VLOOKUP(A19891,LookupValues!A:B,2,FALSE)","v":368}]
["value9909",{"$f":"VLOOKUP(A19910,LookupValues!A:B,2,FALSE)","v":882}]
["value9949",{"$f":"VLOOKUP(A19950,LookupValues!A:B,2,FALSE)","v":624}]
["value15",{"$f":"VLOOKUP(A20016,LookupValues!A:B,2,FALSE)","v":330}]
["value83",{"$f":"VLOOKUP(A20084,LookupValues!A:B,2,FALSE)","v":419}]
["value112",{"$f":"VLOOKUP(A20113,LookupValues!A:B,2,FALSE)","v":951}]
["value164",{"$f":"VLOOKUP(A20165,LookupValues!A:B,2,FALSE)","v":406}]
["value208",{"$f":"VLOOKUP(A20209,LookupValues!A:B,2,FALSE)","v":872}]
["value237",{"$f":"VLOOKUP(A20238,LookupValues!A:B,2,FALSE)","v":449}]
["value305",{"$f":"VLOOKUP(A20306,LookupValues!A:B,2,FALSE)","v":992}]
["value363",{"$f":"VLOOKUP(A20364,LookupValues!A:B,2,FALSE)","v":639}]
["value401",{"$f":"VLOOKUP(A20402,LookupValues!A:B,2,FALSE)","v":724}]
["value430",{"$f":"VLOOKUP(A20431,LookupValues!A:B,2,FALSE)","v":695}]
["value508",{"$f":"VLOOKUP(A20509,LookupValues!A:B,2,FALSE)","v":797}]
["value530",{"$f":"VLOOKUP(A20531,LookupValues!A:B,2,FALSE)","v":19}]
["value604",{"$f":"VLOOKUP(A20605,LookupValues!A:B,2,FALSE)","v":35}]
["value633",{"$f":"VLOOKUP(A20634,LookupValues!A:B,2,FALSE)","v":454}]
["value701",{"$f":"VLOOKUP(A20702,LookupValues!A:B,2,FALSE)","v":979}]
["value729",{"$f":"VLOOKUP(A20730,LookupValues!A:B,2,FALSE)","v":114}]
["value797",{"$f":"VLOOKUP(A20798,LookupValues!A:B,2,FALSE)","v":721}]
["value826",{"$f":"VLOOKUP(A20827,LookupValues!A:B,2,FALSE)","v":165}]
["value904",{"$f":"VLOOKUP(A20905,LookupValues!A:B,2,FALSE)","v":996}]
["value944",{"$f":"VLOOKUP(A20945,LookupValues!A:B,2,FALSE)","v":434}]
["value1000",{"$f":"VLOOKUP(A21001,LookupValues!A:B,2,FALSE)","v":721}]
["value1029",{"$f":"VLOOKUP(A21030,LookupValues!A:B,2,FALSE)","v":158}]
["value1097",{"$f":"VLOOKUP(A21098,LookupValues!A:B,2,FALSE)","v":23}]
["value1143",{"$f":"VLOOKUP(A21144,LookupValues!A:B,2,FALSE)","v":95}]
["value1193",{"$f":"VLOOKUP(A21194,LookupValues!A:B,2,FALSE)","v":592}]
["value1222",{"$f":"VLOOKUP(A21223,LookupValues!A:B,2,FALSE)","v":258}]
["value1300",{"$f":"VLOOKUP(A21301,LookupValues!A:B,2,FALSE)","v":317}]
["value1310",{"$f":"VLOOKUP(A21311,LookupValues!A:B,2,FALSE)","v":160}]
["value1396",{"$f":"VLOOKUP(A21397,LookupValues!A:B,2,FALSE)","v":590}]
["value1415",{"$f":"VLOOKUP(A21416,LookupValues!A:B,2,FALSE)","v":395}]
["value1493",{"$f":"VLOOKUP(A21494,LookupValues!A:B,2,FALSE)","v":794}]
["value1509",{"$f":"VLOOKUP(A21510,LookupValues!A:B,2,FALSE)","v":917}]
["value1589",{"$f":"VLOOKUP(A21590,LookupValues!A:B,2,FALSE)","v":620}]
["value1618",{"$f":"VLOOKUP(A21619,LookupValues!A:B,2,FALSE)","v":647}]
["value1647",{"$f":"VLOOKUP(A21648,LookupValues!A:B,2,FALSE)","v":815}]
["value1724",{"$f":"VLOOKUP(A21725,LookupValues!A:B,2,FALSE)","v":399}]
["value1743",{"$f":"VLOOKUP(A21744,LookupValues!A:B,2,FALSE)","v":182}]
["value1811",{"$f":"VLOOKUP(A21812,LookupValues!A:B,2,FALSE)","v":276}]
["value1889",{"$f":"VLOOKUP(A21890,LookupValues!A:B,2,FALSE)","v":194}]
["value1923",{"$f":"VLOOKUP(A21924,LookupValues!A:B,2,FALSE)","v":615}]
["value1985",{"$f":"VLOOKUP(A21986,LookupValues!A:B,2,FALSE)","v":713}]
["value2014",{"$f":"VLOOKUP(A22015,LookupValues!A:B,2,FALSE)","v":300}]
["value2043",{"$f":"VLOOKUP(A22044,LookupValues!A:B,2,FALSE)","v":360}]
["value2090",{"$f":"VLOOKUP(A22091,LookupValues!A:B,2,FALSE)","v":438}]
["value2139",{"$f":"VLOOKUP(A22140,LookupValues!A:B,2,FALSE)","v":84}]
["value2207",{"$f":"VLOOKUP(A22208,LookupValues!A:B,2,FALSE)","v":839}]
["value2236",{"$f":"VLOOKUP(A22237,LookupValues!A:B,2,FALSE)","v":305}]
["value2289",{"$f":"VLOOKUP(A22290,LookupValues!A:B,2,FALSE)","v":341}]
["value2332",{"$f":"VLOOKUP(A22333,LookupValues!A:B,2,FALSE)","v":309}]
["value2410",{"$f":"VLOOKUP(A22411,LookupValues!A:B,2,FALSE)","v":49}]
["value2429",{"$f":"VLOOKUP(A22430,LookupValues!A:B,2,FALSE)","v":663}]
["value2504",{"$f":"VLOOKUP(A22505,LookupValues!A:B,2,FALSE)","v":176}]
["value2535",{"$f":"VLOOKUP(A22536,LookupValues!A:B,2,FALSE)","v":631}]
["value2603",{"$f":"VLOOKUP(A22604,LookupValues!A:B,2,FALSE)","v":584}]
["value2632",{"$f":"VLOOKUP(A22633,LookupValues!A:B,2,FALSE)","v":533}]
["value2703",{"$f":"VLOOKUP(A22704,LookupValues!A:B,2,FALSE)","v":289}]
["value2728",{"$f":"VLOOKUP(A22729,LookupValues!A:B,2,FALSE)","v":458}]
["value2806",{"$f":"VLOOKUP(A22807,LookupValues!A:B,2,FALSE)","v":73}]
["value2825",{"$f":"VLOOKUP(A22826,LookupValues!A:B,2,FALSE)","v":328}]
["value2870",{"$f":"VLOOKUP(A22871,LookupValues!A:B,2,FALSE)","v":810}]
["value2931",{"$f":"VLOOKUP(A22932,LookupValues!A:B,2,FALSE)","v":941}]
["value2999",{"$f":"VLOOKUP(A23000,LookupValues!A:B,2,FALSE)","v":490}]
["value3028",{"$f":"VLOOKUP(A23029,LookupValues!A:B,2,FALSE)","v":12}]
["value3085",{"$f":"VLOOKUP(A23086,LookupValues!A:B,2,FALSE)","v":514}]
["value3124",{"$f":"VLOOKUP(A23125,LookupValues!A:B,2,FALSE)","v":660}]
["value3202",{"$f":"VLOOKUP(A23203,LookupValues!A:B,2,FALSE)","v":728}]
["value3221",{"$f":"VLOOKUP(A23222,LookupValues!A:B,2,FALSE)","v":70}]
["value3284",{"$f":"VLOOKUP(A23285,LookupValues!A:B,2,FALSE)","v":967}]
["value3327",{"$f":"VLOOKUP(A23328,LookupValues!A:B,2,FALSE)","v":906}]
["value3395",{"$f":"VLOOKUP(A23396,LookupValues!A:B,2,FALSE)","v":190}]
["value3424",{"$f":"VLOOKUP(A23425,LookupValues!A:B,2,FALSE)","v":264}]
["value3451",{"$f":"VLOOKUP(A23452,LookupValues!A:B,2,FALSE)","v":600}]
["value3520",{"$f":"VLOOKUP(A23521,LookupValues!A:B,2,FALSE)","v":9}]
["value3549",{"$f":"VLOOKUP(A23550,LookupValues!A:B,2,FALSE)","v":489}]
["value3617",{"$f":"VLOOKUP(A23618,LookupValues!A:B,2,FALSE)","v":467}]
["value3650",{"$f":"VLOOKUP(A23651,LookupValues!A:B,2,FALSE)","v":404}]
["value3723",{"$f":"VLOOKUP(A23724,LookupValues!A:B,2,FALSE)","v":210}]
["value3742",{"$f":"VLOOKUP(A23743,LookupValues!A:B,2,FALSE)","v":519}]
["value3820",{"$f":"VLOOKUP(A23821,LookupValues!A:B,2,FALSE)","v":546}]
["value3865",{"$f":"VLOOKUP(A23866,LookupValues!A:B,2,FALSE)","v":751}]
["value3916",{"$f":"VLOOKUP(A23917,LookupValues!A:B,2,FALSE)","v":136}]
["value3945",{"$f":"VLOOKUP(A23946,LookupValues!A:B,2,FALSE)","v":693}]
["value4013",{"$f":"VLOOKUP(A24014,LookupValues!A:B,2,FALSE)","v":42}]
["value4064",{"$f":"VLOOKUP(A24065,LookupValues!A:B,2,FALSE)","v":145}]
["value4109",{"$f":"VLOOKUP(A24110,LookupValues!A:B,2,FALSE)","v":726}]
["value4138",{"$f":"VLOOKUP(A24139,LookupValues!A:B,2,FALSE)","v":901}]
["value4216",{"$f":"VLOOKUP(A24217,LookupValues!A:B,2,FALSE)","v":411}]
["value4231",{"$f":"VLOOKUP(A24232,LookupValues!A:B,2,FALSE)","v":597}]
["value4312",{"$f":"VLOOKUP(A24313,LookupValues!A:B,2,FALSE)","v":657}]
["value4341",{"$f":"VLOOKUP(A24342,LookupValues!A:B,2,FALSE)","v":222}]
["value4409",{"$f":"VLOOKUP(A24410,LookupValues!A:B,2,FALSE)","v":998}]
["value4430",{"$f":"VLOOKUP(A24431,LookupValues!A:B,2,FALSE)","v":112}]
["value4505",{"$f":"VLOOKUP(A24506,LookupValues!A:B,2,FALSE)","v":652}]
["value4534",{"$f":"VLOOKUP(A24535,LookupValues!A:B,2,FALSE)","v":647}]
["value4612",{"$f":"VLOOKUP(A24613,LookupValues!A:B,2,FALSE)","v":63}]
["value4645",{"$f":"VLOOKUP(A24646,LookupValues!A:B,2,FALSE)","v":904}]
["value4708",{"$f":"VLOOKUP(A24709,LookupValues!A:B,2,FALSE)","v":635}]
["value4737",{"$f":"VLOOKUP(A24738,LookupValues!A:B,2,FALSE)","v":612}]
["value4805",{"$f":"VLOOKUP(A24806,LookupValues!A:B,2,FALSE)","v":277}]
["value4844",{"$f":"VLOOKUP(A24845,LookupValues!A:B,2,FALSE)","v":368}]
["value4901",{"$f":"VLOOKUP(A24902,LookupValues!A:B,2,FALSE)","v":358}]
["value4930",{"$f":"VLOOKUP(A24931,LookupValues!A:B,2,FALSE)","v":505}]
["value5008",{"$f":"VLOOKUP(A25009,LookupValues!A:B,2,FALSE)","v":622}]
["value5011",{"$f":"VLOOKUP(A25012,LookupValues!A:B,2,FALSE)","v":452}]
["value5104",{"$f":"VLOOKUP(A25105,LookupValues!A:B,2,FALSE)","v":769}]
["value5123",{"$f":"VLOOKUP(A25124,LookupValues!A:B,2,FALSE)","v":767}]
["value5201",{"$f":"VLOOKUP(A25202,LookupValues!A:B,2,FALSE)","v":667}]
["value5210",{"$f":"VLOOKUP(A25211,LookupValues!A:B,2,FALSE)","v":322}]
["value5297",{"$f":"VLOOKUP(A25298,LookupValues!A:B,2,FALSE)","v":262}]
["value5326",{"$f":"VLOOKUP(A25327,LookupValues!A:B,2,FALSE)","v":294}]
["value5355",{"$f":"VLOOKUP(A25356,LookupValues!A:B,2,FALSE)","v":395}]
["value5425",{"$f":"VLOOKUP(A25426,LookupValues!A:B,2,FALSE)","v":316}]
["value5451",{"$f":"VLOOKUP(A25452,LookupValues!A:B,2,FALSE)","v":307}]
["value5519",{"$f":"VLOOKUP(A25520,LookupValues!A:B,2,FALSE)","v":0}]
["value5548",{"$f":"VLOOKUP(A25549,LookupValues!A:B,2,FALSE)","v":467}]
["value5624",{"$f":"VLOOKUP(A25625,LookupValues!A:B,2,FALSE)","v":860}]
["value5644",{"$f":"VLOOKUP(A25645,LookupValues!A:B,2,FALSE)","v":346}]
["value5722",{"$f":"VLOOKUP(A25723,LookupValues!A:B,2,FALSE)","v":761}]
["value5741",{"$f":"VLOOKUP(A25742,LookupValues!A:B,2,FALSE)","v":734}]
["value5791",{"$f":"VLOOKUP(A25792,LookupValues!A:B,2,FALSE)","v":438}]
["value5847",{"$f":"VLOOKUP(A25848,LookupValues!A:B,2,FALSE)","v":750}]
["value5915",{"$f":"VLOOKUP(A25916,LookupValues!A:B,2,FALSE)","v":275}]
["value5944",{"$f":"VLOOKUP(A25945,LookupValues!A:B,2,FALSE)","v":134}]
["value5990",{"$f":"VLOOKUP(A25991,LookupValues!A:B,2,FALSE)","v":830}]
["value6040",{"$f":"VLOOKUP(A26041,LookupValues!A:B,2,FALSE)","v":149}]
["value6118",{"$f":"VLOOKUP(A26119,LookupValues!A:B,2,FALSE)","v":228}]
["value6137",{"$f":"VLOOKUP(A26138,LookupValues!A:B,2,FALSE)","v":167}]
["value6205",{"$f":"VLOOKUP(A26206,LookupValues!A:B,2,FALSE)","v":938}]
["value6243",{"$f":"VLOOKUP(A26244,LookupValues!A:B,2,FALSE)","v":733}]
["value6311",{"$f":"VLOOKUP(A26312,LookupValues!A:B,2,FALSE)","v":672}]
["value6340",{"$f":"VLOOKUP(A26341,LookupValues!A:B,2,FALSE)","v":459}]
["value6418",{"$f":"VLOOKUP(A26419,LookupValues!A:B,2,FALSE)","v":781}]
["value6454",{"$f":"VLOOKUP(A26455,LookupValues!A:B,2,FALSE)","v":106}]
["value6514",{"$f":"VLOOKUP(A26515,LookupValues!A:B,2,FALSE)","v":3}]
["value6533",{"$f":"VLOOKUP(A26534,LookupValues!A:B,2,FALSE)","v":365}]
["value6611",{"$f":"VLOOKUP(A26612,LookupValues!A:B,2,FALSE)","v":537}]
["value6653",{"$f":"VLOOKUP(A26654,LookupValues!A:B,2,FALSE)","v":182}]
["value6707",{"$f":"VLOOKUP(A26708,LookupValues!A:B,2,FALSE)","v":865}]
["value6736",{"$f":"VLOOKUP(A26737,LookupValues!A:B,2,FALSE)","v":629}]
["value6804",{"$f":"VLOOKUP(A26805,LookupValues!A:B,2,FALSE)","v":115}]
["value6820",{"$f":"VLOOKUP(A26821,LookupValues!A:B,2,FALSE)","v":774}]
["value6910",{"$f":"VLOOKUP(A26911,LookupValues!A:B,2,FALSE)","v":58}]
["value6929",{"$f":"VLOOKUP(A26930,LookupValues!A:B,2,FALSE)","v":871}]
["value7007",{"$f":"VLOOKUP(A27008,LookupValues!A:B,2,FALSE)","v":678}]
["value7019",{"$f":"VLOOKUP(A27020,LookupValues!A:B,2,FALSE)","v":13}]
["value7103",{"$f":"VLOOKUP(A27104,LookupValues!A:B,2,FALSE)","v":926}]
["value7132",{"$f":"VLOOKUP(A27133,LookupValues!A:B,2,FALSE)","v":767}]
["value7200",{"$f":"VLOOKUP(A27201,LookupValues!A:B,2,FALSE)","v":774}]
["value7234",{"$f":"VLOOKUP(A27235,LookupValues!A:B,2,FALSE)","v":264}]
["value7257",{"$f":"VLOOKUP(A27258,LookupValues!A:B,2,FALSE)","v":663}]
["value7325",{"$f":"VLOOKUP(A27326,LookupValues!A:B,2,FALSE)","v":156}]
["value7354",{"$f":"VLOOKUP(A27355,LookupValues!A:B,2,FALSE)","v":488}]
["value7401",{"$f":"VLOOKUP(A27402,LookupValues!A:B,2,FALSE)","v":299}]
["value7450",{"$f":"VLOOKUP(A27451,LookupValues!A:B,2,FALSE)","v":524}]
["value7528",{"$f":"VLOOKUP(A27529,LookupValues!A:B,2,FALSE)","v":346}]
["value7547",{"$f":"VLOOKUP(A27548,LookupValues!A:B,2,FALSE)","v":425}]
["value7600",{"$f":"VLOOKUP(A27601,LookupValues!A:B,2,FALSE)","v":802}]
["value7653",{"$f":"VLOOKUP(A27654,LookupValues!A:B,2,FALSE)","v":245}]
["value7721",{"$f":"VLOOKUP(A27722,LookupValues!A:B,2,FALSE)","v":855}]
["value7750",{"$f":"VLOOKUP(A27751,LookupValues!A:B,2,FALSE)","v":17}]
["value7815",{"$f":"VLOOKUP(A27816,LookupValues!A:B,2,FALSE)","v":925}]
["value7846",{"$f":"VLOOKUP(A27847,LookupValues!A:B,2,FALSE)","v":861}]
["value7924",{"$f":"VLOOKUP(A27925,LookupValues!A:B,2,FALSE)","v":637}]
["value7943",{"$f":"VLOOKUP(A27944,LookupValues!A:B,2,FALSE)","v":949}]
["value8014",{"$f":"VLOOKUP(A28015,LookupValues!A:B,2,FALSE)","v":941}]
["value8049",{"$f":"VLOOKUP(A28050,LookupValues!A:B,2,FALSE)","v":444}]
["value8117",{"$f":"VLOOKUP(A28118,LookupValues!A:B,2,FALSE)","v":885}]
["value8146",{"$f":"VLOOKUP(A28147,LookupValues!A:B,2,FALSE)","v":8}]
["value8181",{"$f":"VLOOKUP(A28182,LookupValues!A:B,2,FALSE)","v":775}]
["value8242",{"$f":"VLOOKUP(A28243,LookupValues!A:B,2,FALSE)","v":188}]
["value8320",{"$f":"VLOOKUP(A28321,LookupValues!A:B,2,FALSE)","v":133}]
["value8339",{"$f":"VLOOKUP(A28340,LookupValues!A:B,2,FALSE)","v":430}]
["value8380",{"$f":"VLOOKUP(A28381,LookupValues!A:B,2,FALSE)","v":26}]
["value8435",{"$f":"VLOOKUP(A28436,LookupValues!A:B,2,FALSE)","v":29}]
["value8513",{"$f":"VLOOKUP(A28514,LookupValues!A:B,2,FALSE)","v":668}]
["value8542",{"$f":"VLOOKUP(A28543,LookupValues!A:B,2,FALSE)","v":239}]
["value8595",{"$f":"VLOOKUP(A28596,LookupValues!A:B,2,FALSE)","v":918}]
["value8638",{"$f":"VLOOKUP(A28639,LookupValues!A:B,2,FALSE)","v":137}]
["value8667",{"$f":"VLOOKUP(A28668,LookupValues!A:B,2,FALSE)","v":31}]
["value8735",{"$f":"VLOOKUP(A28736,LookupValues!A:B,2,FALSE)","v":871}]
["value8794",{"$f":"VLOOKUP(A28795,LookupValues!A:B,2,FALSE)","v":952}]
["value8831",{"$f":"VLOOKUP(A28832,LookupValues!A:B,2,FALSE)","v":725}]
["value8909",{"$f":"VLOOKUP(A28910,LookupValues!A:B,2,FALSE)","v":691}]
["value8938",{"$f":"VLOOKUP(A28939,LookupValues!A:B,2,FALSE)","v":510}]
["value8961",{"$f":"VLOOKUP(A28962,LookupValues!A:B,2,FALSE)","v":938}]
["value9034",{"$f":"VLOOKUP(A29035,LookupValues!A:B,2,FALSE)","v":839}]
["value9063",{"$f":"VLOOKUP(A29064,LookupValues!A:B,2,FALSE)","v":254}]
["value9131",{"$f":"VLOOKUP(A29132,LookupValues!A:B,2,FALSE)","v":167}]
["value9160",{"$f":"VLOOKUP(A29161,LookupValues!A:B,2,FALSE)","v":726}]
["value9227",{"$f":"VLOOKUP(A29228,LookupValues!A:B,2,FALSE)","v":487}]
["value9256",{"$f":"VLOOKUP(A29257,LookupValues!A:B,2,FALSE)","v":569}]
["value9334",{"$f":"VLOOKUP(A29335,LookupValues!A:B,2,FALSE)","v":677}]
["value9375",{"$f":"VLOOKUP(A29376,LookupValues!A:B,2,FALSE)","v":162}]
["value9430",{"$f":"VLOOKUP(A29431,LookupValues!A:B,2,FALSE)","v":131}]
["value9449",{"$f":"VLOOKUP(A29450,LookupValues!A:B,2,FALSE)","v":813}]
["value9527",{"$f":"VLOOKUP(A29528,LookupValues!A:B,2,FALSE)","v":830}]
["value9574",{"$f":"VLOOKUP(A29575,LookupValues!A:B,2,FALSE)","v":715}]
["value9623",{"$f":"VLOOKUP(A29624,LookupValues!A:B,2,FALSE)","v":578}]
["value9652",{"$f":"VLOOKUP(A29653,LookupValues!A:B,2,FALSE)","v":211}]
["value9730",{"$f":"VLOOKUP(A29731,LookupValues!A:B,2,FALSE)","v":266}]
["value9741",{"$f":"VLOOKUP(A29742,LookupValues!A:B,2,FALSE)","v":28}]
["value9826",{"$f":"VLOOKUP(A29827,LookupValues!A:B,2,FALSE)","v":290}]
["value9845",{"$f":"VLOOKUP(A29846,LookupValues!A:B,2,FALSE)","v":386}]
["value9923",{"$f":"VLOOKUP(A29924,LookupValues!A:B,2,FALSE)","v":473}]
["value9940",{"$f":"VLOOKUP(A29941,LookupValues!A:B,2,FALSE)","v":376}]
["value19",{"$f":"VLOOKUP(A30020,LookupValues!A:B,2,FALSE)","v":322}]
["value48",{"$f":"VLOOKUP(A30049,LookupValues!A:B,2,FALSE)","v":999}]
["value116",{"$f":"VLOOKUP(A30117,LookupValues!A:B,2,FALSE)","v":516}]
["value155",{"$f":"VLOOKUP(A30156,LookupValues!A:B,2,FALSE)","v":762}]
["value222",{"$f":"VLOOKUP(A30223,LookupValues!A:B,2,FALSE)","v":111}]
["value241",{"$f":"VLOOKUP(A30242,LookupValues!A:B,2,FALSE)","v":70}]
["value319",{"$f":"VLOOKUP(A30320,LookupValues!A:B,2,FALSE)","v":673}]
["value354",{"$f":"VLOOKUP(A30355,LookupValues!A:B,2,FALSE)","v":548}]
["value415",{"$f":"VLOOKUP(A30416,LookupValues!A:B,2,FALSE)","v":751}]
["value444",{"$f":"VLOOKUP(A30445,LookupValues!A:B,2,FALSE)","v":29}]
["value512",{"$f":"VLOOKUP(A30513,LookupValues!A:B,2,FALSE)","v":843}]
["value521",{"$f":"VLOOKUP(A30522,LookupValues!A:B,2,FALSE)","v":816}]
["value569",{"$f":"VLOOKUP(A30570,LookupValues!A:B,2,FALSE)","v":860}]
["value637",{"$f":"VLOOKUP(A30638,LookupValues!A:B,2,FALSE)","v":324}]
["value666",{"$f":"VLOOKUP(A30667,LookupValues!A:B,2,FALSE)","v":410}]
["value720",{"$f":"VLOOKUP(A30721,LookupValues!A:B,2,FALSE)","v":406}]
["value762",{"$f":"VLOOKUP(A30763,LookupValues!A:B,2,FALSE)","v":953}]
["value840",{"$f":"VLOOKUP(A30841,LookupValues!A:B,2,FALSE)","v":713}]
["value908",{"$f":"VLOOKUP(A30909,LookupValues!A:B,2,FALSE)","v":986}]
["value935",{"$f":"VLOOKUP(A30936,LookupValues!A:B,2,FALSE)","v":385}]
["value965",{"$f":"VLOOKUP(A30966,LookupValues!A:B,2,FALSE)","v":616}]
["value1033",{"$f":"VLOOKUP(A31034,LookupValues!A:B,2,FALSE)","v":703}]
["value1062",{"$f":"VLOOKUP(A31063,LookupValues!A:B,2,FALSE)","v":382}]
["value1150",{"$f":"VLOOKUP(A31151,LookupValues!A:B,2,FALSE)","v":353}]
["value1158",{"$f":"VLOOKUP(A31159,LookupValues!A:B,2,FALSE)","v":369}]
["value1236",{"$f":"VLOOKUP(A31237,LookupValues!A:B,2,FALSE)","v":420}]
["value1255",{"$f":"VLOOKUP(A31256,LookupValues!A:B,2,FALSE)","v":375}]
["value1301",{"$f":"VLOOKUP(A31302,LookupValues!A:B,2,FALSE)","v":347}]
["value1361",{"$f":"VLOOKUP(A31362,LookupValues!A:B,2,FALSE)","v":662}]
["value1429",{"$f":"VLOOKUP(A31430,LookupValues!A:B,2,FALSE)","v":342}]
["value1458",{"$f":"VLOOKUP(A31459,LookupValues!A:B,2,FALSE)","v":438}]
["value1516",{"$f":"VLOOKUP(A31517,LookupValues!A:B,2,FALSE)","v":523}]
["value1554",{"$f":"VLOOKUP(A31555,LookupValues!A:B,2,FALSE)","v":51}]
["value1632",{"$f":"VLOOKUP(A31633,LookupValues!A:B,2,FALSE)","v":58}]
["value1651",{"$f":"VLOOKUP(A31652,LookupValues!A:B,2,FALSE)","v":679}]
["value1715",{"$f":"VLOOKUP(A31716,LookupValues!A:B,2,FALSE)","v":55}]
["value1757",{"$f":"VLOOKUP(A31758,LookupValues!A:B,2,FALSE)","v":987}]
["value1825",{"$f":"VLOOKUP(A31826,LookupValues!A:B,2,FALSE)","v":327}]
["value1854",{"$f":"VLOOKUP(A31855,LookupValues!A:B,2,FALSE)","v":69}]
["value1930",{"$f":"VLOOKUP(A31931,LookupValues!A:B,2,FALSE)","v":740}]
["value1950",{"$f":"VLOOKUP(A31951,LookupValues!A:B,2,FALSE)","v":448}]
["value2028",{"$f":"VLOOKUP(A32029,LookupValues!A:B,2,FALSE)","v":471}]
["value2047",{"$f":"VLOOKUP(A32048,LookupValues!A:B,2,FALSE)","v":338}]
["value2081",{"$f":"VLOOKUP(A32082,LookupValues!A:B,2,FALSE)","v":301}]
["value2143",{"$f":"VLOOKUP(A32144,LookupValues!A:B,2,FALSE)","v":910}]
["value2221",{"$f":"VLOOKUP(A32222,LookupValues!A:B,2,FALSE)","v":437}]
["value2250",{"$f":"VLOOKUP(A32251,LookupValues!A:B,2,FALSE)","v":858}]
["value2296",{"$f":"VLOOKUP(A32297,LookupValues!A:B,2,FALSE)","v":0}]
["value2346",{"$f":"VLOOKUP(A32347,LookupValues!A:B,2,FALSE)","v":386}]
["value2375",{"$f":"VLOOKUP(A32376,LookupValues!A:B,2,FALSE)","v":385}]
["value2443",{"$f":"VLOOKUP(A32444,LookupValues!A:B,2,FALSE)","v":709}]
["value2495",{"$f":"VLOOKUP(A32496,LookupValues!A:B,2,FALSE)","v":676}]
["value2539",{"$f":"VLOOKUP(A32540,LookupValues!A:B,2,FALSE)","v":298}]
["value2568",{"$f":"VLOOKUP(A32569,LookupValues!A:B,2,FALSE)","v":871}]
["value2646",{"$f":"VLOOKUP(A32647,LookupValues!A:B,2,FALSE)","v":382}]
["value2710",{"$f":"VLOOKUP(A32711,LookupValues!A:B,2,FALSE)","v":326}]
["value2742",{"$f":"VLOOKUP(A32743,LookupValues!A:B,2,FALSE)","v":218}]
["value2761",{"$f":"VLOOKUP(A32762,LookupValues!A:B,2,FALSE)","v":837}]
["value2839",{"$f":"VLOOKUP(A32840,LookupValues!A:B,2,FALSE)","v":845}]
["value2861",{"$f":"VLOOKUP(A32862,LookupValues!A:B,2,FALSE)","v":697}]
["value2935",{"$f":"VLOOKUP(A32936,LookupValues!A:B,2,FALSE)","v":576}]
["value2964",{"$f":"VLOOKUP(A32965,LookupValues!A:B,2,FALSE)","v":272}]
["value3042",{"$f":"VLOOKUP(A33043,LookupValues!A:B,2,FALSE)","v":30}]
["value3076",{"$f":"VLOOKUP(A33077,LookupValues!A:B,2,FALSE)","v":230}]
["value3138",{"$f":"VLOOKUP(A33139,LookupValues!A:B,2,FALSE)","v":87}]
["value3157",{"$f":"VLOOKUP(A33158,LookupValues!A:B,2,FALSE)","v":69}]
["value3235",{"$f":"VLOOKUP(A33236,LookupValues!A:B,2,FALSE)","v":39}]
["value3275",{"$f":"VLOOKUP(A33276,LookupValues!A:B,2,FALSE)","v":552}]
["value3331",{"$f":"VLOOKUP(A33332,LookupValues!A:B,2,FALSE)","v":464}]
["value3360",{"$f":"VLOOKUP(A33361,LookupValues!A:B,2,FALSE)","v":718}]
["value3438",{"$f":"VLOOKUP(A33439,LookupValues!A:B,2,FALSE)","v":859}]
["value3490",{"$f":"VLOOKUP(A33491,LookupValues!A:B,2,FALSE)","v":593}]
["value3534",{"$f":"VLOOKUP(A33535,LookupValues!A:B,2,FALSE)","v":244}]
["value3553",{"$f":"VLOOKUP(A33554,LookupValues!A:B,2,FALSE)","v":155}]
["value3631",{"$f":"VLOOKUP(A33632,LookupValues!A:B,2,FALSE)","v":153}]
["value3641",{"$f":"VLOOKUP(A33642,LookupValues!A:B,2,FALSE)","v":965}]
["value3727",{"$f":"VLOOKUP(A33728,LookupValues!A:B,2,FALSE)","v":635}]
["value3756",{"$f":"VLOOKUP(A33757,LookupValues!A:B,2,FALSE)","v":488}]
["value3824",{"$f":"VLOOKUP(A33825,LookupValues!A:B,2,FALSE)","v":481}]
["value3856",{"$f":"VLOOKUP(A33857,LookupValues!A:B,2,FALSE)","v":324}]
["value3930",{"$f":"VLOOKUP(A33931,LookupValues!A:B,2,FALSE)","v":690}]
["value3949",{"$f":"VLOOKUP(A33950,LookupValues!A:B,2,FALSE)","v":450}]
["value4027",{"$f":"VLOOKUP(A34028,LookupValues!A:B,2,FALSE)","v":615}]
["value4055",{"$f":"VLOOKUP(A34056,LookupValues!A:B,2,FALSE)","v":374}]
["value4123",{"$f":"VLOOKUP(A34124,LookupValues!A:B,2,FALSE)","v":958}]
["value4152",{"$f":"VLOOKUP(A34153,LookupValues!A:B,2,FALSE)","v":458}]
["value4220",{"$f":"VLOOKUP(A34221,LookupValues!A:B,2,FALSE)","v":184}]
["value4270",{"$f":"VLOOKUP(A34271,LookupValues!A:B,2,FALSE)","v":15}]
["value4277",{"$f":"VLOOKUP(A34278,LookupValues!A:B,2,FALSE)","v":130}]
["value4345",{"$f":"VLOOKUP(A34346,LookupValues!A:B,2,FALSE)","v":673}]
["value4374",{"$f":"VLOOKUP(A34375,LookupValues!A:B,2,FALSE)","v":452}]
["value4437",{"$f":"VLOOKUP(A34438,LookupValues!A:B,2,FALSE)","v":717}]
["value4470",{"$f":"VLOOKUP(A34471,LookupValues!A:B,2,FALSE)","v":82}]
["value4548",{"$f":"VLOOKUP(A34549,LookupValues!A:B,2,FALSE)","v":94}]
["value4567",{"$f":"VLOOKUP(A34568,LookupValues!A:B,2,FALSE)","v":990}]
["value4636",{"$f":"VLOOKUP(A34637,LookupValues!A:B,2,FALSE)","v":847}]
["value4673",{"$f":"VLOOKUP(A34674,LookupValues!A:B,2,FALSE)","v":901}]
["value4741",{"$f":"VLOOKUP(A34742,LookupValues!A:B,2,FALSE)","v":402}]
["value4770",{"$f":"VLOOKUP(A34771,LookupValues!A:B,2,FALSE)","v":974}]
["value4851",{"$f":"VLOOKUP(A34852,LookupValues!A:B,2,FALSE)","v":882}]
["value4866",{"$f":"VLOOKUP(A34867,LookupValues!A:B,2,FALSE)","v":711}]
["value4944",{"$f":"VLOOKUP(A34945,LookupValues!A:B,2,FALSE)","v":79}]
["value4963",{"$f":"VLOOKUP(A34964,LookupValues!A:B,2,FALSE)","v":743}]
["value5050",{"$f":"VLOOKUP(A35051,LookupValues!A:B,2,FALSE)","v":645}]
["value5069",{"$f":"VLOOKUP(A35070,LookupValues!A:B,2,FALSE)","v":820}]
["value5137",{"$f":"VLOOKUP(A35138,LookupValues!A:B,2,FALSE)","v":266}]
["value5166",{"$f":"VLOOKUP(A35167,LookupValues!A:B,2,FALSE)","v":33}]
["value5217",{"$f":"VLOOKUP(A35218,LookupValues!A:B,2,FALSE)","v":172}]
["value5262",{"$f":"VLOOKUP(A35263,LookupValues!A:B,2,FALSE)","v":572}]
["value5340",{"$f":"VLOOKUP(A35341,LookupValues!A:B,2,FALSE)","v":724}]
["value5359",{"$f":"VLOOKUP(A35360,LookupValues!A:B,2,FALSE)","v":97}]
["value5416",{"$f":"VLOOKUP(A35417,LookupValues!A:B,2,FALSE)","v":984}]
["value5455",{"$f":"VLOOKUP(A35456,LookupValues!A:B,2,FALSE)","v":579}]
["value5533",{"$f":"VLOOKUP(A35534,LookupValues!A:B,2,FALSE)","v":680}]
["value5562",{"$f":"VLOOKUP(A35563,LookupValues!A:B,2,FALSE)","v":298}]
["value5631",{"$f":"VLOOKUP(A35632,LookupValues!A:B,2,FALSE)","v":953}]
["value5658",{"$f":"VLOOKUP(A35659,LookupValues!A:B,2,FALSE)","v":616}]
["value5687",{"$f":"VLOOKUP(A35688,LookupValues!A:B,2,FALSE)","v":92}]
["value5755",{"$f":"VLOOKUP(A35756,LookupValues!A:B,2,FALSE)","v":899}]
["value5830",{"$f":"VLOOKUP(A35831,LookupValues!A:B,2,FALSE)","v":69}]
["value5851",{"$f":"VLOOKUP(A35852,LookupValues!A:B,2,FALSE)","v":838}]
["value5929",{"$f":"VLOOKUP(A35930,LookupValues!A:B,2,FALSE)","v":387}]
["value5958",{"$f":"VLOOKUP(A35959,LookupValues!A:B,2,FALSE)","v":177}]
["value5997",{"$f":"VLOOKUP(A35998,LookupValues!A:B,2,FALSE)","v":972}]
["value6054",{"$f":"VLOOKUP(A36055,LookupValues!A:B,2,FALSE)","v":579}]
["value6083",{"$f":"VLOOKUP(A36084,LookupValues!A:B,2,FALSE)","v":737}]
["value6151",{"$f":"VLOOKUP(A36152,LookupValues!A:B,2,FALSE)","v":828}]
["value6196",{"$f":"VLOOKUP(A36197,LookupValues!A:B,2,FALSE)","v":747}]
["value6247",{"$f":"VLOOKUP(A36248,LookupValues!A:B,2,FALSE)","v":254}]
["value6276",{"$f":"VLOOKUP(A36277,LookupValues!A:B,2,FALSE)","v":884}]
["value6354",{"$f":"VLOOKUP(A36355,LookupValues!A:B,2,FALSE)","v":235}]
["value6411",{"$f":"VLOOKUP(A36412,LookupValues!A:B,2,FALSE)","v":13}]
["value6450",{"$f":"VLOOKUP(A36451,LookupValues!A:B,2,FALSE)","v":41}]
["value6469",{"$f":"VLOOKUP(A36470,LookupValues!A:B,2,FALSE)","v":876}]
["value6547",{"$f":"VLOOKUP(A36548,LookupValues!A:B,2,FALSE)","v":360}]
["value6610",{"$f":"VLOOKUP(A36611,LookupValues!A:B,2,FALSE)","v":408}]
["value6643",{"$f":"VLOOKUP(A36644,LookupValues!A:B,2,FALSE)","v":828}]
["value6672",{"$f":"VLOOKUP(A36673,LookupValues!A:B,2,FALSE)","v":89}]
["value6750",{"$f":"VLOOKUP(A36751,LookupValues!A:B,2,FALSE)","v":847}]
["value6777",{"$f":"VLOOKUP(A36778,LookupValues!A:B,2,FALSE)","v":831}]
["value6846",{"$f":"VLOOKUP(A36847,LookupValues!A:B,2,FALSE)","v":425}]
["value6865",{"$f":"VLOOKUP(A36866,LookupValues!A:B,2,FALSE)","v":839}]
["value6943",{"$f":"VLOOKUP(A36944,LookupValues!A:B,2,FALSE)","v":305}]
["value6976",{"$f":"VLOOKUP(A36977,LookupValues!A:B,2,FALSE)","v":75}]
["value7039",{"$f":"VLOOKUP(A37040,LookupValues!A:B,2,FALSE)","v":879}]
["value7068",{"$f":"VLOOKUP(A37069,LookupValues!A:B,2,FALSE)","v":266}]
["value7136",{"$f":"VLOOKUP(A37137,LookupValues!A:B,2,FALSE)","v":353}]
["value7191",{"$f":"VLOOKUP(A37192,LookupValues!A:B,2,FALSE)","v":363}]
["value7242",{"$f":"VLOOKUP(A37243,LookupValues!A:B,2,FALSE)","v":979}]
["value7261",{"$f":"VLOOKUP(A37262,LookupValues!A:B,2,FALSE)","v":508}]
["value7339",{"$f":"VLOOKUP(A37340,LookupValues!A:B,2,FALSE)","v":252}]
["value7390",{"$f":"VLOOKUP(A37391,LookupValues!A:B,2,FALSE)","v":240}]
["value7435",{"$f":"VLOOKUP(A37436,LookupValues!A:B,2,FALSE)","v":140}]
["value7464",{"$f":"VLOOKUP(A37465,LookupValues!A:B,2,FALSE)","v":40}]
["value7532",{"$f":"VLOOKUP(A37533,LookupValues!A:B,2,FALSE)","v":195}]
["value7557",{"$f":"VLOOKUP(A37558,LookupValues!A:B,2,FALSE)","v":639}]
["value7589",{"$f":"VLOOKUP(A37590,LookupValues!A:B,2,FALSE)","v":499}]
["value7657",{"$f":"VLOOKUP(A37658,LookupValues!A:B,2,FALSE)","v":642}]
["value7686",{"$f":"VLOOKUP(A37687,LookupValues!A:B,2,FALSE)","v":835}]
["value7756",{"$f":"VLOOKUP(A37757,LookupValues!A:B,2,FALSE)","v":972}]
["value7782",{"$f":"VLOOKUP(A37783,LookupValues!A:B,2,FALSE)","v":858}]
["value7860",{"$f":"VLOOKUP(A37861,LookupValues!A:B,2,FALSE)","v":109}]
["value7928",{"$f":"VLOOKUP(A37929,LookupValues!A:B,2,FALSE)","v":541}]
["value7971",{"$f":"VLOOKUP(A37972,LookupValues!A:B,2,FALSE)","v":12}]
["value7985",{"$f":"VLOOKUP(A37986,LookupValues!A:B,2,FALSE)","v":108}]
["value8053",{"$f":"VLOOKUP(A38054,LookupValues!A:B,2,FALSE)","v":334}]
["value8082",{"$f":"VLOOKUP(A38083,LookupValues!A:B,2,FALSE)","v":977}]
["value8138",{"$f":"VLOOKUP(A38139,LookupValues!A:B,2,FALSE)","v":433}]
["value8178",{"$f":"VLOOKUP(A38179,LookupValues!A:B,2,FALSE)","v":447}]
["value8256",{"$f":"VLOOKUP(A38257,LookupValues!A:B,2,FALSE)","v":155}]
["value8275",{"$f":"VLOOKUP(A38276,LookupValues!A:B,2,FALSE)","v":179}]
["value8337",{"$f":"VLOOKUP(A38338,LookupValues!A:B,2,FALSE)","v":160}]
["value8381",{"$f":"VLOOKUP(A38382,LookupValues!A:B,2,FALSE)","v":360}]
["value8449",{"$f":"VLOOKUP(A38450,LookupValues!A:B,2,FALSE)","v":80}]
["value8478",{"$f":"VLOOKUP(A38479,LookupValues!A:B,2,FALSE)","v":64}]
["value8552",{"$f":"VLOOKUP(A38553,LookupValues!A:B,2,FALSE)","v":757}]
["value8574",{"$f":"VLOOKUP(A38575,LookupValues!A:B,2,FALSE)","v":436}]
["value8652",{"$f":"VLOOKUP(A38653,LookupValues!A:B,2,FALSE)","v":306}]
["value8671",{"$f":"VLOOKUP(A38672,LookupValues!A:B,2,FALSE)","v":859}]
["value8751",{"$f":"VLOOKUP(A38752,LookupValues!A:B,2,FALSE)","v":148}]
["value8767",{"$f":"VLOOKUP(A38768,LookupValues!A:B,2,FALSE)","v":612}]
["value8845",{"$f":"VLOOKUP(A38846,LookupValues!A:B,2,FALSE)","v":941}]
["value8874",{"$f":"VLOOKUP(A38875,LookupValues!A:B,2,FALSE)","v":177}]
["value8918",{"$f":"VLOOKUP(A38919,LookupValues!A:B,2,FALSE)","v":362}]
["value8970",{"$f":"VLOOKUP(A38971,LookupValues!A:B,2,FALSE)","v":16}]
["value9048",{"$f":"VLOOKUP(A39049,LookupValues!A:B,2,FALSE)","v":297}]
["value9067",{"$f":"VLOOKUP(A39068,LookupValues!A:B,2,FALSE)","v":248}]
["value9117",{"$f":"VLOOKUP(A39118,LookupValues!A:B,2,FALSE)","v":508}]
["value9163",{"$f":"VLOOKUP(A39164,LookupValues!A:B,2,FALSE)","v":163}]
["value9241",{"$f":"VLOOKUP(A39242,LookupValues!A:B,2,FALSE)","v":698}]
["value9270",{"$f":"VLOOKUP(A39271,LookupValues!A:B,2,FALSE)","v":71}]
["value9332",{"$f":"VLOOKUP(A39333,LookupValues!A:B,2,FALSE)","v":826}]
["value9366",{"$f":"VLOOKUP(A39367,LookupValues!A:B,2,FALSE)","v":591}]
["value9395",{"$f":"VLOOKUP(A39396,LookupValues!A:B,2,FALSE)","v":647}]
["value9463",{"$f":"VLOOKUP(A39464,LookupValues!A:B,2,FALSE)","v":358}]
["value9531",{"$f":"VLOOKUP(A39532,LookupValues!A:B,2,FALSE)","v":577}]
["value9559",{"$f":"VLOOKUP(A39560,LookupValues!A:B,2,FALSE)","v":309}]
["value9588",{"$f":"VLOOKUP(A39589,LookupValues!A:B,2,FALSE)","v":97}]
["value9666",{"$f":"VLOOKUP(A39667,LookupValues!A:B,2,FALSE)","v":90}]
["value9698",{"$f":"VLOOKUP(A39699,LookupValues!A:B,2,FALSE)","v":193}]
["value9762",{"$f":"VLOOKUP(A39763,LookupValues!A:B,2,FALSE)","v":380}]
["value9781",{"$f":"VLOOKUP(A39782,LookupValues!A:B,2,FALSE)","v":777}]
["value9859",{"$f":"VLOOKUP(A39860,LookupValues!A:B,2,FALSE)","v":852}]
["value9897",{"$f":"VLOOKUP(A39898,LookupValues!A:B,2,FALSE)","v":246}]
["value9955",{"$f":"VLOOKUP(A39956,LookupValues!A:B,2,FALSE)","v":489}]
["value9984",{"$f":"VLOOKUP(A39985,LookupValues!A:B,2,FALSE)","v":859}]
["value62",{"$f":"VLOOKUP(A40063,LookupValues!A:B,2,FALSE)","v":561}]
["value112",{"$f":"VLOOKUP(A40113,LookupValues!A:B,2,FALSE)","v":951}]
["value158",{"$f":"VLOOKUP(A40159,LookupValues!A:B,2,FALSE)","v":856}]
["value177",{"$f":"VLOOKUP(A40178,LookupValues!A:B,2,FALSE)","v":246}]
["value255",{"$f":"VLOOKUP(A40256,LookupValues!A:B,2,FALSE)","v":758}]
["value311",{"$f":"VLOOKUP(A40312,LookupValues!A:B,2,FALSE)","v":752}]
["value351",{"$f":"VLOOKUP(A40352,LookupValues!A:B,2,FALSE)","v":198}]
["value380",{"$f":"VLOOKUP(A40381,LookupValues!A:B,2,FALSE)","v":108}]
["value458",{"$f":"VLOOKUP(A40459,LookupValues!A:B,2,FALSE)","v":125}]
["value478",{"$f":"VLOOKUP(A40479,LookupValues!A:B,2,FALSE)","v":817}]
["value554",{"$f":"VLOOKUP(A40555,LookupValues!A:B,2,FALSE)","v":564}]
["value573",{"$f":"VLOOKUP(A40574,LookupValues!A:B,2,FALSE)","v":782}]
["value651",{"$f":"VLOOKUP(A40652,LookupValues!A:B,2,FALSE)","v":21}]
["value677",{"$f":"VLOOKUP(A40678,LookupValues!A:B,2,FALSE)","v":242}]
["value747",{"$f":"VLOOKUP(A40748,LookupValues!A:B,2,FALSE)","v":603}]
["value776",{"$f":"VLOOKUP(A40777,LookupValues!A:B,2,FALSE)","v":423}]
["value844",{"$f":"VLOOKUP(A40845,LookupValues!A:B,2,FALSE)","v":68}]
["value892",{"$f":"VLOOKUP(A40893,LookupValues!A:B,2,FALSE)","v":33}]
["value950",{"$f":"VLOOKUP(A40951,LookupValues!A:B,2,FALSE)","v":136}]
["value969",{"$f":"VLOOKUP(A40970,LookupValues!A:B,2,FALSE)","v":602}]
["value1047",{"$f":"VLOOKUP(A41048,LookupValues!A:B,2,FALSE)","v":763}]
["value1091",{"$f":"VLOOKUP(A41092,LookupValues!A:B,2,FALSE)","v":529}]
["value1143",{"$f":"VLOOKUP(A41144,LookupValues!A:B,2,FALSE)","v":95}]
["value1172",{"$f":"VLOOKUP(A41173,LookupValues!A:B,2,FALSE)","v":73}]
["value1240",{"$f":"VLOOKUP(A41241,LookupValues!A:B,2,FALSE)","v":811}]
["value1258",{"$f":"VLOOKUP(A41259,LookupValues!A:B,2,FALSE)","v":580}]
["value1297",{"$f":"VLOOKUP(A41298,LookupValues!A:B,2,FALSE)","v":384}]
["value1365",{"$f":"VLOOKUP(A41366,LookupValues!A:B,2,FALSE)","v":294}]
["value1394",{"$f":"VLOOKUP(A41395,LookupValues!A:B,2,FALSE)","v":840}]
["value1473",{"$f":"VLOOKUP(A41474,LookupValues!A:B,2,FALSE)","v":234}]
["value1490",{"$f":"VLOOKUP(A41491,LookupValues!A:B,2,FALSE)","v":688}]
["value1568",{"$f":"VLOOKUP(A41569,LookupValues!A:B,2,FALSE)","v":254}]
["value1587",{"$f":"VLOOKUP(A41588,LookupValues!A:B,2,FALSE)","v":549}]
["value1672",{"$f":"VLOOKUP(A41673,LookupValues!A:B,2,FALSE)","v":390}]
["value1693",{"$f":"VLOOKUP(A41694,LookupValues!A:B,2,FALSE)","v":435}]
["value1761",{"$f":"VLOOKUP(A41762,LookupValues!A:B,2,FALSE)","v":303}]
["value1790",{"$f":"VLOOKUP(A41791,LookupValues!A:B,2,FALSE)","v":712}]
["value1839",{"$f":"VLOOKUP(A41840,LookupValues!A:B,2,FALSE)","v":593}]
["value1886",{"$f":"VLOOKUP(A41887,LookupValues!A:B,2,FALSE)","v":49}]
["value1964",{"$f":"VLOOKUP(A41965,LookupValues!A:B,2,FALSE)","v":864}]
["value1983",{"$f":"VLOOKUP(A41984,LookupValues!A:B,2,FALSE)","v":185}]
["value2038",{"$f":"VLOOKUP(A42039,LookupValues!A:B,2,FALSE)","v":610}]
["value2089",{"$f":"VLOOKUP(A42090,LookupValues!A:B,2,FALSE)","v":991}]
["value2157",{"$f":"VLOOKUP(A42158,LookupValues!A:B,2,FALSE)","v":748}]
["value2186",{"$f":"VLOOKUP(A42187,LookupValues!A:B,2,FALSE)","v":650}]
["value2253",{"$f":"VLOOKUP(A42254,LookupValues!A:B,2,FALSE)","v":25}]
["value2282",{"$f":"VLOOKUP(A42283,LookupValues!A:B,2,FALSE)","v":80}]
["value2360",{"$f":"VLOOKUP(A42361,LookupValues!A:B,2,FALSE)","v":462}]
["value2379",{"$f":"VLOOKUP(A42380,LookupValues!A:B,2,FALSE)","v":503}]
["value2452",{"$f":"VLOOKUP(A42453,LookupValues!A:B,2,FALSE)","v":520}]
["value2475",{"$f":"VLOOKUP(A42476,LookupValues!A:B,2,FALSE)","v":879}]
["value2553",{"$f":"VLOOKUP(A42554,LookupValues!A:B,2,FALSE)","v":760}]
["value2582",{"$f":"VLOOKUP(A42583,LookupValues!A:B,2,FALSE)","v":219}]
["value2619",{"$f":"VLOOKUP(A42620,LookupValues!A:B,2,FALSE)","v":642}]
["value2678",{"$f":"VLOOKUP(A42679,LookupValues!A:B,2,FALSE)","v":852}]
["value2707",{"$f":"VLOOKUP(A42708,LookupValues!A:B,2,FALSE)","v":917}]
["value2775",{"$f":"VLOOKUP(A42776,LookupValues!A:B,2,FALSE)","v":773}]
["value2818",{"$f":"VLOOKUP(A42819,LookupValues!A:B,2,FALSE)","v":174}]
["value2871",{"$f":"VLOOKUP(A42872,LookupValues!A:B,2,FALSE)","v":958}]
["value2949",{"$f":"VLOOKUP(A42950,LookupValues!A:B,2,FALSE)","v":75}]
["value2978",{"$f":"VLOOKUP(A42979,LookupValues!A:B,2,FALSE)","v":123}]
["value3033",{"$f":"VLOOKUP(A43034,LookupValues!A:B,2,FALSE)","v":404}]
["value3074",{"$f":"VLOOKUP(A43075,LookupValues!A:B,2,FALSE)","v":492}]
["value3103",{"$f":"VLOOKUP(A43104,LookupValues!A:B,2,FALSE)","v":476}]
["value3171",{"$f":"VLOOKUP(A43172,LookupValues!A:B,2,FALSE)","v":495}]
["value3232",{"$f":"VLOOKUP(A43233,LookupValues!A:B,2,FALSE)","v":224}]
["value3267",{"$f":"VLOOKUP(A43268,LookupValues!A:B,2,FALSE)","v":295}]
["value3296",{"$f":"VLOOKUP(A43297,LookupValues!A:B,2,FALSE)","v":931}]
["value3374",{"$f":"VLOOKUP(A43375,LookupValues!A:B,2,FALSE)","v":105}]
["value3399",{"$f":"VLOOKUP(A43400,LookupValues!A:B,2,FALSE)","v":889}]
["value3470",{"$f":"VLOOKUP(A43471,LookupValues!A:B,2,FALSE)","v":673}]
["value3489",{"$f":"VLOOKUP(A43490,LookupValues!A:B,2,FALSE)","v":710}]
["value3567",{"$f":"VLOOKUP(A43568,LookupValues!A:B,2,FALSE)","v":903}]
["value3598",{"$f":"VLOOKUP(A43599,LookupValues!A:B,2,FALSE)","v":207}]
["value3663",{"$f":"VLOOKUP(A43664,LookupValues!A:B,2,FALSE)","v":967}]
["value3692",{"$f":"VLOOKUP(A43693,LookupValues!A:B,2,FALSE)","v":696}]
["value3770",{"$f":"VLOOKUP(A43771,LookupValues!A:B,2,FALSE)","v":500}]
["value3813",{"$f":"VLOOKUP(A43814,LookupValues!A:B,2,FALSE)","v":1000}]
["value3866",{"$f":"VLOOKUP(A43867,LookupValues!A:B,2,FALSE)","v":441}]
["value3885",{"$f":"VLOOKUP(A43886,LookupValues!A:B,2,FALSE)","v":972}]
["value3963",{"$f":"VLOOKUP(A43964,LookupValues!A:B,2,FALSE)","v":125}]
["value4012",{"$f":"VLOOKUP(A44013,LookupValues!A:B,2,FALSE)","v":872}]
["value4059",{"$f":"VLOOKUP(A44060,LookupValues!A:B,2,FALSE)","v":713}]
["value4088",{"$f":"VLOOKUP(A44089,LookupValues!A:B,2,FALSE)","v":591}]
["value4156",{"$f":"VLOOKUP(A44157,LookupValues!A:B,2,FALSE)","v":825}]
["value4179",{"$f":"VLOOKUP(A44180,LookupValues!A:B,2,FALSE)","v":213}]
["value4262",{"$f":"VLOOKUP(A44263,LookupValues!A:B,2,FALSE)","v":740}]
["value4281",{"$f":"VLOOKUP(A44282,LookupValues!A:B,2,FALSE)","v":205}]
["value4359",{"$f":"VLOOKUP(A44360,LookupValues!A:B,2,FALSE)","v":995}]
["value4378",{"$f":"VLOOKUP(A44379,LookupValues!A:B,2,FALSE)","v":822}]
["value4455",{"$f":"VLOOKUP(A44456,LookupValues!A:B,2,FALSE)","v":928}]
["value4484",{"$f":"VLOOKUP(A44485,LookupValues!A:B,2,FALSE)","v":839}]
["value4552",{"$f":"VLOOKUP(A44553,LookupValues!A:B,2,FALSE)","v":112}]
["value4593",{"$f":"VLOOKUP(A44594,LookupValues!A:B,2,FALSE)","v":13}]
["value4609",{"$f":"VLOOKUP(A44610,LookupValues!A:B,2,FALSE)","v":443}]
["value4677",{"$f":"VLOOKUP(A44678,LookupValues!A:B,2,FALSE)","v":506}]
["value4706",{"$f":"VLOOKUP(A44707,LookupValues!A:B,2,FALSE)","v":177}]
["value4792",{"$f":"VLOOKUP(A44793,LookupValues!A:B,2,FALSE)","v":235}]
["value4802",{"$f":"VLOOKUP(A44803,LookupValues!A:B,2,FALSE)","v":366}]
["value4880",{"$f":"VLOOKUP(A44881,LookupValues!A:B,2,FALSE)","v":338}]
["value4948",{"$f":"VLOOKUP(A44949,LookupValues!A:B,2,FALSE)","v":51}]
["value4959",{"$f":"VLOOKUP(A44960,LookupValues!A:B,2,FALSE)","v":785}]
["value5005",{"$f":"VLOOKUP(A45006,LookupValues!A:B,2,FALSE)","v":753}]
["value5073",{"$f":"VLOOKUP(A45074,LookupValues!A:B,2,FALSE)","v":247}]
["value5102",{"$f":"VLOOKUP(A45103,LookupValues!A:B,2,FALSE)","v":291}]
["value5174",{"$f":"VLOOKUP(A45175,LookupValues!A:B,2,FALSE)","v":495}]
["value5198",{"$f":"VLOOKUP(A45199,LookupValues!A:B,2,FALSE)","v":809}]
["value5276",{"$f":"VLOOKUP(A45277,LookupValues!A:B,2,FALSE)","v":783}]
["value5295",{"$f":"VLOOKUP(A45296,LookupValues!A:B,2,FALSE)","v":538}]
["value5373",{"$f":"VLOOKUP(A45374,LookupValues!A:B,2,FALSE)","v":742}]
["value5401",{"$f":"VLOOKUP(A45402,LookupValues!A:B,2,FALSE)","v":228}]
["value5469",{"$f":"VLOOKUP(A45470,LookupValues!A:B,2,FALSE)","v":683}]
["value5498",{"$f":"VLOOKUP(A45499,LookupValues!A:B,2,FALSE)","v":793}]
["value5540",{"$f":"VLOOKUP(A45541,LookupValues!A:B,2,FALSE)","v":538}]
["value5594",{"$f":"VLOOKUP(A45595,LookupValues!A:B,2,FALSE)","v":116}]
["value5672",{"$f":"VLOOKUP(A45673,LookupValues!A:B,2,FALSE)","v":427}]
["value5691",{"$f":"VLOOKUP(A45692,LookupValues!A:B,2,FALSE)","v":879}]
["value5739",{"$f":"VLOOKUP(A45740,LookupValues!A:B,2,FALSE)","v":807}]
["value5787",{"$f":"VLOOKUP(A45788,LookupValues!A:B,2,FALSE)","v":973}]
["value5865",{"$f":"VLOOKUP(A45866,LookupValues!A:B,2,FALSE)","v":473}]
["value5894",{"$f":"VLOOKUP(A45895,LookupValues!A:B,2,FALSE)","v":236}]
["value5954",{"$f":"VLOOKUP(A45955,LookupValues!A:B,2,FALSE)","v":888}]
["value5990",{"$f":"VLOOKUP(A45991,LookupValues!A:B,2,FALSE)","v":830}]
["value6068",{"$f":"VLOOKUP(A46069,LookupValues!A:B,2,FALSE)","v":476}]
["value6087",{"$f":"VLOOKUP(A46088,LookupValues!A:B,2,FALSE)","v":633}]
["value6153",{"$f":"VLOOKUP(A46154,LookupValues!A:B,2,FALSE)","v":220}]
["value6183",{"$f":"VLOOKUP(A46184,LookupValues!A:B,2,FALSE)","v":112}]
["value6261",{"$f":"VLOOKUP(A46262,LookupValues!A:B,2,FALSE)","v":458}]
["value6290",{"$f":"VLOOKUP(A46291,LookupValues!A:B,2,FALSE)","v":159}]
["value6320",{"$f":"VLOOKUP(A46321,LookupValues!A:B,2,FALSE)","v":415}]
["value6386",{"$f":"VLOOKUP(A46387,LookupValues!A:B,2,FALSE)","v":641}]
["value6415",{"$f":"VLOOKUP(A46416,LookupValues!A:B,2,FALSE)","v":765}]
["value6483",{"$f":"VLOOKUP(A46484,LookupValues!A:B,2,FALSE)","v":982}]
["value6519",{"$f":"VLOOKUP(A46520,LookupValues!A:B,2,FALSE)","v":7}]
["value6579",{"$f":"VLOOKUP(A46580,LookupValues!A:B,2,FALSE)","v":431}]
["value6608",{"$f":"VLOOKUP(A46609,LookupValues!A:B,2,FALSE)","v":854}]
["value6686",{"$f":"VLOOKUP(A46687,LookupValues!A:B,2,FALSE)","v":96}]
["value6734",{"$f":"VLOOKUP(A46735,LookupValues!A:B,2,FALSE)","v":940}]
["value6782",{"$f":"VLOOKUP(A46783,LookupValues!A:B,2,FALSE)","v":265}]
["value6801",{"$f":"VLOOKUP(A46802,LookupValues!A:B,2,FALSE)","v":596}]
["value6879",{"$f":"VLOOKUP(A46880,LookupValues!A:B,2,FALSE)","v":868}]
["value6933",{"$f":"VLOOKUP(A46934,LookupValues!A:B,2,FALSE)","v":337}]
["value6975",{"$f":"VLOOKUP(A46976,LookupValues!A:B,2,FALSE)","v":631}]
["value7004",{"$f":"VLOOKUP(A47005,LookupValues!A:B,2,FALSE)","v":629}]
["value7082",{"$f":"VLOOKUP(A47083,LookupValues!A:B,2,FALSE)","v":595}]
["value7100",{"$f":"VLOOKUP(A47101,LookupValues!A:B,2,FALSE)","v":79}]
["value7178",{"$f":"VLOOKUP(A47179,LookupValues!A:B,2,FALSE)","v":806}]
["value7197",{"$f":"VLOOKUP(A47198,LookupValues!A:B,2,FALSE)","v":922}]
["value7275",{"$f":"VLOOKUP(A47276,LookupValues!A:B,2,FALSE)","v":162}]
["value7299",{"$f":"VLOOKUP(A47300,LookupValues!A:B,2,FALSE)","v":180}]
["value7371",{"$f":"VLOOKUP(A47372,LookupValues!A:B,2,FALSE)","v":92}]
["value7400",{"$f":"VLOOKUP(A47401,LookupValues!A:B,2,FALSE)","v":937}]
["value7478",{"$f":"VLOOKUP(A47479,LookupValues!A:B,2,FALSE)","v":908}]
["value7514",{"$f":"VLOOKUP(A47515,LookupValues!A:B,2,FALSE)","v":784}]
["value7574",{"$f":"VLOOKUP(A47575,LookupValues!A:B,2,FALSE)","v":622}]
["value7593",{"$f":"VLOOKUP(A47594,LookupValues!A:B,2,FALSE)","v":531}]
["value7671",{"$f":"VLOOKUP(A47672,LookupValues!A:B,2,FALSE)","v":306}]
["value7713",{"$f":"VLOOKUP(A47714,LookupValues!A:B,2,FALSE)","v":405}]
["value7767",{"$f":"VLOOKUP(A47768,LookupValues!A:B,2,FALSE)","v":684}]
["value7796",{"$f":"VLOOKUP(A47797,LookupValues!A:B,2,FALSE)","v":551}]
["value7864",{"$f":"VLOOKUP(A47865,LookupValues!A:B,2,FALSE)","v":987}]
["value7880",{"$f":"VLOOKUP(A47881,LookupValues!A:B,2,FALSE)","v":625}]
["value7970",{"$f":"VLOOKUP(A47971,LookupValues!A:B,2,FALSE)","v":811}]
["value7989",{"$f":"VLOOKUP(A47990,LookupValues!A:B,2,FALSE)","v":192}]
["value8067",{"$f":"VLOOKUP(A48068,LookupValues!A:B,2,FALSE)","v":765}]
["value8079",{"$f":"VLOOKUP(A48080,LookupValues!A:B,2,FALSE)","v":728}]
["value8163",{"$f":"VLOOKUP(A48164,LookupValues!A:B,2,FALSE)","v":677}]
["value8192",{"$f":"VLOOKUP(A48193,LookupValues!A:B,2,FALSE)","v":321}]
["value8260",{"$f":"VLOOKUP(A48261,LookupValues!A:B,2,FALSE)","v":805}]
["value8294",{"$f":"VLOOKUP(A48295,LookupValues!A:B,2,FALSE)","v":178}]
["value8317",{"$f":"VLOOKUP(A48318,LookupValues!A:B,2,FALSE)","v":303}]
["value8385",{"$f":"VLOOKUP(A48386,LookupValues!A:B,2,FALSE)","v":261}]
["value8414",{"$f":"VLOOKUP(A48415,LookupValues!A:B,2,FALSE)","v":38}]
["value8461",{"$f":"VLOOKUP(A48462,LookupValues!A:B,2,FALSE)","v":182}]
["value8510",{"$f":"VLOOKUP(A48511,LookupValues!A:B,2,FALSE)","v":833}]
["value8588",{"$f":"VLOOKUP(A48589,LookupValues!A:B,2,FALSE)","v":700}]
["value8607",{"$f":"VLOOKUP(A48608,LookupValues!A:B,2,FALSE)","v":469}]
["value8660",{"$f":"VLOOKUP(A48661,LookupValues!A:B,2,FALSE)","v":54}]
["value8713",{"$f":"VLOOKUP(A48714,LookupValues!A:B,2,FALSE)","v":298}]
["value8781",{"$f":"VLOOKUP(A48782,LookupValues!A:B,2,FALSE)","v":872}]
["value8810",{"$f":"VLOOKUP(A48811,LookupValues!A:B,2,FALSE)","v":835}]
["value8875",{"$f":"VLOOKUP(A48876,LookupValues!A:B,2,FALSE)","v":831}]
["value8906",{"$f":"VLOOKUP(A48907,LookupValues!A:B,2,FALSE)","v":34}]
["value8984",{"$f":"VLOOKUP(A48985,LookupValues!A:B,2,FALSE)","v":195}]
["value9003",{"$f":"VLOOKUP(A49004,LookupValues!A:B,2,FALSE)","v":700}]
["value9074",{"$f":"VLOOKUP(A49075,LookupValues!A:B,2,FALSE)","v":751}]
["value9109",{"$f":"VLOOKUP(A49110,LookupValues!A:B,2,FALSE)","v":256}]
["value9177",{"$f":"VLOOKUP(A49178,LookupValues!A:B,2,FALSE)","v":848}]
["value9206",{"$f":"VLOOKUP(A49207,LookupValues!A:B,2,FALSE)","v":549}]
["value9241",{"$f":"VLOOKUP(A49242,LookupValues!A:B,2,FALSE)","v":698}]
["value9302",{"$f":"VLOOKUP(A49303,LookupValues!A:B,2,FALSE)","v":758}]
["value9380",{"$f":"VLOOKUP(A49381,LookupValues!A:B,2,FALSE)","v":810}]
["value9399",{"$f":"VLOOKUP(A49400,LookupValues!A:B,2,FALSE)","v":593}]
["value9440",{"$f":"VLOOKUP(A49441,LookupValues!A:B,2,FALSE)","v":681}]
["value9495",{"$f":"VLOOKUP(A49496,LookupValues!A:B,2,FALSE)","v":135}]
["value9573",{"$f":"VLOOKUP(A49574,LookupValues!A:B,2,FALSE)","v":29}]
["value9602",{"$f":"VLOOKUP(A49603,LookupValues!A:B,2,FALSE)","v":234}]
["value9655",{"$f":"VLOOKUP(A49656,LookupValues!A:B,2,FALSE)","v":641}]
["value9698",{"$f":"VLOOKUP(A49699,LookupValues!A:B,2,FALSE)","v":193}]
["value9727",{"$f":"VLOOKUP(A49728,LookupValues!A:B,2,FALSE)","v":39}]
["value9795",{"$f":"VLOOKUP(A49796,LookupValues!A:B,2,FALSE)","v":195}]
["value9854",{"$f":"VLOOKUP(A49855,LookupValues!A:B,2,FALSE)","v":407}]
["value9891",{"$f":"VLOOKUP(A49892,LookupValues!A:B,2,FALSE)","v":483}]
["value9969",{"$f":"VLOOKUP(A49970,LookupValues!A:B,2,FALSE)","v":343}]
["value9998",{"$f":"VLOOKUP(A49999,LookupValues!A:B,2,FALSE)","v":697}]
["value21",{"$f":"VLOOKUP(A50022,LookupValues!A:B,2,FALSE)","v":140}]
["value94",{"$f":"VLOOKUP(A50095,LookupValues!A:B,2,FALSE)","v":960}]
["value162",{"$f":"VLOOKUP(A50163,LookupValues!A:B,2,FALSE)","v":240}]
["value191",{"$f":"VLOOKUP(A50192,LookupValues!A:B,2,FALSE)","v":573}]
["value220",{"$f":"VLOOKUP(A50221,LookupValues!A:B,2,FALSE)","v":639}]
["value287",{"$f":"VLOOKUP(A50288,LookupValues!A:B,2,FALSE)","v":686}]
["value316",{"$f":"VLOOKUP(A50317,LookupValues!A:B,2,FALSE)","v":401}]
["value394",{"$f":"VLOOKUP(A50395,LookupValues!A:B,2,FALSE)","v":494}]
["value435",{"$f":"VLOOKUP(A50436,LookupValues!A:B,2,FALSE)","v":153}]
["value490",{"$f":"VLOOKUP(A50491,LookupValues!A:B,2,FALSE)","v":403}]
["value509",{"$f":"VLOOKUP(A50510,LookupValues!A:B,2,FALSE)","v":323}]
["value587",{"$f":"VLOOKUP(A50588,LookupValues!A:B,2,FALSE)","v":509}]
["value634",{"$f":"VLOOKUP(A50635,LookupValues!A:B,2,FALSE)","v":59}]
["value683",{"$f":"VLOOKUP(A50684,LookupValues!A:B,2,FALSE)","v":828}]
["value712",{"$f":"VLOOKUP(A50713,LookupValues!A:B,2,FALSE)","v":451}]
["value790",{"$f":"VLOOKUP(A50791,LookupValues!A:B,2,FALSE)","v":962}]
["value809",{"$f":"VLOOKUP(A50810,LookupValues!A:B,2,FALSE)","v":694}]
["value883",{"$f":"VLOOKUP(A50884,LookupValues!A:B,2,FALSE)","v":992}]
["value905",{"$f":"VLOOKUP(A50906,LookupValues!A:B,2,FALSE)","v":161}]
["value983",{"$f":"VLOOKUP(A50984,LookupValues!A:B,2,FALSE)","v":296}]
["value1012",{"$f":"VLOOKUP(A51013,LookupValues!A:B,2,FALSE)","v":412}]
["value1050",{"$f":"VLOOKUP(A51051,LookupValues!A:B,2,FALSE)","v":690}]
["value1108",{"$f":"VLOOKUP(A51109,LookupValues!A:B,2,FALSE)","v":852}]
["value1176",{"$f":"VLOOKUP(A51177,LookupValues!A:B,2,FALSE)","v":286}]
["value1205",{"$f":"VLOOKUP(A51206,LookupValues!A:B,2,FALSE)","v":590}]
["value1249",{"$f":"VLOOKUP(A51250,LookupValues!A:B,2,FALSE)","v":146}]
["value1301",{"$f":"VLOOKUP(A51302,LookupValues!A:B,2,FALSE)","v":347}]
["value1379",{"$f":"VLOOKUP(A51380,LookupValues!A:B,2,FALSE)","v":804}]
["value1408",{"$f":"VLOOKUP(A51409,LookupValues!A:B,2,FALSE)","v":983}]
["value1464",{"$f":"VLOOKUP(A51465,LookupValues!A:B,2,FALSE)","v":494}]
["value1504",{"$f":"VLOOKUP(A51505,LookupValues!A:B,2,FALSE)","v":161}]
["value1572",{"$f":"VLOOKUP(A51573,LookupValues!A:B,2,FALSE)","v":982}]
["value1601",{"$f":"VLOOKUP(A51602,LookupValues!A:B,2,FALSE)","v":914}]
["value1663",{"$f":"VLOOKUP(A51664,LookupValues!A:B,2,FALSE)","v":855}]
["value1697",{"$f":"VLOOKUP(A51698,LookupValues!A:B,2,FALSE)","v":182}]
["value1726",{"$f":"VLOOKUP(A51727,LookupValues!A:B,2,FALSE)","v":380}]
["value1804",{"$f":"VLOOKUP(A51805,LookupValues!A:B,2,FALSE)","v":70}]
["value1830",{"$f":"VLOOKUP(A51831,LookupValues!A:B,2,FALSE)","v":778}]
["value1900",{"$f":"VLOOKUP(A51901,LookupValues!A:B,2,FALSE)","v":505}]
["value1968",{"$f":"VLOOKUP(A51969,LookupValues!A:B,2,FALSE)","v":758}]
["value1997",{"$f":"VLOOKUP(A51998,LookupValues!A:B,2,FALSE)","v":109}]
["value2029",{"$f":"VLOOKUP(A52030,LookupValues!A:B,2,FALSE)","v":952}]
["value2093",{"$f":"VLOOKUP(A52094,LookupValues!A:B,2,FALSE)","v":214}]
["value2122",{"$f":"VLOOKUP(A52123,LookupValues!A:B,2,FALSE)","v":595}]
["value2190",{"$f":"VLOOKUP(A52191,LookupValues!A:B,2,FALSE)","v":34}]
["value2244",{"$f":"VLOOKUP(A52245,LookupValues!A:B,2,FALSE)","v":374}]
["value2296",{"$f":"VLOOKUP(A52297,LookupValues!A:B,2,FALSE)","v":0}]
["value2315",{"$f":"VLOOKUP(A52316,LookupValues!A:B,2,FALSE)","v":926}]
["value2393",{"$f":"VLOOKUP(A52394,LookupValues!A:B,2,FALSE)","v":844}]
["value2443",{"$f":"VLOOKUP(A52444,LookupValues!A:B,2,FALSE)","v":709}]
["value2489",{"$f":"VLOOKUP(A52490,LookupValues!A:B,2,FALSE)","v":322}]
["value2518",{"$f":"VLOOKUP(A52519,LookupValues!A:B,2,FALSE)","v":482}]
["value2586",{"$f":"VLOOKUP(A52587,LookupValues!A:B,2,FALSE)","v":787}]
["value2610",{"$f":"VLOOKUP(A52611,LookupValues!A:B,2,FALSE)","v":131}]
["value2692",{"$f":"VLOOKUP(A52693,LookupValues!A:B,2,FALSE)","v":497}]
["value2711",{"$f":"VLOOKUP(A52712,LookupValues!A:B,2,FALSE)","v":784}]
["value2789",{"$f":"VLOOKUP(A52790,LookupValues!A:B,2,FALSE)","v":364}]
["value2825",{"$f":"VLOOKUP(A52826,LookupValues!A:B,2,FALSE)","v":328}]
["value2885",{"$f":"VLOOKUP(A52886,LookupValues!A:B,2,FALSE)","v":261}]
["value2914",{"$f":"VLOOKUP(A52915,LookupValues!A:B,2,FALSE)","v":639}]
["value2982",{"$f":"VLOOKUP(A52983,LookupValues!A:B,2,FALSE)","v":721}]
["value3024",{"$f":"VLOOKUP(A53025,LookupValues!A:B,2,FALSE)","v":209}]
["value3088",{"$f":"VLOOKUP(A53089,LookupValues!A:B,2,FALSE)","v":826}]
["value3107",{"$f":"VLOOKUP(A53108,LookupValues!A:B,2,FALSE)","v":90}]
["value3185",{"$f":"VLOOKUP(A53186,LookupValues!A:B,2,FALSE)","v":678}]
["value3191",{"$f":"VLOOKUP(A53192,LookupValues!A:B,2,FALSE)","v":202}]
["value3281",{"$f":"VLOOKUP(A53282,LookupValues!A:B,2,FALSE)","v":409}]
["value3310",{"$f":"VLOOKUP(A53311,LookupValues!A:B,2,FALSE)","v":193}]
["value3378",{"$f":"VLOOKUP(A53379,LookupValues!A:B,2,FALSE)","v":759}]
["value3390",{"$f":"VLOOKUP(A53391,LookupValues!A:B,2,FALSE)","v":854}]
["value3435",{"$f":"VLOOKUP(A53436,LookupValues!A:B,2,FALSE)","v":544}]
["value3503",{"$f":"VLOOKUP(A53504,LookupValues!A:B,2,FALSE)","v":442}]
["value3532",{"$f":"VLOOKUP(A53533,LookupValues!A:B,2,FALSE)","v":335}]
["value3605",{"$f":"VLOOKUP(A53606,LookupValues!A:B,2,FALSE)","v":326}]
["value3628",{"$f":"VLOOKUP(A53629,LookupValues!A:B,2,FALSE)","v":797}]
["value3706",{"$f":"VLOOKUP(A53707,LookupValues!A:B,2,FALSE)","v":761}]
["value3725",{"$f":"VLOOKUP(A53726,LookupValues!A:B,2,FALSE)","v":401}]
["value3804",{"$f":"VLOOKUP(A53805,LookupValues!A:B,2,FALSE)","v":90}]
["value3821",{"$f":"VLOOKUP(A53822,LookupValues!A:B,2,FALSE)","v":186}]
["value3899",{"$f":"VLOOKUP(A53900,LookupValues!A:B,2,FALSE)","v":692}]
["value3928",{"$f":"VLOOKUP(A53929,LookupValues!A:B,2,FALSE)","v":580}]
["value3971",{"$f":"VLOOKUP(A53972,LookupValues!A:B,2,FALSE)","v":351}]
["value4024",{"$f":"VLOOKUP(A54025,LookupValues!A:B,2,FALSE)","v":489}]
["value4102",{"$f":"VLOOKUP(A54103,LookupValues!A:B,2,FALSE)","v":686}]
["value4121",{"$f":"VLOOKUP(A54122,LookupValues!A:B,2,FALSE)","v":288}]
["value4170",{"$f":"VLOOKUP(A54171,LookupValues!A:B,2,FALSE)","v":650}]
["value4217",{"$f":"VLOOKUP(A54218,LookupValues!A:B,2,FALSE)","v":132}]
["value4295",{"$f":"VLOOKUP(A54296,LookupValues!A:B,2,FALSE)","v":610}]
["value4324",{"$f":"VLOOKUP(A54325,LookupValues!A:B,2,FALSE)","v":534}]
["value4385",{"$f":"VLOOKUP(A54386,LookupValues!A:B,2,FALSE)","v":208}]
["value4420",{"$f":"VLOOKUP(A54421,LookupValues!A:B,2,FALSE)","v":402}]
["value4498",{"$f":"VLOOKUP(A54499,LookupValues!A:B,2,FALSE)","v":491}]
["value4517",{"$f":"VLOOKUP(A54518,LookupValues!A:B,2,FALSE)","v":608}]
["value4584",{"$f":"VLOOKUP(A54585,LookupValues!A:B,2,FALSE)","v":425}]
["value4613",{"$f":"VLOOKUP(A54614,LookupValues!A:B,2,FALSE)","v":563}]
["value4691",{"$f":"VLOOKUP(A54692,LookupValues!A:B,2,FALSE)","v":276}]
["value4720",{"$f":"VLOOKUP(A54721,LookupValues!A:B,2,FALSE)","v":633}]
["value4751",{"$f":"VLOOKUP(A54752,LookupValues!A:B,2,FALSE)","v":367}]
["value4816",{"$f":"VLOOKUP(A54817,LookupValues!A:B,2,FALSE)","v":423}]
["value4884",{"$f":"VLOOKUP(A54885,LookupValues!A:B,2,FALSE)","v":210}]
["value4913",{"$f":"VLOOKUP(A54914,LookupValues!A:B,2,FALSE)","v":735}]
["value4950",{"$f":"VLOOKUP(A54951,LookupValues!A:B,2,FALSE)","v":354}]
["value5009",{"$f":"VLOOKUP(A55010,LookupValues!A:B,2,FALSE)","v":28}]
["value5087",{"$f":"VLOOKUP(A55088,LookupValues!A:B,2,FALSE)","v":728}]
["value5116",{"$f":"VLOOKUP(A55117,LookupValues!A:B,2,FALSE)","v":378}]
["value5165",{"$f":"VLOOKUP(A55166,LookupValues!A:B,2,FALSE)","v":568}]
["value5212",{"$f":"VLOOKUP(A55213,LookupValues!A:B,2,FALSE)","v":655}]
["value5280",{"$f":"VLOOKUP(A55281,LookupValues!A:B,2,FALSE)","v":898}]
["value5309",{"$f":"VLOOKUP(A55310,LookupValues!A:B,2,FALSE)","v":393}]
["value5364",{"$f":"VLOOKUP(A55365,LookupValues!A:B,2,FALSE)","v":22}]
["value5405",{"$f":"VLOOKUP(A55406,LookupValues!A:B,2,FALSE)","v":912}]
["value5434",{"$f":"VLOOKUP(A55435,LookupValues!A:B,2,FALSE)","v":51}]
["value5502",{"$f":"VLOOKUP(A55503,LookupValues!A:B,2,FALSE)","v":17}]
["value5531",{"$f":"VLOOKUP(A55532,LookupValues!A:B,2,FALSE)","v":998}]
["value5608",{"$f":"VLOOKUP(A55609,LookupValues!A:B,2,FALSE)","v":865}]
["value5627",{"$f":"VLOOKUP(A55628,LookupValues!A:B,2,FALSE)","v":131}]
["value5705",{"$f":"VLOOKUP(A55706,LookupValues!A:B,2,FALSE)","v":701}]
["value5730",{"$f":"VLOOKUP(A55731,LookupValues!A:B,2,FALSE)","v":463}]
["value5801",{"$f":"VLOOKUP(A55802,LookupValues!A:B,2,FALSE)","v":528}]
["value5830",{"$f":"VLOOKUP(A55831,LookupValues!A:B,2,FALSE)","v":69}]
["value5898",{"$f":"VLOOKUP(A55899,LookupValues!A:B,2,FALSE)","v":689}]
["value5945",{"$f":"VLOOKUP(A55946,LookupValues!A:B,2,FALSE)","v":112}]
["value6004",{"$f":"VLOOKUP(A56005,LookupValues!A:B,2,FALSE)","v":354}]
["value6023",{"$f":"VLOOKUP(A56024,LookupValues!A:B,2,FALSE)","v":498}]
["value6101",{"$f":"VLOOKUP(A56102,LookupValues!A:B,2,FALSE)","v":902}]
["value6144",{"$f":"VLOOKUP(A56145,LookupValues!A:B,2,FALSE)","v":654}]
["value6197",{"$f":"VLOOKUP(A56198,LookupValues!A:B,2,FALSE)","v":415}]
["value6226",{"$f":"VLOOKUP(A56227,LookupValues!A:B,2,FALSE)","v":332}]
["value6294",{"$f":"VLOOKUP(A56295,LookupValues!A:B,2,FALSE)","v":485}]
["value6311",{"$f":"VLOOKUP(A56312,LookupValues!A:B,2,FALSE)","v":672}]
["value6400",{"$f":"VLOOKUP(A56401,LookupValues!A:B,2,FALSE)","v":521}]
["value6419",{"$f":"VLOOKUP(A56420,LookupValues!A:B,2,FALSE)","v":579}]
["value6497",{"$f":"VLOOKUP(A56498,LookupValues!A:B,2,FALSE)","v":28}]
["value6526",{"$f":"VLOOKUP(A56527,LookupValues!A:B,2,FALSE)","v":258}]
["value6593",{"$f":"VLOOKUP(A56594,LookupValues!A:B,2,FALSE)","v":688}]
["value6622",{"$f":"VLOOKUP(A56623,LookupValues!A:B,2,FALSE)","v":971}]
["value6690",{"$f":"VLOOKUP(A56691,LookupValues!A:B,2,FALSE)","v":519}]
["value6725",{"$f":"VLOOKUP(A56726,LookupValues!A:B,2,FALSE)","v":712}]
["value6747",{"$f":"VLOOKUP(A56748,LookupValues!A:B,2,FALSE)","v":941}]
["value6815",{"$f":"VLOOKUP(A56816,LookupValues!A:B,2,FALSE)","v":300}]
["value6844",{"$f":"VLOOKUP(A56845,LookupValues!A:B,2,FALSE)","v":171}]
["value6940",{"$f":"VLOOKUP(A56941,LookupValues!A:B,2,FALSE)","v":745}]
["value6989",{"$f":"VLOOKUP(A56990,LookupValues!A:B,2,FALSE)","v":226}]
["value7018",{"$f":"VLOOKUP(A57019,LookupValues!A:B,2,FALSE)","v":205}]
["value7086",{"$f":"VLOOKUP(A57087,LookupValues!A:B,2,FALSE)","v":397}]
["value7091",{"$f":"VLOOKUP(A57092,LookupValues!A:B,2,FALSE)","v":13}]
["value7182",{"$f":"VLOOKUP(A57183,LookupValues!A:B,2,FALSE)","v":388}]
["value7211",{"$f":"VLOOKUP(A57212,LookupValues!A:B,2,FALSE)","v":968}]
["value7240",{"$f":"VLOOKUP(A57241,LookupValues!A:B,2,FALSE)","v":734}]
["value7306",{"$f":"VLOOKUP(A57307,LookupValues!A:B,2,FALSE)","v":990}]
["value7336",{"$f":"VLOOKUP(A57337,LookupValues!A:B,2,FALSE)","v":292}]
["value7414",{"$f":"VLOOKUP(A57415,LookupValues!A:B,2,FALSE)","v":185}]
["value7433",{"$f":"VLOOKUP(A57434,LookupValues!A:B,2,FALSE)","v":5}]
["value7505",{"$f":"VLOOKUP(A57506,LookupValues!A:B,2,FALSE)","v":197}]
["value7529",{"$f":"VLOOKUP(A57530,LookupValues!A:B,2,FALSE)","v":946}]
["value7607",{"$f":"VLOOKUP(A57608,LookupValues!A:B,2,FALSE)","v":210}]
["value7636",{"$f":"VLOOKUP(A57637,LookupValues!A:B,2,FALSE)","v":966}]
["value7720",{"$f":"VLOOKUP(A57721,LookupValues!A:B,2,FALSE)","v":256}]
["value7732",{"$f":"VLOOKUP(A57733,LookupValues!A:B,2,FALSE)","v":841}]
["value7810",{"$f":"VLOOKUP(A57811,LookupValues!A:B,2,FALSE)","v":289}]
["value7829",{"$f":"VLOOKUP(A57830,LookupValues!A:B,2,FALSE)","v":681}]
["value7871",{"$f":"VLOOKUP(A57872,LookupValues!A:B,2,FALSE)","v":999}]
["value7925",{"$f":"VLOOKUP(A57926,LookupValues!A:B,2,FALSE)","v":439}]
["value8003",{"$f":"VLOOKUP(A58004,LookupValues!A:B,2,FALSE)","v":784}]
["value8032",{"$f":"VLOOKUP(A58033,LookupValues!A:B,2,FALSE)","v":781}]
["value8086",{"$f":"VLOOKUP(A58087,LookupValues!A:B,2,FALSE)","v":59}]
["value8128",{"$f":"VLOOKUP(A58129,LookupValues!A:B,2,FALSE)","v":116}]
["value8196",{"$f":"VLOOKUP(A58197,LookupValues!A:B,2,FALSE)","v":627}]
["value8225",{"$f":"VLOOKUP(A58226,LookupValues!A:B,2,FALSE)","v":796}]
["value8285",{"$f":"VLOOKUP(A58286,LookupValues!A:B,2,FALSE)","v":720}]
["value8321",{"$f":"VLOOKUP(A58322,LookupValues!A:B,2,FALSE)","v":148}]
["value8399",{"$f":"VLOOKUP(A58400,LookupValues!A:B,2,FALSE)","v":657}]
["value8428",{"$f":"VLOOKUP(A58429,LookupValues!A:B,2,FALSE)","v":157}]
["value8500",{"$f":"VLOOKUP(A58501,LookupValues!A:B,2,FALSE)","v":470}]
["value8524",{"$f":"VLOOKUP(A58525,LookupValues!A:B,2,FALSE)","v":821}]
["value8592",{"$f":"VLOOKUP(A58593,LookupValues!A:B,2,FALSE)","v":446}]
["value8621",{"$f":"VLOOKUP(A58622,LookupValues!A:B,2,FALSE)","v":942}]
["value8651",{"$f":"VLOOKUP(A58652,LookupValues!A:B,2,FALSE)","v":241}]
["value8717",{"$f":"VLOOKUP(A58718,LookupValues!A:B,2,FALSE)","v":849}]
["value8746",{"$f":"VLOOKUP(A58747,LookupValues!A:B,2,FALSE)","v":984}]
["value8824",{"$f":"VLOOKUP(A58825,LookupValues!A:B,2,FALSE)","v":979}]
["value8866",{"$f":"VLOOKUP(A58867,LookupValues!A:B,2,FALSE)","v":879}]
["value8920",{"$f":"VLOOKUP(A58921,LookupValues!A:B,2,FALSE)","v":384}]
["value8988",{"$f":"VLOOKUP(A58989,LookupValues!A:B,2,FALSE)","v":521}]
["value9017",{"$f":"VLOOKUP(A59018,LookupValues!A:B,2,FALSE)","v":587}]
["value9065",{"$f":"VLOOKUP(A59066,LookupValues!A:B,2,FALSE)","v":336}]
["value9113",{"$f":"VLOOKUP(A59114,LookupValues!A:B,2,FALSE)","v":745}]
["value9142",{"$f":"VLOOKUP(A59143,LookupValues!A:B,2,FALSE)","v":180}]
["value9210",{"$f":"VLOOKUP(A59211,LookupValues!A:B,2,FALSE)","v":933}]
["value9280",{"$f":"VLOOKUP(A59281,LookupValues!A:B,2,FALSE)","v":387}]
["value9316",{"$f":"VLOOKUP(A59317,LookupValues!A:B,2,FALSE)","v":600}]
["value9335",{"$f":"VLOOKUP(A59336,LookupValues!A:B,2,FALSE)","v":983}]
["value9413",{"$f":"VLOOKUP(A59414,LookupValues!A:B,2,FALSE)","v":596}]
["value9431",{"$f":"VLOOKUP(A59432,LookupValues!A:B,2,FALSE)","v":922}]
["value9509",{"$f":"VLOOKUP(A59510,LookupValues!A:B,2,FALSE)","v":388}]
["value9538",{"$f":"VLOOKUP(A59539,LookupValues!A:B,2,FALSE)","v":66}]
["value9606",{"$f":"VLOOKUP(A59607,LookupValues!A:B,2,FALSE)","v":810}]
["value9646",{"$f":"VLOOKUP(A59647,LookupValues!A:B,2,FALSE)","v":337}]
["value9712",{"$f":"VLOOKUP(A59713,LookupValues!A:B,2,FALSE)","v":675}]
["value9731",{"$f":"VLOOKUP(A59732,LookupValues!A:B,2,FALSE)","v":543}]
["value9809",{"$f":"VLOOKUP(A59810,LookupValues!A:B,2,FALSE)","v":12}]
["value9861",{"$f":"VLOOKUP(A59862,LookupValues!A:B,2,FALSE)","v":757}]
["value9905",{"$f":"VLOOKUP(A59906,LookupValues!A:B,2,FALSE)","v":472}]
["value9934",{"$f":"VLOOKUP(A59935,LookupValues!A:B,2,FALSE)","v":921}]
["value2",{"$f":"VLOOKUP(A60003,LookupValues!A:B,2,FALSE)","v":333}]
["value60",{"$f":"VLOOKUP(A60061,LookupValues!A:B,2,FALSE)","v":923}]
["value108",{"$f":"VLOOKUP(A60109,LookupValues!A:B,2,FALSE)","v":557}]
["value127",{"$f":"VLOOKUP(A60128,LookupValues!A:B,2,FALSE)","v":770}]
["value205",{"$f":"VLOOKUP(A60206,LookupValues!A:B,2,FALSE)","v":203}]
["value227",{"$f":"VLOOKUP(A60228,LookupValues!A:B,2,FALSE)","v":873}]
["value301",{"$f":"VLOOKUP(A60302,LookupValues!A:B,2,FALSE)","v":916}]
["value330",{"$f":"VLOOKUP(A60331,LookupValues!A:B,2,FALSE)","v":169}]
["value398",{"$f":"VLOOKUP(A60399,LookupValues!A:B,2,FALSE)","v":609}]
["value426",{"$f":"VLOOKUP(A60427,LookupValues!A:B,2,FALSE)","v":420}]
["value455",{"$f":"VLOOKUP(A60456,LookupValues!A:B,2,FALSE)","v":788}]
["value523",{"$f":"VLOOKUP(A60524,LookupValues!A:B,2,FALSE)","v":603}]
["value552",{"$f":"VLOOKUP(A60553,LookupValues!A:B,2,FALSE)","v":387}]
["value641",{"$f":"VLOOKUP(A60642,LookupValues!A:B,2,FALSE)","v":568}]
["value648",{"$f":"VLOOKUP(A60649,LookupValues!A:B,2,FALSE)","v":840}]
["value726",{"$f":"VLOOKUP(A60727,LookupValues!A:B,2,FALSE)","v":51}]
["value745",{"$f":"VLOOKUP(A60746,LookupValues!A:B,2,FALSE)","v":141}]
["value840",{"$f":"VLOOKUP(A60841,LookupValues!A:B,2,FALSE)","v":713}]
["value841",{"$f":"VLOOKUP(A60842,LookupValues!A:B,2,FALSE)","v":451}]
["value919",{"$f":"VLOOKUP(A60920,LookupValues!A:B,2,FALSE)","v":892}]
["value948",{"$f":"VLOOKUP(A60949,LookupValues!A:B,2,FALSE)","v":89}]
["value1007",{"$f":"VLOOKUP(A61008,LookupValues!A:B,2,FALSE)","v":667}]
["value1044",{"$f":"VLOOKUP(A61045,LookupValues!A:B,2,FALSE)","v":772}]
["value1122",{"$f":"VLOOKUP(A61123,LookupValues!A:B,2,FALSE)","v":807}]
["value1141",{"$f":"VLOOKUP(A61142,LookupValues!A:B,2,FALSE)","v":260}]
["value1206",{"$f":"VLOOKUP(A61207,LookupValues!A:B,2,FALSE)","v":205}]
["value1237",{"$f":"VLOOKUP(A61238,LookupValues!A:B,2,FALSE)","v":208}]
["value1315",{"$f":"VLOOKUP(A61316,LookupValues!A:B,2,FALSE)","v":553}]
["value1344",{"$f":"VLOOKUP(A61345,LookupValues!A:B,2,FALSE)","v":900}]
["value1421",{"$f":"VLOOKUP(A61422,LookupValues!A:B,2,FALSE)","v":554}]
["value1440",{"$f":"VLOOKUP(A61441,LookupValues!A:B,2,FALSE)","v":916}]
["value1518",{"$f":"VLOOKUP(A61519,LookupValues!A:B,2,FALSE)","v":587}]
["value1537",{"$f":"VLOOKUP(A61538,LookupValues!A:B,2,FALSE)","v":498}]
["value1620",{"$f":"VLOOKUP(A61621,LookupValues!A:B,2,FALSE)","v":500}]
["value1633",{"$f":"VLOOKUP(A61634,LookupValues!A:B,2,FALSE)","v":753}]
["value1711",{"$f":"VLOOKUP(A61712,LookupValues!A:B,2,FALSE)","v":735}]
["value1740",{"$f":"VLOOKUP(A61741,LookupValues!A:B,2,FALSE)","v":818}]
["value1787",{"$f":"VLOOKUP(A61788,LookupValues!A:B,2,FALSE)","v":380}]
["value1836",{"$f":"VLOOKUP(A61837,LookupValues!A:B,2,FALSE)","v":194}]
["value1904",{"$f":"VLOOKUP(A61905,LookupValues!A:B,2,FALSE)","v":181}]
["value1933",{"$f":"VLOOKUP(A61934,LookupValues!A:B,2,FALSE)","v":947}]
["value1986",{"$f":"VLOOKUP(A61987,LookupValues!A:B,2,FALSE)","v":620}]
["value2029",{"$f":"VLOOKUP(A62030,LookupValues!A:B,2,FALSE)","v":952}]
["value2107",{"$f":"VLOOKUP(A62108,LookupValues!A:B,2,FALSE)","v":97}]
["value2136",{"$f":"VLOOKUP(A62137,LookupValues!A:B,2,FALSE)","v":579}]
["value2201",{"$f":"VLOOKUP(A62202,LookupValues!A:B,2,FALSE)","v":153}]
["value2232",{"$f":"VLOOKUP(A62233,LookupValues!A:B,2,FALSE)","v":889}]
["value2300",{"$f":"VLOOKUP(A62301,LookupValues!A:B,2,FALSE)","v":478}]
["value2329",{"$f":"VLOOKUP(A62330,LookupValues!A:B,2,FALSE)","v":104}]
["value2400",{"$f":"VLOOKUP(A62401,LookupValues!A:B,2,FALSE)","v":733}]
["value2425",{"$f":"VLOOKUP(A62426,LookupValues!A:B,2,FALSE)","v":631}]
["value2454",{"$f":"VLOOKUP(A62455,LookupValues!A:B,2,FALSE)","v":573}]
["value2522",{"$f":"VLOOKUP(A62523,LookupValues!A:B,2,FALSE)","v":995}]
["value2567",{"$f":"VLOOKUP(A62568,LookupValues!A:B,2,FALSE)","v":216}]
["value2628",{"$f":"VLOOKUP(A62629,LookupValues!A:B,2,FALSE)","v":141}]
["value2647",{"$f":"VLOOKUP(A62648,LookupValues!A:B,2,FALSE)","v":391}]
["value2725",{"$f":"VLOOKUP(A62726,LookupValues!A:B,2,FALSE)","v":77}]
["value2766",{"$f":"VLOOKUP(A62767,LookupValues!A:B,2,FALSE)","v":991}]
["value2821",{"$f":"VLOOKUP(A62822,LookupValues!A:B,2,FALSE)","v":143}]
["value2850",{"$f":"VLOOKUP(A62851,LookupValues!A:B,2,FALSE)","v":736}]
["value2918",{"$f":"VLOOKUP(A62919,LookupValues!A:B,2,FALSE)","v":602}]
["value2981",{"$f":"VLOOKUP(A62982,LookupValues!A:B,2,FALSE)","v":338}]
["value3024",{"$f":"VLOOKUP(A63025,LookupValues!A:B,2,FALSE)","v":209}]
["value3043",{"$f":"VLOOKUP(A63044,LookupValues!A:B,2,FALSE)","v":65}]
["value3121",{"$f":"VLOOKUP(A63122,LookupValues!A:B,2,FALSE)","v":141}]
["value3180",{"$f":"VLOOKUP(A63181,LookupValues!A:B,2,FALSE)","v":304}]
["value3217",{"$f":"VLOOKUP(A63218,LookupValues!A:B,2,FALSE)","v":66}]
["value3246",{"$f":"VLOOKUP(A63247,LookupValues!A:B,2,FALSE)","v":60}]
["value3314",{"$f":"VLOOKUP(A63315,LookupValues!A:B,2,FALSE)","v":782}]
["value3347",{"$f":"VLOOKUP(A63348,LookupValues!A:B,2,FALSE)","v":630}]
["value3420",{"$f":"VLOOKUP(A63421,LookupValues!A:B,2,FALSE)","v":338}]
["value3439",{"$f":"VLOOKUP(A63440,LookupValues!A:B,2,FALSE)","v":857}]
["value3517",{"$f":"VLOOKUP(A63518,LookupValues!A:B,2,FALSE)","v":182}]
["value3562",{"$f":"VLOOKUP(A63563,LookupValues!A:B,2,FALSE)","v":879}]
["value3613",{"$f":"VLOOKUP(A63614,LookupValues!A:B,2,FALSE)","v":482}]
["value3642",{"$f":"VLOOKUP(A63643,LookupValues!A:B,2,FALSE)","v":423}]
["value3710",{"$f":"VLOOKUP(A63711,LookupValues!A:B,2,FALSE)","v":623}]
["value3761",{"$f":"VLOOKUP(A63762,LookupValues!A:B,2,FALSE)","v":507}]
["value3767",{"$f":"VLOOKUP(A63768,LookupValues!A:B,2,FALSE)","v":572}]
["value3835",{"$f":"VLOOKUP(A63836,LookupValues!A:B,2,FALSE)","v":330}]
["value3864",{"$f":"VLOOKUP(A63865,LookupValues!A:B,2,FALSE)","v":770}]
["value3928",{"$f":"VLOOKUP(A63929,LookupValues!A:B,2,FALSE)","v":580}]
["value4009",{"$f":"VLOOKUP(A64010,LookupValues!A:B,2,FALSE)","v":953}]
["value4038",{"$f":"VLOOKUP(A64039,LookupValues!A:B,2,FALSE)","v":509}]
["value4106",{"$f":"VLOOKUP(A64107,LookupValues!A:B,2,FALSE)","v":593}]
["value4127",{"$f":"VLOOKUP(A64128,LookupValues!A:B,2,FALSE)","v":696}]
["value4202",{"$f":"VLOOKUP(A64203,LookupValues!A:B,2,FALSE)","v":961}]
["value4231",{"$f":"VLOOKUP(A64232,LookupValues!A:B,2,FALSE)","v":597}]
["value4260",{"$f":"VLOOKUP(A64261,LookupValues!A:B,2,FALSE)","v":839}]
["value4342",{"$f":"VLOOKUP(A64343,LookupValues!A:B,2,FALSE)","v":213}]
["value4356",{"$f":"VLOOKUP(A64357,LookupValues!A:B,2,FALSE)","v":480}]
["value4434",{"$f":"VLOOKUP(A64435,LookupValues!A:B,2,FALSE)","v":134}]
["value4453",{"$f":"VLOOKUP(A64454,LookupValues!A:B,2,FALSE)","v":54}]
["value4541",{"$f":"VLOOKUP(A64542,LookupValues!A:B,2,FALSE)","v":568}]
["value4549",{"$f":"VLOOKUP(A64550,LookupValues!A:B,2,FALSE)","v":105}]
["value4627",{"$f":"VLOOKUP(A64628,LookupValues!A:B,2,FALSE)","v":346}]
["value4656",{"$f":"VLOOKUP(A64657,LookupValues!A:B,2,FALSE)","v":452}]
["value4708",{"$f":"VLOOKUP(A64709,LookupValues!A:B,2,FALSE)","v":635}]
["value4752",{"$f":"VLOOKUP(A64753,LookupValues!A:B,2,FALSE)","v":673}]
["value4830",{"$f":"VLOOKUP(A64831,LookupValues!A:B,2,FALSE)","v":318}]
["value4849",{"$f":"VLOOKUP(A64850,LookupValues!A:B,2,FALSE)","v":298}]
["value4907",{"$f":"VLOOKUP(A64908,LookupValues!A:B,2,FALSE)","v":103}]
["value4945",{"$f":"VLOOKUP(A64946,LookupValues!A:B,2,FALSE)","v":954}]
["value5023",{"$f":"VLOOKUP(A65024,LookupValues!A:B,2,FALSE)","v":31}]
["value5052",{"$f":"VLOOKUP(A65053,LookupValues!A:B,2,FALSE)","v":474}]
["value5122",{"$f":"VLOOKUP(A65123,LookupValues!A:B,2,FALSE)","v":620}]
["value5148",{"$f":"VLOOKUP(A65149,LookupValues!A:B,2,FALSE)","v":235}]
["value5216",{"$f":"VLOOKUP(A65217,LookupValues!A:B,2,FALSE)","v":1}]
["value5245",{"$f":"VLOOKUP(A65246,LookupValues!A:B,2,FALSE)","v":527}]
["value5321",{"$f":"VLOOKUP(A65322,LookupValues!A:B,2,FALSE)","v":342}]
["value5341",{"$f":"VLOOKUP(A65342,LookupValues!A:B,2,FALSE)","v":651}]
["value5419",{"$f":"VLOOKUP(A65420,LookupValues!A:B,2,FALSE)","v":162}]
["value5448",{"$f":"VLOOKUP(A65449,LookupValues!A:B,2,FALSE)","v":82}]
["value5488",{"$f":"VLOOKUP(A65489,LookupValues!A:B,2,FALSE)","v":158}]
["value5544",{"$f":"VLOOKUP(A65545,LookupValues!A:B,2,FALSE)","v":542}]
["value5612",{"$f":"VLOOKUP(A65613,LookupValues!A:B,2,FALSE)","v":915}]
["value5641",{"$f":"VLOOKUP(A65642,LookupValues!A:B,2,FALSE)","v":21}]
["value5687",{"$f":"VLOOKUP(A65688,LookupValues!A:B,2,FALSE)","v":92}]
["value5737",{"$f":"VLOOKUP(A65738,LookupValues!A:B,2,FALSE)","v":674}]
["value5766",{"$f":"VLOOKUP(A65767,LookupValues!A:B,2,FALSE)","v":364}]
["value5844",{"$f":"VLOOKUP(A65845,LookupValues!A:B,2,FALSE)","v":793}]
["value5902",{"$f":"VLOOKUP(A65903,LookupValues!A:B,2,FALSE)","v":483}]
["value5940",{"$f":"VLOOKUP(A65941,LookupValues!A:B,2,FALSE)","v":544}]
["value6008",{"$f":"VLOOKUP(A66009,LookupValues!A:B,2,FALSE)","v":519}]
["value6037",{"$f":"VLOOKUP(A66038,LookupValues!A:B,2,FALSE)","v":225}]
["value6101",{"$f":"VLOOKUP(A66102,LookupValues!A:B,2,FALSE)","v":902}]
["value6133",{"$f":"VLOOKUP(A66134,LookupValues!A:B,2,FALSE)","v":15}]
["value6162",{"$f":"VLOOKUP(A66163,LookupValues!A:B,2,FALSE)","v":514}]
["value6230",{"$f":"VLOOKUP(A66231,LookupValues!A:B,2,FALSE)","v":731}]
["value6268",{"$f":"VLOOKUP(A66269,LookupValues!A:B,2,FALSE)","v":706}]
["value6336",{"$f":"VLOOKUP(A66337,LookupValues!A:B,2,FALSE)","v":366}]
["value6355",{"$f":"VLOOKUP(A66356,LookupValues!A:B,2,FALSE)","v":582}]
["value6433",{"$f":"VLOOKUP(A66434,LookupValues!A:B,2,FALSE)","v":382}]
["value6467",{"$f":"VLOOKUP(A66468,LookupValues!A:B,2,FALSE)","v":172}]
["value6529",{"$f":"VLOOKUP(A66530,LookupValues!A:B,2,FALSE)","v":593}]
["value6558",{"$f":"VLOOKUP(A66559,LookupValues!A:B,2,FALSE)","v":688}]
["value6626",{"$f":"VLOOKUP(A66627,LookupValues!A:B,2,FALSE)","v":510}]
["value6682",{"$f":"VLOOKUP(A66683,LookupValues!A:B,2,FALSE)","v":158}]
["value6732",{"$f":"VLOOKUP(A66733,LookupValues!A:B,2,FALSE)","v":7}]
["value6751",{"$f":"VLOOKUP(A66752,LookupValues!A:B,2,FALSE)","v":329}]
["value6829",{"$f":"VLOOKUP(A66830,LookupValues!A:B,2,FALSE)","v":943}]
["value6849",{"$f":"VLOOKUP(A66850,LookupValues!A:B,2,FALSE)","v":413}]
["value6925",{"$f":"VLOOKUP(A66926,LookupValues!A:B,2,FALSE)","v":284}]
["value6954",{"$f":"VLOOKUP(A66955,LookupValues!A:B,2,FALSE)","v":213}]
["value7022",{"$f":"VLOOKUP(A67023,LookupValues!A:B,2,FALSE)","v":202}]
["value7048",{"$f":"VLOOKUP(A67049,LookupValues!A:B,2,FALSE)","v":351}]
["value7128",{"$f":"VLOOKUP(A67129,LookupValues!A:B,2,FALSE)","v":794}]
["value7147",{"$f":"VLOOKUP(A67148,LookupValues!A:B,2,FALSE)","v":592}]
["value7225",{"$f":"VLOOKUP(A67226,LookupValues!A:B,2,FALSE)","v":328}]
["value7263",{"$f":"VLOOKUP(A67264,LookupValues!A:B,2,FALSE)","v":840}]
["value7321",{"$f":"VLOOKUP(A67322,LookupValues!A:B,2,FALSE)","v":763}]
["value7350",{"$f":"VLOOKUP(A67351,LookupValues!A:B,2,FALSE)","v":862}]
["value7418",{"$f":"VLOOKUP(A67419,LookupValues!A:B,2,FALSE)","v":628}]
["value7462",{"$f":"VLOOKUP(A67463,LookupValues!A:B,2,FALSE)","v":917}]
["value7475",{"$f":"VLOOKUP(A67476,LookupValues!A:B,2,FALSE)","v":765}]
["value7543",{"$f":"VLOOKUP(A67544,LookupValues!A:B,2,FALSE)","v":730}]
["value7572",{"$f":"VLOOKUP(A67573,LookupValues!A:B,2,FALSE)","v":540}]
["value7629",{"$f":"VLOOKUP(A67630,LookupValues!A:B,2,FALSE)","v":649}]
["value7668",{"$f":"VLOOKUP(A67669,LookupValues!A:B,2,FALSE)","v":982}]
["value7746",{"$f":"VLOOKUP(A67747,LookupValues!A:B,2,FALSE)","v":970}]
["value7765",{"$f":"VLOOKUP(A67766,LookupValues!A:B,2,FALSE)","v":802}]
["value7828",{"$f":"VLOOKUP(A67829,LookupValues!A:B,2,FALSE)","v":610}]
["value7861",{"$f":"VLOOKUP(A67862,LookupValues!A:B,2,FALSE)","v":486}]
["value7939",{"$f":"VLOOKUP(A67940,LookupValues!A:B,2,FALSE)","v":201}]
["value7968",{"$f":"VLOOKUP(A67969,LookupValues!A:B,2,FALSE)","v":312}]
["value8043",{"$f":"VLOOKUP(A68044,LookupValues!A:B,2,FALSE)","v":266}]
["value8064",{"$f":"VLOOKUP(A68065,LookupValues!A:B,2,FALSE)","v":141}]
["value8142",{"$f":"VLOOKUP(A68143,LookupValues!A:B,2,FALSE)","v":487}]
["value8161",{"$f":"VLOOKUP(A68162,LookupValues!A:B,2,FALSE)","v":593}]
["value8242",{"$f":"VLOOKUP(A68243,LookupValues!A:B,2,FALSE)","v":188}]
["value8257",{"$f":"VLOOKUP(A68258,LookupValues!A:B,2,FALSE)","v":109}]
["value8335",{"$f":"VLOOKUP(A68336,LookupValues!A:B,2,FALSE)","v":157}]
["value8364",{"$f":"VLOOKUP(A68365,LookupValues!A:B,2,FALSE)","v":485}]
["value8409",{"$f":"VLOOKUP(A68410,LookupValues!A:B,2,FALSE)","v":122}]
["value8460",{"$f":"VLOOKUP(A68461,LookupValues!A:B,2,FALSE)","v":195}]
["value8528",{"$f":"VLOOKUP(A68529,LookupValues!A:B,2,FALSE)","v":522}]
["value8557",{"$f":"VLOOKUP(A68558,LookupValues!A:B,2,FALSE)","v":218}]
["value8608",{"$f":"VLOOKUP(A68609,LookupValues!A:B,2,FALSE)","v":556}]
["value8653",{"$f":"VLOOKUP(A68654,LookupValues!A:B,2,FALSE)","v":534}]
["value8731",{"$f":"VLOOKUP(A68732,LookupValues!A:B,2,FALSE)","v":112}]
["value8760",{"$f":"VLOOKUP(A68761,LookupValues!A:B,2,FALSE)","v":801}]
["value8823",{"$f":"VLOOKUP(A68824,LookupValues!A:B,2,FALSE)","v":930}]
["value8856",{"$f":"VLOOKUP(A68857,LookupValues!A:B,2,FALSE)","v":345}]
["value8924",{"$f":"VLOOKUP(A68925,LookupValues!A:B,2,FALSE)","v":520}]
["value8953",{"$f":"VLOOKUP(A68954,LookupValues!A:B,2,FALSE)","v":219}]
["value9022",{"$f":"VLOOKUP(A69023,LookupValues!A:B,2,FALSE)","v":58}]
["value9049",{"$f":"VLOOKUP(A69050,LookupValues!A:B,2,FALSE)","v":329}]
["value9127",{"$f":"VLOOKUP(A69128,LookupValues!A:B,2,FALSE)","v":609}]
["value9156",{"$f":"VLOOKUP(A69157,LookupValues!A:B,2,FALSE)","v":519}]
["value9189",{"$f":"VLOOKUP(A69190,LookupValues!A:B,2,FALSE)","v":135}]
["value9252",{"$f":"VLOOKUP(A69253,LookupValues!A:B,2,FALSE)","v":8}]
["value9320",{"$f":"VLOOKUP(A69321,LookupValues!A:B,2,FALSE)","v":374}]
["value9349",{"$f":"VLOOKUP(A69350,LookupValues!A:B,2,FALSE)","v":834}]
["value9388",{"$f":"VLOOKUP(A69389,LookupValues!A:B,2,FALSE)","v":781}]
["value9445",{"$f":"VLOOKUP(A69446,LookupValues!A:B,2,FALSE)","v":134}]
["value9474",{"$f":"VLOOKUP(A69475,LookupValues!A:B,2,FALSE)","v":604}]
["value9542",{"$f":"VLOOKUP(A69543,LookupValues!A:B,2,FALSE)","v":153}]
["value9603",{"$f":"VLOOKUP(A69604,LookupValues!A:B,2,FALSE)","v":910}]
["value9648",{"$f":"VLOOKUP(A69649,LookupValues!A:B,2,FALSE)","v":775}]
["value9667",{"$f":"VLOOKUP(A69668,LookupValues!A:B,2,FALSE)","v":282}]
["value9745",{"$f":"VLOOKUP(A69746,LookupValues!A:B,2,FALSE)","v":771}]
["value9802",{"$f":"VLOOKUP(A69803,LookupValues!A:B,2,FALSE)","v":79}]
["value9841",{"$f":"VLOOKUP(A69842,LookupValues!A:B,2,FALSE)","v":247}]
["value9870",{"$f":"VLOOKUP(A69871,LookupValues!A:B,2,FALSE)","v":521}]
["value9938",{"$f":"VLOOKUP(A69939,LookupValues!A:B,2,FALSE)","v":823}]
["value9969",{"$f":"VLOOKUP(A69970,LookupValues!A:B,2,FALSE)","v":343}]
["value44",{"$f":"VLOOKUP(A70045,LookupValues!A:B,2,FALSE)","v":923}]
["value63",{"$f":"VLOOKUP(A70064,LookupValues!A:B,2,FALSE)","v":214}]
["value141",{"$f":"VLOOKUP(A70142,LookupValues!A:B,2,FALSE)","v":527}]
["value168",{"$f":"VLOOKUP(A70169,LookupValues!A:B,2,FALSE)","v":587}]
["value237",{"$f":"VLOOKUP(A70238,LookupValues!A:B,2,FALSE)","v":449}]
["value266",{"$f":"VLOOKUP(A70267,LookupValues!A:B,2,FALSE)","v":750}]
["value334",{"$f":"VLOOKUP(A70335,LookupValues!A:B,2,FALSE)","v":873}]
["value383",{"$f":"VLOOKUP(A70384,LookupValues!A:B,2,FALSE)","v":140}]
["value440",{"$f":"VLOOKUP(A70441,LookupValues!A:B,2,FALSE)","v":847}]
["value459",{"$f":"VLOOKUP(A70460,LookupValues!A:B,2,FALSE)","v":951}]
["value537",{"$f":"VLOOKUP(A70538,LookupValues!A:B,2,FALSE)","v":451}]
["value550",{"$f":"VLOOKUP(A70551,LookupValues!A:B,2,FALSE)","v":502}]
["value633",{"$f":"VLOOKUP(A70634,LookupValues!A:B,2,FALSE)","v":454}]
["value662",{"$f":"VLOOKUP(A70663,LookupValues!A:B,2,FALSE)","v":447}]
["value730",{"$f":"VLOOKUP(A70731,LookupValues!A:B,2,FALSE)","v":244}]
["value749",{"$f":"VLOOKUP(A70750,LookupValues!A:B,2,FALSE)","v":341}]
["value787",{"$f":"VLOOKUP(A70788,LookupValues!A:B,2,FALSE)","v":916}]
["value855",{"$f":"VLOOKUP(A70856,LookupValues!A:B,2,FALSE)","v":223}]
["value884",{"$f":"VLOOKUP(A70885,LookupValues!A:B,2,FALSE)","v":36}]
["value964",{"$f":"VLOOKUP(A70965,LookupValues!A:B,2,FALSE)","v":539}]
["value1029",{"$f":"VLOOKUP(A71030,LookupValues!A:B,2,FALSE)","v":158}]
["value1058",{"$f":"VLOOKUP(A71059,LookupValues!A:B,2,FALSE)","v":883}]
["value1126",{"$f":"VLOOKUP(A71127,LookupValues!A:B,2,FALSE)","v":301}]
["value1163",{"$f":"VLOOKUP(A71164,LookupValues!A:B,2,FALSE)","v":2}]
["value1222",{"$f":"VLOOKUP(A71223,LookupValues!A:B,2,FALSE)","v":258}]
["value1251",{"$f":"VLOOKUP(A71252,LookupValues!A:B,2,FALSE)","v":983}]
["value1280",{"$f":"VLOOKUP(A71281,LookupValues!A:B,2,FALSE)","v":635}]
["value1330",{"$f":"VLOOKUP(A71331,LookupValues!A:B,2,FALSE)","v":513}]
["value1376",{"$f":"VLOOKUP(A71377,LookupValues!A:B,2,FALSE)","v":809}]
["value1454",{"$f":"VLOOKUP(A71455,LookupValues!A:B,2,FALSE)","v":655}]
["value1473",{"$f":"VLOOKUP(A71474,LookupValues!A:B,2,FALSE)","v":234}]
["value1529",{"$f":"VLOOKUP(A71530,LookupValues!A:B,2,FALSE)","v":211}]
["value1569",{"$f":"VLOOKUP(A71570,LookupValues!A:B,2,FALSE)","v":827}]
["value1647",{"$f":"VLOOKUP(A71648,LookupValues!A:B,2,FALSE)","v":815}]
["value1676",{"$f":"VLOOKUP(A71677,LookupValues!A:B,2,FALSE)","v":132}]
["value1744",{"$f":"VLOOKUP(A71745,LookupValues!A:B,2,FALSE)","v":62}]
["value1772",{"$f":"VLOOKUP(A71773,LookupValues!A:B,2,FALSE)","v":488}]
["value1850",{"$f":"VLOOKUP(A71851,LookupValues!A:B,2,FALSE)","v":251}]
["value1869",{"$f":"VLOOKUP(A71870,LookupValues!A:B,2,FALSE)","v":310}]
["value1943",{"$f":"VLOOKUP(A71944,LookupValues!A:B,2,FALSE)","v":554}]
["value1965",{"$f":"VLOOKUP(A71966,LookupValues!A:B,2,FALSE)","v":998}]
["value2043",{"$f":"VLOOKUP(A72044,LookupValues!A:B,2,FALSE)","v":360}]
["value2072",{"$f":"VLOOKUP(A72073,LookupValues!A:B,2,FALSE)","v":611}]
["value2110",{"$f":"VLOOKUP(A72111,LookupValues!A:B,2,FALSE)","v":752}]
["value2168",{"$f":"VLOOKUP(A72169,LookupValues!A:B,2,FALSE)","v":432}]
["value2236",{"$f":"VLOOKUP(A72237,LookupValues!A:B,2,FALSE)","v":305}]
["value2265",{"$f":"VLOOKUP(A72266,LookupValues!A:B,2,FALSE)","v":136}]
["value2309",{"$f":"VLOOKUP(A72310,LookupValues!A:B,2,FALSE)","v":525}]
["value2361",{"$f":"VLOOKUP(A72362,LookupValues!A:B,2,FALSE)","v":590}]
["value2439",{"$f":"VLOOKUP(A72440,LookupValues!A:B,2,FALSE)","v":888}]
["value2468",{"$f":"VLOOKUP(A72469,LookupValues!A:B,2,FALSE)","v":874}]
["value2524",{"$f":"VLOOKUP(A72525,LookupValues!A:B,2,FALSE)","v":657}]
["value2564",{"$f":"VLOOKUP(A72565,LookupValues!A:B,2,FALSE)","v":362}]
["value2632",{"$f":"VLOOKUP(A72633,LookupValues!A:B,2,FALSE)","v":533}]
["value2661",{"$f":"VLOOKUP(A72662,LookupValues!A:B,2,FALSE)","v":261}]
["value2723",{"$f":"VLOOKUP(A72724,LookupValues!A:B,2,FALSE)","v":654}]
["value2757",{"$f":"VLOOKUP(A72758,LookupValues!A:B,2,FALSE)","v":398}]
["value2786",{"$f":"VLOOKUP(A72787,LookupValues!A:B,2,FALSE)","v":872}]
["value2864",{"$f":"VLOOKUP(A72865,LookupValues!A:B,2,FALSE)","v":712}]
["value2890",{"$f":"VLOOKUP(A72891,LookupValues!A:B,2,FALSE)","v":793}]
["value2960",{"$f":"VLOOKUP(A72961,LookupValues!A:B,2,FALSE)","v":40}]
["value3028",{"$f":"VLOOKUP(A73029,LookupValues!A:B,2,FALSE)","v":12}]
["value3057",{"$f":"VLOOKUP(A73058,LookupValues!A:B,2,FALSE)","v":403}]
["value3089",{"$f":"VLOOKUP(A73090,LookupValues!A:B,2,FALSE)","v":260}]
["value3153",{"$f":"VLOOKUP(A73154,LookupValues!A:B,2,FALSE)","v":755}]
["value3182",{"$f":"VLOOKUP(A73183,LookupValues!A:B,2,FALSE)","v":59}]
["value3250",{"$f":"VLOOKUP(A73251,LookupValues!A:B,2,FALSE)","v":203}]
["value3304",{"$f":"VLOOKUP(A73305,LookupValues!A:B,2,FALSE)","v":776}]
["value3356",{"$f":"VLOOKUP(A73357,LookupValues!A:B,2,FALSE)","v":320}]
["value3375",{"$f":"VLOOKUP(A73376,LookupValues!A:B,2,FALSE)","v":787}]
["value3453",{"$f":"VLOOKUP(A73454,LookupValues!A:B,2,FALSE)","v":596}]
["value3503",{"$f":"VLOOKUP(A73504,LookupValues!A:B,2,FALSE)","v":442}]
["value3549",{"$f":"VLOOKUP(A73550,LookupValues!A:B,2,FALSE)","v":489}]
["value3578",{"$f":"VLOOKUP(A73579,LookupValues!A:B,2,FALSE)","v":368}]
["value3646",{"$f":"VLOOKUP(A73647,LookupValues!A:B,2,FALSE)","v":895}]
["value3670",{"$f":"VLOOKUP(A73671,LookupValues!A:B,2,FALSE)","v":368}]
["value3752",{"$f":"VLOOKUP(A73753,LookupValues!A:B,2,FALSE)","v":890}]
["value3771",{"$f":"VLOOKUP(A73772,LookupValues!A:B,2,FALSE)","v":726}]
["value3849",{"$f":"VLOOKUP(A73850,LookupValues!A:B,2,FALSE)","v":331}]
["value3885",{"$f":"VLOOKUP(A73886,LookupValues!A:B,2,FALSE)","v":972}]
["value3945",{"$f":"VLOOKUP(A73946,LookupValues!A:B,2,FALSE)","v":693}]
["value3974",{"$f":"VLOOKUP(A73975,LookupValues!A:B,2,FALSE)","v":396}]
["value4042",{"$f":"VLOOKUP(A74043,LookupValues!A:B,2,FALSE)","v":143}]
["value4084",{"$f":"VLOOKUP(A74085,LookupValues!A:B,2,FALSE)","v":649}]
["value4148",{"$f":"VLOOKUP(A74149,LookupValues!A:B,2,FALSE)","v":594}]
["value4167",{"$f":"VLOOKUP(A74168,LookupValues!A:B,2,FALSE)","v":793}]
["value4245",{"$f":"VLOOKUP(A74246,LookupValues!A:B,2,FALSE)","v":689}]
["value4251",{"$f":"VLOOKUP(A74252,LookupValues!A:B,2,FALSE)","v":453}]
["value4341",{"$f":"VLOOKUP(A74342,LookupValues!A:B,2,FALSE)","v":222}]
["value4370",{"$f":"VLOOKUP(A74371,LookupValues!A:B,2,FALSE)","v":251}]
["value4438",{"$f":"VLOOKUP(A74439,LookupValues!A:B,2,FALSE)","v":880}]
["value4450",{"$f":"VLOOKUP(A74451,LookupValues!A:B,2,FALSE)","v":9}]
["value4495",{"$f":"VLOOKUP(A74496,LookupValues!A:B,2,FALSE)","v":485}]
["value4563",{"$f":"VLOOKUP(A74564,LookupValues!A:B,2,FALSE)","v":324}]
["value4592",{"$f":"VLOOKUP(A74593,LookupValues!A:B,2,FALSE)","v":619}]
["value4665",{"$f":"VLOOKUP(A74666,LookupValues!A:B,2,FALSE)","v":674}]
["value4688",{"$f":"VLOOKUP(A74689,LookupValues!A:B,2,FALSE)","v":219}]
["value4766",{"$f":"VLOOKUP(A74767,LookupValues!A:B,2,FALSE)","v":849}]
["value4785",{"$f":"VLOOKUP(A74786,LookupValues!A:B,2,FALSE)","v":436}]
["value4864",{"$f":"VLOOKUP(A74865,LookupValues!A:B,2,FALSE)","v":754}]
["value4881",{"$f":"VLOOKUP(A74882,LookupValues!A:B,2,FALSE)","v":183}]
["value4959",{"$f":"VLOOKUP(A74960,LookupValues!A:B,2,FALSE)","v":785}]
["value4988",{"$f":"VLOOKUP(A74989,LookupValues!A:B,2,FALSE)","v":868}]
["value5031",{"$f":"VLOOKUP(A75032,LookupValues!A:B,2,FALSE)","v":105}]
["value5084",{"$f":"VLOOKUP(A75085,LookupValues!A:B,2,FALSE)","v":655}]
["value5162",{"$f":"VLOOKUP(A75163,LookupValues!A:B,2,FALSE)","v":669}]
["value5181",{"$f":"VLOOKUP(A75182,LookupValues!A:B,2,FALSE)","v":686}]
["value5259",{"$f":"VLOOKUP(A75260,LookupValues!A:B,2,FALSE)","v":427}]
["value5280",{"$f":"VLOOKUP(A75281,LookupValues!A:B,2,FALSE)","v":898}]
["value5355",{"$f":"VLOOKUP(A75356,LookupValues!A:B,2,FALSE)","v":395}]
["value5384",{"$f":"VLOOKUP(A75385,LookupValues!A:B,2,FALSE)","v":367}]
["value5452",{"$f":"VLOOKUP(A75453,LookupValues!A:B,2,FALSE)","v":131}]
["value5479",{"$f":"VLOOKUP(A75480,LookupValues!A:B,2,FALSE)","v":843}]
["value5548",{"$f":"VLOOKUP(A75549,LookupValues!A:B,2,FALSE)","v":467}]
["value5577",{"$f":"VLOOKUP(A75578,LookupValues!A:B,2,FALSE)","v":282}]
["value5655",{"$f":"VLOOKUP(A75656,LookupValues!A:B,2,FALSE)","v":206}]
["value5694",{"$f":"VLOOKUP(A75695,LookupValues!A:B,2,FALSE)","v":811}]
["value5751",{"$f":"VLOOKUP(A75752,LookupValues!A:B,2,FALSE)","v":79}]
["value5780",{"$f":"VLOOKUP(A75781,LookupValues!A:B,2,FALSE)","v":739}]
["value5848",{"$f":"VLOOKUP(A75849,LookupValues!A:B,2,FALSE)","v":998}]
["value5893",{"$f":"VLOOKUP(A75894,LookupValues!A:B,2,FALSE)","v":123}]
["value5944",{"$f":"VLOOKUP(A75945,LookupValues!A:B,2,FALSE)","v":134}]
["value5973",{"$f":"VLOOKUP(A75974,LookupValues!A:B,2,FALSE)","v":214}]
["value6051",{"$f":"VLOOKUP(A76052,LookupValues!A:B,2,FALSE)","v":411}]
["value6060",{"$f":"VLOOKUP(A76061,LookupValues!A:B,2,FALSE)","v":788}]
["value6147",{"$f":"VLOOKUP(A76148,LookupValues!A:B,2,FALSE)","v":279}]
["value6176",{"$f":"VLOOKUP(A76177,LookupValues!A:B,2,FALSE)","v":66}]
["value6244",{"$f":"VLOOKUP(A76245,LookupValues!A:B,2,FALSE)","v":840}]
["value6259",{"$f":"VLOOKUP(A76260,LookupValues!A:B,2,FALSE)","v":79}]
["value6340",{"$f":"VLOOKUP(A76341,LookupValues!A:B,2,FALSE)","v":459}]
["value6369",{"$f":"VLOOKUP(A76370,LookupValues!A:B,2,FALSE)","v":684}]
["value6398",{"$f":"VLOOKUP(A76399,LookupValues!A:B,2,FALSE)","v":353}]
["value6474",{"$f":"VLOOKUP(A76475,LookupValues!A:B,2,FALSE)","v":27}]
["value6494",{"$f":"VLOOKUP(A76495,LookupValues!A:B,2,FALSE)","v":433}]
["value6562",{"$f":"VLOOKUP(A76563,LookupValues!A:B,2,FALSE)","v":58}]
["value6591",{"$f":"VLOOKUP(A76592,LookupValues!A:B,2,FALSE)","v":860}]
["value6673",{"$f":"VLOOKUP(A76674,LookupValues!A:B,2,FALSE)","v":632}]
["value6687",{"$f":"VLOOKUP(A76688,LookupValues!A:B,2,FALSE)","v":92}]
["value6765",{"$f":"VLOOKUP(A76766,LookupValues!A:B,2,FALSE)","v":411}]
["value6794",{"$f":"VLOOKUP(A76795,LookupValues!A:B,2,FALSE)","v":658}]
["value6840",{"$f":"VLOOKUP(A76841,LookupValues!A:B,2,FALSE)","v":180}]
["value6890",{"$f":"VLOOKUP(A76891,LookupValues!A:B,2,FALSE)","v":131}]
["value6958",{"$f":"VLOOKUP(A76959,LookupValues!A:B,2,FALSE)","v":721}]
["value6987",{"$f":"VLOOKUP(A76988,LookupValues!A:B,2,FALSE)","v":969}]
["value7039",{"$f":"VLOOKUP(A77040,LookupValues!A:B,2,FALSE)","v":879}]
["value7083",{"$f":"VLOOKUP(A77084,LookupValues!A:B,2,FALSE)","v":725}]
["value7161",{"$f":"VLOOKUP(A77162,LookupValues!A:B,2,FALSE)","v":115}]
["value7190",{"$f":"VLOOKUP(A77191,LookupValues!A:B,2,FALSE)","v":726}]
["value7254",{"$f":"VLOOKUP(A77255,LookupValues!A:B,2,FALSE)","v":684}]
["value7286",{"$f":"VLOOKUP(A77287,LookupValues!A:B,2,FALSE)","v":239}]
["value7354",{"$f":"VLOOKUP(A77355,LookupValues!A:B,2,FALSE)","v":488}]
["value7383",{"$f":"VLOOKUP(A77384,LookupValues!A:B,2,FALSE)","v":508}]
["value7453",{"$f":"VLOOKUP(A77454,LookupValues!A:B,2,FALSE)","v":236}]
["value7479",{"$f":"VLOOKUP(A77480,LookupValues!A:B,2,FALSE)","v":771}]
["value7557",{"$f":"VLOOKUP(A77558,LookupValues!A:B,2,FALSE)","v":639}]
["value7576",{"$f":"VLOOKUP(A77577,LookupValues!A:B,2,FALSE)","v":55}]
["value7620",{"$f":"VLOOKUP(A77621,LookupValues!A:B,2,FALSE)","v":481}]
["value7682",{"$f":"VLOOKUP(A77683,LookupValues!A:B,2,FALSE)","v":302}]
["value7750",{"$f":"VLOOKUP(A77751,LookupValues!A:B,2,FALSE)","v":17}]
["value7779",{"$f":"VLOOKUP(A77780,LookupValues!A:B,2,FALSE)","v":539}]
["value7819",{"$f":"VLOOKUP(A77820,LookupValues!A:B,2,FALSE)","v":637}]
["value7875",{"$f":"VLOOKUP(A77876,LookupValues!A:B,2,FALSE)","v":706}]
["value7904",{"$f":"VLOOKUP(A77905,LookupValues!A:B,2,FALSE)","v":512}]
["value7972",{"$f":"VLOOKUP(A77973,LookupValues!A:B,2,FALSE)","v":40}]
["value8034",{"$f":"VLOOKUP(A78035,LookupValues!A:B,2,FALSE)","v":842}]
["value8078",{"$f":"VLOOKUP(A78079,LookupValues!A:B,2,FALSE)","v":391}]
["value8146",{"$f":"VLOOKUP(A78147,LookupValues!A:B,2,FALSE)","v":8}]
["value8175",{"$f":"VLOOKUP(A78176,LookupValues!A:B,2,FALSE)","v":593}]
["value8201",{"$f":"VLOOKUP(A78202,LookupValues!A:B,2,FALSE)","v":766}]
["value8271",{"$f":"VLOOKUP(A78272,LookupValues!A:B,2,FALSE)","v":641}]
["value8300",{"$f":"VLOOKUP(A78301,LookupValues!A:B,2,FALSE)","v":798}]
["value8368",{"$f":"VLOOKUP(A78369,LookupValues!A:B,2,FALSE)","v":857}]
["value8400",{"$f":"VLOOKUP(A78401,LookupValues!A:B,2,FALSE)","v":351}]
["value8474",{"$f":"VLOOKUP(A78475,LookupValues!A:B,2,FALSE)","v":153}]
["value8493",{"$f":"VLOOKUP(A78494,LookupValues!A:B,2,FALSE)","v":321}]
["value8571",{"$f":"VLOOKUP(A78572,LookupValues!A:B,2,FALSE)","v":270}]
["value8615",{"$f":"VLOOKUP(A78616,LookupValues!A:B,2,FALSE)","v":863}]
["value8667",{"$f":"VLOOKUP(A78668,LookupValues!A:B,2,FALSE)","v":31}]
["value8696",{"$f":"VLOOKUP(A78697,LookupValues!A:B,2,FALSE)","v":479}]
["value8764",{"$f":"VLOOKUP(A78765,LookupValues!A:B,2,FALSE)","v":617}]
["value8814",{"$f":"VLOOKUP(A78815,LookupValues!A:B,2,FALSE)","v":405}]
["value8870",{"$f":"VLOOKUP(A78871,LookupValues!A:B,2,FALSE)","v":205}]
["value8889",{"$f":"VLOOKUP(A78890,LookupValues!A:B,2,FALSE)","v":377}]
["value8967",{"$f":"VLOOKUP(A78968,LookupValues!A:B,2,FALSE)","v":601}]
["value8981",{"$f":"VLOOKUP(A78982,LookupValues!A:B,2,FALSE)","v":193}]
["value9063",{"$f":"VLOOKUP(A79064,LookupValues!A:B,2,FALSE)","v":254}]
["value9092",{"$f":"VLOOKUP(A79093,LookupValues!A:B,2,FALSE)","v":120}]
["value9160",{"$f":"VLOOKUP(A79161,LookupValues!A:B,2,FALSE)","v":726}]
["value9180",{"$f":"VLOOKUP(A79181,LookupValues!A:B,2,FALSE)","v":811}]
["value9256",{"$f":"VLOOKUP(A79257,LookupValues!A:B,2,FALSE)","v":569}]
["value9285",{"$f":"VLOOKUP(A79286,LookupValues!A:B,2,FALSE)","v":692}]
["value9363",{"$f":"VLOOKUP(A79364,LookupValues!A:B,2,FALSE)","v":619}]
["value9395",{"$f":"VLOOKUP(A79396,LookupValues!A:B,2,FALSE)","v":647}]
["value9459",{"$f":"VLOOKUP(A79460,LookupValues!A:B,2,FALSE)","v":253}]
["value9488",{"$f":"VLOOKUP(A79489,LookupValues!A:B,2,FALSE)","v":782}]
["value9556",{"$f":"VLOOKUP(A79557,LookupValues!A:B,2,FALSE)","v":240}]
["value9594",{"$f":"VLOOKUP(A79595,LookupValues!A:B,2,FALSE)","v":124}]
["value9652",{"$f":"VLOOKUP(A79653,LookupValues!A:B,2,FALSE)","v":211}]
["value9681",{"$f":"VLOOKUP(A79682,LookupValues!A:B,2,FALSE)","v":375}]
["value9710",{"$f":"VLOOKUP(A79711,LookupValues!A:B,2,FALSE)","v":993}]
["value9761",{"$f":"VLOOKUP(A79762,LookupValues!A:B,2,FALSE)","v":62}]
["value9806",{"$f":"VLOOKUP(A79807,LookupValues!A:B,2,FALSE)","v":962}]
["value9884",{"$f":"VLOOKUP(A79885,LookupValues!A:B,2,FALSE)","v":536}]
["value9903",{"$f":"VLOOKUP(A79904,LookupValues!A:B,2,FALSE)","v":948}]
["value9960",{"$f":"VLOOKUP(A79961,LookupValues!A:B,2,FALSE)","v":967}]
["value48",{"$f":"VLOOKUP(A80049,LookupValues!A:B,2,FALSE)","v":999}]
["value77",{"$f":"VLOOKUP(A80078,LookupValues!A:B,2,FALSE)","v":980}]
["value106",{"$f":"VLOOKUP(A80107,LookupValues!A:B,2,FALSE)","v":689}]
["value175",{"$f":"VLOOKUP(A80176,LookupValues!A:B,2,FALSE)","v":206}]
["value202",{"$f":"VLOOKUP(A80203,LookupValues!A:B,2,FALSE)","v":729}]
["value270",{"$f":"VLOOKUP(A80271,LookupValues!A:B,2,FALSE)","v":924}]
["value299",{"$f":"VLOOKUP(A80300,LookupValues!A:B,2,FALSE)","v":228}]
["value374",{"$f":"VLOOKUP(A80375,LookupValues!A:B,2,FALSE)","v":42}]
["value395",{"$f":"VLOOKUP(A80396,LookupValues!A:B,2,FALSE)","v":112}]
["value473",{"$f":"VLOOKUP(A80474,LookupValues!A:B,2,FALSE)","v":992}]
["value502",{"$f":"VLOOKUP(A80503,LookupValues!A:B,2,FALSE)","v":687}]
["value541",{"$f":"VLOOKUP(A80542,LookupValues!A:B,2,FALSE)","v":971}]
["value598",{"$f":"VLOOKUP(A80599,LookupValues!A:B,2,FALSE)","v":739}]
["value666",{"$f":"VLOOKUP(A80667,LookupValues!A:B,2,FALSE)","v":410}]
["value695",{"$f":"VLOOKUP(A80696,LookupValues!A:B,2,FALSE)","v":140}]
["value740",{"$f":"VLOOKUP(A80741,LookupValues!A:B,2,FALSE)","v":306}]
["value791",{"$f":"VLOOKUP(A80792,LookupValues!A:B,2,FALSE)","v":84}]
["value869",{"$f":"VLOOKUP(A80870,LookupValues!A:B,2,FALSE)","v":949}]
["value888",{"$f":"VLOOKUP(A80889,LookupValues!A:B,2,FALSE)","v":591}]
["value955",{"$f":"VLOOKUP(A80956,LookupValues!A:B,2,FALSE)","v":472}]
["value994",{"$f":"VLOOKUP(A80995,LookupValues!A:B,2,FALSE)","v":359}]
["value1062",{"$f":"VLOOKUP(A81063,LookupValues!A:B,2,FALSE)","v":382}]
["value1091",{"$f":"VLOOKUP(A81092,LookupValues!A:B,2,FALSE)","v":529}]
["value1154",{"$f":"VLOOKUP(A81155,LookupValues!A:B,2,FALSE)","v":576}]
["value1187",{"$f":"VLOOKUP(A81188,LookupValues!A:B,2,FALSE)","v":352}]
["value1265",{"$f":"VLOOKUP(A81266,LookupValues!A:B,2,FALSE)","v":506}]
["value1284",{"$f":"VLOOKUP(A81285,LookupValues!A:B,2,FALSE)","v":809}]
["value1321",{"$f":"VLOOKUP(A81322,LookupValues!A:B,2,FALSE)","v":173}]
["value1390",{"$f":"VLOOKUP(A81391,LookupValues!A:B,2,FALSE)","v":663}]
["value1458",{"$f":"VLOOKUP(A81459,LookupValues!A:B,2,FALSE)","v":438}]
["value1487",{"$f":"VLOOKUP(A81488,LookupValues!A:B,2,FALSE)","v":836}]
["value1520",{"$f":"VLOOKUP(A81521,LookupValues!A:B,2,FALSE)","v":349}]
["value1583",{"$f":"VLOOKUP(A81584,LookupValues!A:B,2,FALSE)","v":655}]
["value1612",{"$f":"VLOOKUP(A81613,LookupValues!A:B,2,FALSE)","v":250}]
["value1680",{"$f":"VLOOKUP(A81681,LookupValues!A:B,2,FALSE)","v":450}]
["value1735",{"$f":"VLOOKUP(A81736,LookupValues!A:B,2,FALSE)","v":122}]
["value1786",{"$f":"VLOOKUP(A81787,LookupValues!A:B,2,FALSE)","v":271}]
["value1805",{"$f":"VLOOKUP(A81806,LookupValues!A:B,2,FALSE)","v":637}]
["value1883",{"$f":"VLOOKUP(A81884,LookupValues!A:B,2,FALSE)","v":746}]
["value1902",{"$f":"VLOOKUP(A81903,LookupValues!A:B,2,FALSE)","v":343}]
["value1979",{"$f":"VLOOKUP(A81980,LookupValues!A:B,2,FALSE)","v":915}]
["value2008",{"$f":"VLOOKUP(A82009,LookupValues!A:B,2,FALSE)","v":446}]
["value2076",{"$f":"VLOOKUP(A82077,LookupValues!A:B,2,FALSE)","v":627}]
["value2101",{"$f":"VLOOKUP(A82102,LookupValues!A:B,2,FALSE)","v":952}]
["value2182",{"$f":"VLOOKUP(A82183,LookupValues!A:B,2,FALSE)","v":512}]
["value2201",{"$f":"VLOOKUP(A82202,LookupValues!A:B,2,FALSE)","v":153}]
["value2279",{"$f":"VLOOKUP(A82280,LookupValues!A:B,2,FALSE)","v":235}]
["value2316",{"$f":"VLOOKUP(A82317,LookupValues!A:B,2,FALSE)","v":99}]
["value2375",{"$f":"VLOOKUP(A82376,LookupValues!A:B,2,FALSE)","v":385}]
["value2404",{"$f":"VLOOKUP(A82405,LookupValues!A:B,2,FALSE)","v":886}]
["value2472",{"$f":"VLOOKUP(A82473,LookupValues!A:B,2,FALSE)","v":486}]
["value2515",{"$f":"VLOOKUP(A82516,LookupValues!A:B,2,FALSE)","v":656}]
["value2568",{"$f":"VLOOKUP(A82569,LookupValues!A:B,2,FALSE)","v":871}]
["value2597",{"$f":"VLOOKUP(A82598,LookupValues!A:B,2,FALSE)","v":736}]
["value2675",{"$f":"VLOOKUP(A82676,LookupValues!A:B,2,FALSE)","v":630}]
["value2682",{"$f":"VLOOKUP(A82683,LookupValues!A:B,2,FALSE)","v":376}]
["value2771",{"$f":"VLOOKUP(A82772,LookupValues!A:B,2,FALSE)","v":441}]
["value2800",{"$f":"VLOOKUP(A82801,LookupValues!A:B,2,FALSE)","v":892}]
["value2868",{"$f":"VLOOKUP(A82869,LookupValues!A:B,2,FALSE)","v":530}]
["value2881",{"$f":"VLOOKUP(A82882,LookupValues!A:B,2,FALSE)","v":87}]
["value2964",{"$f":"VLOOKUP(A82965,LookupValues!A:B,2,FALSE)","v":272}]
["value2993",{"$f":"VLOOKUP(A82994,LookupValues!A:B,2,FALSE)","v":787}]
["value3071",{"$f":"VLOOKUP(A83072,LookupValues!A:B,2,FALSE)","v":988}]
["value3096",{"$f":"VLOOKUP(A83097,LookupValues!A:B,2,FALSE)","v":857}]
["value3167",{"$f":"VLOOKUP(A83168,LookupValues!A:B,2,FALSE)","v":524}]
["value3196",{"$f":"VLOOKUP(A83197,LookupValues!A:B,2,FALSE)","v":710}]
["value3264",{"$f":"VLOOKUP(A83265,LookupValues!A:B,2,FALSE)","v":38}]
["value3295",{"$f":"VLOOKUP(A83296,LookupValues!A:B,2,FALSE)","v":471}]
["value3360",{"$f":"VLOOKUP(A83361,LookupValues!A:B,2,FALSE)","v":718}]
["value3389",{"$f":"VLOOKUP(A83390,LookupValues!A:B,2,FALSE)","v":426}]
["value3418",{"$f":"VLOOKUP(A83419,LookupValues!A:B,2,FALSE)","v":783}]
["value3462",{"$f":"VLOOKUP(A83463,LookupValues!A:B,2,FALSE)","v":45}]
["value3514",{"$f":"VLOOKUP(A83515,LookupValues!A:B,2,FALSE)","v":428}]
["value3582",{"$f":"VLOOKUP(A83583,LookupValues!A:B,2,FALSE)","v":816}]
["value3611",{"$f":"VLOOKUP(A83612,LookupValues!A:B,2,FALSE)","v":735}]
["value3661",{"$f":"VLOOKUP(A83662,LookupValues!A:B,2,FALSE)","v":895}]
["value3707",{"$f":"VLOOKUP(A83708,LookupValues!A:B,2,FALSE)","v":804}]
["value3785",{"$f":"VLOOKUP(A83786,LookupValues!A:B,2,FALSE)","v":488}]
["value3814",{"$f":"VLOOKUP(A83815,LookupValues!A:B,2,FALSE)","v":58}]
["value3876",{"$f":"VLOOKUP(A83877,LookupValues!A:B,2,FALSE)","v":355}]
["value3910",{"$f":"VLOOKUP(A83911,LookupValues!A:B,2,FALSE)","v":953}]
["value3978",{"$f":"VLOOKUP(A83979,LookupValues!A:B,2,FALSE)","v":61}]
["value4007",{"$f":"VLOOKUP(A84008,LookupValues!A:B,2,FALSE)","v":468}]
["value4075",{"$f":"VLOOKUP(A84076,LookupValues!A:B,2,FALSE)","v":105}]
["value4103",{"$f":"VLOOKUP(A84104,LookupValues!A:B,2,FALSE)","v":392}]
["value4181",{"$f":"VLOOKUP(A84182,LookupValues!A:B,2,FALSE)","v":177}]
["value4210",{"$f":"VLOOKUP(A84211,LookupValues!A:B,2,FALSE)","v":309}]
["value4242",{"$f":"VLOOKUP(A84243,LookupValues!A:B,2,FALSE)","v":0}]
["value4306",{"$f":"VLOOKUP(A84307,LookupValues!A:B,2,FALSE)","v":677}]
["value4374",{"$f":"VLOOKUP(A84375,LookupValues!A:B,2,FALSE)","v":452}]
["value4403",{"$f":"VLOOKUP(A84404,LookupValues!A:B,2,FALSE)","v":915}]
["value4441",{"$f":"VLOOKUP(A84442,LookupValues!A:B,2,FALSE)","v":256}]
["value4499",{"$f":"VLOOKUP(A84500,LookupValues!A:B,2,FALSE)","v":650}]
["value4577",{"$f":"VLOOKUP(A84578,LookupValues!A:B,2,FALSE)","v":974}]
["value4596",{"$f":"VLOOKUP(A84597,LookupValues!A:B,2,FALSE)","v":516}]
["value4656",{"$f":"VLOOKUP(A84657,LookupValues!A:B,2,FALSE)","v":452}]
["value4702",{"$f":"VLOOKUP(A84703,LookupValues!A:B,2,FALSE)","v":172}]
["value4770",{"$f":"VLOOKUP(A84771,LookupValues!A:B,2,FALSE)","v":974}]
["value4799",{"$f":"VLOOKUP(A84800,LookupValues!A:B,2,FALSE)","v":821}]
["value4855",{"$f":"VLOOKUP(A84856,LookupValues!A:B,2,FALSE)","v":907}]
["value4895",{"$f":"VLOOKUP(A84896,LookupValues!A:B,2,FALSE)","v":581}]
["value4924",{"$f":"VLOOKUP(A84925,LookupValues!A:B,2,FALSE)","v":97}]
["value4992",{"$f":"VLOOKUP(A84993,LookupValues!A:B,2,FALSE)","v":843}]
["value5022",{"$f":"VLOOKUP(A85023,LookupValues!A:B,2,FALSE)","v":24}]
["value5098",{"$f":"VLOOKUP(A85099,LookupValues!A:B,2,FALSE)","v":246}]
["value5166",{"$f":"VLOOKUP(A85167,LookupValues!A:B,2,FALSE)","v":33}]
["value5195",{"$f":"VLOOKUP(A85196,LookupValues!A:B,2,FALSE)","v":86}]
["value5237",{"$f":"VLOOKUP(A85238,LookupValues!A:B,2,FALSE)","v":296}]
["value5291",{"$f":"VLOOKUP(A85292,LookupValues!A:B,2,FALSE)","v":120}]
["value5320",{"$f":"VLOOKUP(A85321,LookupValues!A:B,2,FALSE)","v":919}]
["value5388",{"$f":"VLOOKUP(A85389,LookupValues!A:B,2,FALSE)","v":540}]
["value5436",{"$f":"VLOOKUP(A85437,LookupValues!A:B,2,FALSE)","v":614}]
["value5494",{"$f":"VLOOKUP(A85495,LookupValues!A:B,2,FALSE)","v":38}]
["value5513",{"$f":"VLOOKUP(A85514,LookupValues!A:B,2,FALSE)","v":308}]
["value5591",{"$f":"VLOOKUP(A85592,LookupValues!A:B,2,FALSE)","v":510}]
["value5651",{"$f":"VLOOKUP(A85652,LookupValues!A:B,2,FALSE)","v":119}]
["value5687",{"$f":"VLOOKUP(A85688,LookupValues!A:B,2,FALSE)","v":92}]
["value5716",{"$f":"VLOOKUP(A85717,LookupValues!A:B,2,FALSE)","v":443}]
["value5784",{"$f":"VLOOKUP(A85785,LookupValues!A:B,2,FALSE)","v":966}]
["value5802",{"$f":"VLOOKUP(A85803,LookupValues!A:B,2,FALSE)","v":751}]
["value5890",{"$f":"VLOOKUP(A85891,LookupValues!A:B,2,FALSE)","v":33}]
["value5909",{"$f":"VLOOKUP(A85910,LookupValues!A:B,2,FALSE)","v":626}]
["value5987",{"$f":"VLOOKUP(A85988,LookupValues!A:B,2,FALSE)","v":610}]
["value6017",{"$f":"VLOOKUP(A86018,LookupValues!A:B,2,FALSE)","v":44}]
["value6083",{"$f":"VLOOKUP(A86084,LookupValues!A:B,2,FALSE)","v":737}]
["value6112",{"$f":"VLOOKUP(A86113,LookupValues!A:B,2,FALSE)","v":764}]
["value6180",{"$f":"VLOOKUP(A86181,LookupValues!A:B,2,FALSE)","v":857}]
["value6216",{"$f":"VLOOKUP(A86217,LookupValues!A:B,2,FALSE)","v":129}]
["value6276",{"$f":"VLOOKUP(A86277,LookupValues!A:B,2,FALSE)","v":884}]
["value6305",{"$f":"VLOOKUP(A86306,LookupValues!A:B,2,FALSE)","v":344}]
["value6383",{"$f":"VLOOKUP(A86384,LookupValues!A:B,2,FALSE)","v":354}]
["value6431",{"$f":"VLOOKUP(A86432,LookupValues!A:B,2,FALSE)","v":232}]
["value6479",{"$f":"VLOOKUP(A86480,LookupValues!A:B,2,FALSE)","v":748}]
["value6508",{"$f":"VLOOKUP(A86509,LookupValues!A:B,2,FALSE)","v":151}]
["value6576",{"$f":"VLOOKUP(A86577,LookupValues!A:B,2,FALSE)","v":319}]
["value6582",{"$f":"VLOOKUP(A86583,LookupValues!A:B,2,FALSE)","v":437}]
["value6672",{"$f":"VLOOKUP(A86673,LookupValues!A:B,2,FALSE)","v":89}]
["value6701",{"$f":"VLOOKUP(A86702,LookupValues!A:B,2,FALSE)","v":149}]
["value6730",{"$f":"VLOOKUP(A86731,LookupValues!A:B,2,FALSE)","v":983}]
["value6797",{"$f":"VLOOKUP(A86798,LookupValues!A:B,2,FALSE)","v":223}]
["value6826",{"$f":"VLOOKUP(A86827,LookupValues!A:B,2,FALSE)","v":290}]
["value6894",{"$f":"VLOOKUP(A86895,LookupValues!A:B,2,FALSE)","v":431}]
["value6923",{"$f":"VLOOKUP(A86924,LookupValues!A:B,2,FALSE)","v":821}]
["value6996",{"$f":"VLOOKUP(A86997,LookupValues!A:B,2,FALSE)","v":208}]
["value7068",{"$f":"VLOOKUP(A87069,LookupValues!A:B,2,FALSE)","v":266}]
["value7097",{"$f":"VLOOKUP(A87098,LookupValues!A:B,2,FALSE)","v":455}]
["value7126",{"$f":"VLOOKUP(A87127,LookupValues!A:B,2,FALSE)","v":244}]
["value7211",{"$f":"VLOOKUP(A87212,LookupValues!A:B,2,FALSE)","v":968}]
["value7222",{"$f":"VLOOKUP(A87223,LookupValues!A:B,2,FALSE)","v":319}]
["value7290",{"$f":"VLOOKUP(A87291,LookupValues!A:B,2,FALSE)","v":270}]
["value7319",{"$f":"VLOOKUP(A87320,LookupValues!A:B,2,FALSE)","v":990}]
["value7362",{"$f":"VLOOKUP(A87363,LookupValues!A:B,2,FALSE)","v":923}]
["value7415",{"$f":"VLOOKUP(A87416,LookupValues!A:B,2,FALSE)","v":542}]
["value7493",{"$f":"VLOOKUP(A87494,LookupValues!A:B,2,FALSE)","v":217}]
["value7522",{"$f":"VLOOKUP(A87523,LookupValues!A:B,2,FALSE)","v":481}]
["value7577",{"$f":"VLOOKUP(A87578,LookupValues!A:B,2,FALSE)","v":491}]
["value7618",{"$f":"VLOOKUP(A87619,LookupValues!A:B,2,FALSE)","v":460}]
["value7686",{"$f":"VLOOKUP(A87687,LookupValues!A:B,2,FALSE)","v":835}]
["value7715",{"$f":"VLOOKUP(A87716,LookupValues!A:B,2,FALSE)","v":856}]
["value7776",{"$f":"VLOOKUP(A87777,LookupValues!A:B,2,FALSE)","v":60}]
["value7811",{"$f":"VLOOKUP(A87812,LookupValues!A:B,2,FALSE)","v":827}]
["value7889",{"$f":"VLOOKUP(A87890,LookupValues!A:B,2,FALSE)","v":617}]
["value7908",{"$f":"VLOOKUP(A87909,LookupValues!A:B,2,FALSE)","v":101}]
["value7991",{"$f":"VLOOKUP(A87992,LookupValues!A:B,2,FALSE)","v":123}]
["value8014",{"$f":"VLOOKUP(A88015,LookupValues!A:B,2,FALSE)","v":941}]
["value8082",{"$f":"VLOOKUP(A88083,LookupValues!A:B,2,FALSE)","v":977}]
["value8111",{"$f":"VLOOKUP(A88112,LookupValues!A:B,2,FALSE)","v":940}]
["value8142",{"$f":"VLOOKUP(A88143,LookupValues!A:B,2,FALSE)","v":487}]
["value8207",{"$f":"VLOOKUP(A88208,LookupValues!A:B,2,FALSE)","v":738}]
["value8285",{"$f":"VLOOKUP(A88286,LookupValues!A:B,2,FALSE)","v":720}]
["value8304",{"$f":"VLOOKUP(A88305,LookupValues!A:B,2,FALSE)","v":870}]
["value8357",{"$f":"VLOOKUP(A88358,LookupValues!A:B,2,FALSE)","v":0}]
["value8410",{"$f":"VLOOKUP(A88411,LookupValues!A:B,2,FALSE)","v":618}]
["value8478",{"$f":"VLOOKUP(A88479,LookupValues!A:B,2,FALSE)","v":64}]
["value8507",{"$f":"VLOOKUP(A88508,LookupValues!A:B,2,FALSE)","v":256}]
["value8556",{"$f":"VLOOKUP(A88557,LookupValues!A:B,2,FALSE)","v":272}]
["value8603",{"$f":"VLOOKUP(A88604,LookupValues!A:B,2,FALSE)","v":445}]
["value8632",{"$f":"VLOOKUP(A88633,LookupValues!A:B,2,FALSE)","v":652}]
["value8700",{"$f":"VLOOKUP(A88701,LookupValues!A:B,2,FALSE)","v":697}]
["value8771",{"$f":"VLOOKUP(A88772,LookupValues!A:B,2,FALSE)","v":524}]
["value8806",{"$f":"VLOOKUP(A88807,LookupValues!A:B,2,FALSE)","v":295}]
["value8825",{"$f":"VLOOKUP(A88826,LookupValues!A:B,2,FALSE)","v":427}]
["value8903",{"$f":"VLOOKUP(A88904,LookupValues!A:B,2,FALSE)","v":733}]
["value8938",{"$f":"VLOOKUP(A88939,LookupValues!A:B,2,FALSE)","v":510}]
["value8999",{"$f":"VLOOKUP(A89000,LookupValues!A:B,2,FALSE)","v":778}]
["value9028",{"$f":"VLOOKUP(A89029,LookupValues!A:B,2,FALSE)","v":298}]
["value9096",{"$f":"VLOOKUP(A89097,LookupValues!A:B,2,FALSE)","v":349}]
["value9137",{"$f":"VLOOKUP(A89138,LookupValues!A:B,2,FALSE)","v":657}]
["value9202",{"$f":"VLOOKUP(A89203,LookupValues!A:B,2,FALSE)","v":988}]
["value9221",{"$f":"VLOOKUP(A89222,LookupValues!A:B,2,FALSE)","v":722}]
["value9299",{"$f":"VLOOKUP(A89300,LookupValues!A:B,2,FALSE)","v":844}]
["value9352",{"$f":"VLOOKUP(A89353,LookupValues!A:B,2,FALSE)","v":737}]
["value9395",{"$f":"VLOOKUP(A89396,LookupValues!A:B,2,FALSE)","v":647}]
["value9424",{"$f":"VLOOKUP(A89425,LookupValues!A:B,2,FALSE)","v":678}]
["value9492",{"$f":"VLOOKUP(A89493,LookupValues!A:B,2,FALSE)","v":510}]
["value9551",{"$f":"VLOOKUP(A89552,LookupValues!A:B,2,FALSE)","v":259}]
["value9588",{"$f":"VLOOKUP(A89589,LookupValues!A:B,2,FALSE)","v":97}]
["value9617",{"$f":"VLOOKUP(A89618,LookupValues!A:B,2,FALSE)","v":855}]
["value9695",{"$f":"VLOOKUP(A89696,LookupValues!A:B,2,FALSE)","v":128}]
["value9718",{"$f":"VLOOKUP(A89719,LookupValues!A:B,2,FALSE)","v":461}]
["value9791",{"$f":"VLOOKUP(A89792,LookupValues!A:B,2,FALSE)","v":748}]
["value9820",{"$f":"VLOOKUP(A89821,LookupValues!A:B,2,FALSE)","v":679}]
["value9888",{"$f":"VLOOKUP(A89889,LookupValues!A:B,2,FALSE)","v":384}]
["value9917",{"$f":"VLOOKUP(A89918,LookupValues!A:B,2,FALSE)","v":212}]
["value9984",{"$f":"VLOOKUP(A89985,LookupValues!A:B,2,FALSE)","v":859}]
["value13",{"$f":"VLOOKUP(A90014,LookupValues!A:B,2,FALSE)","v":652}]
["value91",{"$f":"VLOOKUP(A90092,LookupValues!A:B,2,FALSE)","v":227}]
["value132",{"$f":"VLOOKUP(A90133,LookupValues!A:B,2,FALSE)","v":689}]
["value187",{"$f":"VLOOKUP(A90188,LookupValues!A:B,2,FALSE)","v":607}]
["value216",{"$f":"VLOOKUP(A90217,LookupValues!A:B,2,FALSE)","v":286}]
["value284",{"$f":"VLOOKUP(A90285,LookupValues!A:B,2,FALSE)","v":631}]
["value331",{"$f":"VLOOKUP(A90332,LookupValues!A:B,2,FALSE)","v":400}]
["value380",{"$f":"VLOOKUP(A90381,LookupValues!A:B,2,FALSE)","v":108}]
["value409",{"$f":"VLOOKUP(A90410,LookupValues!A:B,2,FALSE)","v":952}]
["value438",{"$f":"VLOOKUP(A90439,LookupValues!A:B,2,FALSE)","v":483}]
["value498",{"$f":"VLOOKUP(A90499,LookupValues!A:B,2,FALSE)","v":903}]
["value534",{"$f":"VLOOKUP(A90535,LookupValues!A:B,2,FALSE)","v":268}]
["value602",{"$f":"VLOOKUP(A90603,LookupValues!A:B,2,FALSE)","v":601}]
["value631",{"$f":"VLOOKUP(A90632,LookupValues!A:B,2,FALSE)","v":801}]
["value697",{"$f":"VLOOKUP(A90698,LookupValues!A:B,2,FALSE)","v":988}]
["value727",{"$f":"VLOOKUP(A90728,LookupValues!A:B,2,FALSE)","v":487}]
["value805",{"$f":"VLOOKUP(A90806,LookupValues!A:B,2,FALSE)","v":416}]
["value834",{"$f":"VLOOKUP(A90835,LookupValues!A:B,2,FALSE)","v":407}]
["value912",{"$f":"VLOOKUP(A90913,LookupValues!A:B,2,FALSE)","v":43}]
["value930",{"$f":"VLOOKUP(A90931,LookupValues!A:B,2,FALSE)","v":39}]
["value998",{"$f":"VLOOKUP(A90999,LookupValues!A:B,2,FALSE)","v":822}]
["value1027",{"$f":"VLOOKUP(A91028,LookupValues!A:B,2,FALSE)","v":571}]
["value1111",{"$f":"VLOOKUP(A91112,LookupValues!A:B,2,FALSE)","v":748}]
["value1123",{"$f":"VLOOKUP(A91124,LookupValues!A:B,2,FALSE)","v":98}]
["value1201",{"$f":"VLOOKUP(A91202,LookupValues!A:B,2,FALSE)","v":855}]
["value1230",{"$f":"VLOOKUP(A91231,LookupValues!A:B,2,FALSE)","v":760}]
["value1278",{"$f":"VLOOKUP(A91279,LookupValues!A:B,2,FALSE)","v":168}]
["value1326",{"$f":"VLOOKUP(A91327,LookupValues!A:B,2,FALSE)","v":84}]
["value1394",{"$f":"VLOOKUP(A91395,LookupValues!A:B,2,FALSE)","v":840}]
["value1423",{"$f":"VLOOKUP(A91424,LookupValues!A:B,2,FALSE)","v":588}]
["value1477",{"$f":"VLOOKUP(A91478,LookupValues!A:B,2,FALSE)","v":791}]
["value1519",{"$f":"VLOOKUP(A91520,LookupValues!A:B,2,FALSE)","v":92}]
["value1597",{"$f":"VLOOKUP(A91598,LookupValues!A:B,2,FALSE)","v":340}]
["value1616",{"$f":"VLOOKUP(A91617,LookupValues!A:B,2,FALSE)","v":685}]
["value1692",{"$f":"VLOOKUP(A91693,LookupValues!A:B,2,FALSE)","v":40}]
["value1722",{"$f":"VLOOKUP(A91723,LookupValues!A:B,2,FALSE)","v":834}]
["value1790",{"$f":"VLOOKUP(A91791,LookupValues!A:B,2,FALSE)","v":712}]
["value1819",{"$f":"VLOOKUP(A91820,LookupValues!A:B,2,FALSE)","v":298}]
["value1891",{"$f":"VLOOKUP(A91892,LookupValues!A:B,2,FALSE)","v":14}]
["value1915",{"$f":"VLOOKUP(A91916,LookupValues!A:B,2,FALSE)","v":630}]
["value1944",{"$f":"VLOOKUP(A91945,LookupValues!A:B,2,FALSE)","v":733}]
["value2012",{"$f":"VLOOKUP(A92013,LookupValues!A:B,2,FALSE)","v":615}]
["value2058",{"$f":"VLOOKUP(A92059,LookupValues!A:B,2,FALSE)","v":406}]
["value2118",{"$f":"VLOOKUP(A92119,LookupValues!A:B,2,FALSE)","v":280}]
["value2186",{"$f":"VLOOKUP(A92187,LookupValues!A:B,2,FALSE)","v":650}]
["value2215",{"$f":"VLOOKUP(A92216,LookupValues!A:B,2,FALSE)","v":934}]
["value2273",{"$f":"VLOOKUP(A92274,LookupValues!A:B,2,FALSE)","v":485}]
["value2311",{"$f":"VLOOKUP(A92312,LookupValues!A:B,2,FALSE)","v":711}]
["value2340",{"$f":"VLOOKUP(A92341,LookupValues!A:B,2,FALSE)","v":909}]
["value2408",{"$f":"VLOOKUP(A92409,LookupValues!A:B,2,FALSE)","v":183}]
["value2472",{"$f":"VLOOKUP(A92473,LookupValues!A:B,2,FALSE)","v":486}]
["value2514",{"$f":"VLOOKUP(A92515,LookupValues!A:B,2,FALSE)","v":569}]
["value2533",{"$f":"VLOOKUP(A92534,LookupValues!A:B,2,FALSE)","v":817}]
["value2611",{"$f":"VLOOKUP(A92612,LookupValues!A:B,2,FALSE)","v":255}]
["value2639",{"$f":"VLOOKUP(A92640,LookupValues!A:B,2,FALSE)","v":111}]
["value2707",{"$f":"VLOOKUP(A92708,LookupValues!A:B,2,FALSE)","v":917}]
["value2736",{"$f":"VLOOKUP(A92737,LookupValues!A:B,2,FALSE)","v":358}]
["value2804",{"$f":"VLOOKUP(A92805,LookupValues!A:B,2,FALSE)","v":96}]
["value2838",{"$f":"VLOOKUP(A92839,LookupValues!A:B,2,FALSE)","v":781}]
["value2910",{"$f":"VLOOKUP(A92911,LookupValues!A:B,2,FALSE)","v":649}]
["value2929",{"$f":"VLOOKUP(A92930,LookupValues!A:B,2,FALSE)","v":668}]
["value3007",{"$f":"VLOOKUP(A93008,LookupValues!A:B,2,FALSE)","v":533}]
["value3053",{"$f":"VLOOKUP(A93054,LookupValues!A:B,2,FALSE)","v":738}]
["value3103",{"$f":"VLOOKUP(A93104,LookupValues!A:B,2,FALSE)","v":476}]
["value3132",{"$f":"VLOOKUP(A93133,LookupValues!A:B,2,FALSE)","v":285}]
["value3200",{"$f":"VLOOKUP(A93201,LookupValues!A:B,2,FALSE)","v":530}]
["value3252",{"$f":"VLOOKUP(A93253,LookupValues!A:B,2,FALSE)","v":798}]
["value3296",{"$f":"VLOOKUP(A93297,LookupValues!A:B,2,FALSE)","v":931}]
["value3325",{"$f":"VLOOKUP(A93326,LookupValues!A:B,2,FALSE)","v":143}]
["value3403",{"$f":"VLOOKUP(A93404,LookupValues!A:B,2,FALSE)","v":263}]
["value3419",{"$f":"VLOOKUP(A93420,LookupValues!A:B,2,FALSE)","v":879}]
["value3499",{"$f":"VLOOKUP(A93500,LookupValues!A:B,2,FALSE)","v":173}]
["value3528",{"$f":"VLOOKUP(A93529,LookupValues!A:B,2,FALSE)","v":469}]
["value3596",{"$f":"VLOOKUP(A93597,LookupValues!A:B,2,FALSE)","v":923}]
["value3618",{"$f":"VLOOKUP(A93619,LookupValues!A:B,2,FALSE)","v":768}]
["value3692",{"$f":"VLOOKUP(A93693,LookupValues!A:B,2,FALSE)","v":696}]
["value3721",{"$f":"VLOOKUP(A93722,LookupValues!A:B,2,FALSE)","v":607}]
["value3750",{"$f":"VLOOKUP(A93751,LookupValues!A:B,2,FALSE)","v":843}]
["value3833",{"$f":"VLOOKUP(A93834,LookupValues!A:B,2,FALSE)","v":118}]
["value3846",{"$f":"VLOOKUP(A93847,LookupValues!A:B,2,FALSE)","v":391}]
["value3914",{"$f":"VLOOKUP(A93915,LookupValues!A:B,2,FALSE)","v":460}]
["value3943",{"$f":"VLOOKUP(A93944,LookupValues!A:B,2,FALSE)","v":270}]
["value4032",{"$f":"VLOOKUP(A94033,LookupValues!A:B,2,FALSE)","v":356}]
["value4088",{"$f":"VLOOKUP(A94089,LookupValues!A:B,2,FALSE)","v":591}]
["value4117",{"$f":"VLOOKUP(A94118,LookupValues!A:B,2,FALSE)","v":843}]
["value4146",{"$f":"VLOOKUP(A94147,LookupValues!A:B,2,FALSE)","v":661}]
["value4199",{"$f":"VLOOKUP(A94200,LookupValues!A:B,2,FALSE)","v":320}]
["value4242",{"$f":"VLOOKUP(A94243,LookupValues!A:B,2,FALSE)","v":0}]
["value4310",{"$f":"VLOOKUP(A94311,LookupValues!A:B,2,FALSE)","v":693}]
["value4339",{"$f":"VLOOKUP(A94340,LookupValues!A:B,2,FALSE)","v":839}]
["value4398",{"$f":"VLOOKUP(A94399,LookupValues!A:B,2,FALSE)","v":633}]
["value4435",{"$f":"VLOOKUP(A94436,LookupValues!A:B,2,FALSE)","v":610}]
["value4513",{"$f":"VLOOKUP(A94514,LookupValues!A:B,2,FALSE)","v":91}]
["value4542",{"$f":"VLOOKUP(A94543,LookupValues!A:B,2,FALSE)","v":96}]
["value4613",{"$f":"VLOOKUP(A94614,LookupValues!A:B,2,FALSE)","v":563}]
["value4638",{"$f":"VLOOKUP(A94639,LookupValues!A:B,2,FALSE)","v":610}]
["value4706",{"$f":"VLOOKUP(A94707,LookupValues!A:B,2,FALSE)","v":177}]
["value4735",{"$f":"VLOOKUP(A94736,LookupValues!A:B,2,FALSE)","v":11}]
["value4812",{"$f":"VLOOKUP(A94813,LookupValues!A:B,2,FALSE)","v":643}]
["value4831",{"$f":"VLOOKUP(A94832,LookupValues!A:B,2,FALSE)","v":353}]
["value4909",{"$f":"VLOOKUP(A94910,LookupValues!A:B,2,FALSE)","v":918}]
["value4928",{"$f":"VLOOKUP(A94929,LookupValues!A:B,2,FALSE)","v":919}]
["value4979",{"$f":"VLOOKUP(A94980,LookupValues!A:B,2,FALSE)","v":164}]
["value5034",{"$f":"VLOOKUP(A95035,LookupValues!A:B,2,FALSE)","v":167}]
["value5102",{"$f":"VLOOKUP(A95103,LookupValues!A:B,2,FALSE)","v":291}]
["value5131",{"$f":"VLOOKUP(A95132,LookupValues!A:B,2,FALSE)","v":209}]
["value5178",{"$f":"VLOOKUP(A95179,LookupValues!A:B,2,FALSE)","v":822}]
["value5227",{"$f":"VLOOKUP(A95228,LookupValues!A:B,2,FALSE)","v":431}]
["value5305",{"$f":"VLOOKUP(A95306,LookupValues!A:B,2,FALSE)","v":324}]
["value5324",{"$f":"VLOOKUP(A95325,LookupValues!A:B,2,FALSE)","v":151}]
["value5393",{"$f":"VLOOKUP(A95394,LookupValues!A:B,2,FALSE)","v":286}]
["value5430",{"$f":"VLOOKUP(A95431,LookupValues!A:B,2,FALSE)","v":591}]
["value5498",{"$f":"VLOOKUP(A95499,LookupValues!A:B,2,FALSE)","v":793}]
["value5527",{"$f":"VLOOKUP(A95528,LookupValues!A:B,2,FALSE)","v":592}]
["value5592",{"$f":"VLOOKUP(A95593,LookupValues!A:B,2,FALSE)","v":110}]
["value5623",{"$f":"VLOOKUP(A95624,LookupValues!A:B,2,FALSE)","v":83}]
["value5652",{"$f":"VLOOKUP(A95653,LookupValues!A:B,2,FALSE)","v":265}]
["value5720",{"$f":"VLOOKUP(A95721,LookupValues!A:B,2,FALSE)","v":292}]
["value5759",{"$f":"VLOOKUP(A95760,LookupValues!A:B,2,FALSE)","v":404}]
["value5826",{"$f":"VLOOKUP(A95827,LookupValues!A:B,2,FALSE)","v":602}]
["value5845",{"$f":"VLOOKUP(A95846,LookupValues!A:B,2,FALSE)","v":679}]
["value5923",{"$f":"VLOOKUP(A95924,LookupValues!A:B,2,FALSE)","v":523}]
["value5974",{"$f":"VLOOKUP(A95975,LookupValues!A:B,2,FALSE)","v":123}]
["value6019",{"$f":"VLOOKUP(A96020,LookupValues!A:B,2,FALSE)","v":905}]
["value6048",{"$f":"VLOOKUP(A96049,LookupValues!A:B,2,FALSE)","v":272}]
["value6116",{"$f":"VLOOKUP(A96117,LookupValues!A:B,2,FALSE)","v":330}]
["value6173",{"$f":"VLOOKUP(A96174,LookupValues!A:B,2,FALSE)","v":802}]
["value6222",{"$f":"VLOOKUP(A96223,LookupValues!A:B,2,FALSE)","v":10}]
["value6241",{"$f":"VLOOKUP(A96242,LookupValues!A:B,2,FALSE)","v":399}]
["value6319",{"$f":"VLOOKUP(A96320,LookupValues!A:B,2,FALSE)","v":806}]
["value6340",{"$f":"VLOOKUP(A96341,LookupValues!A:B,2,FALSE)","v":459}]
["value6415",{"$f":"VLOOKUP(A96416,LookupValues!A:B,2,FALSE)","v":765}]
["value6444",{"$f":"VLOOKUP(A96445,LookupValues!A:B,2,FALSE)","v":688}]
["value6512",{"$f":"VLOOKUP(A96513,LookupValues!A:B,2,FALSE)","v":619}]
["value6539",{"$f":"VLOOKUP(A96540,LookupValues!A:B,2,FALSE)","v":884}]
["value6608",{"$f":"VLOOKUP(A96609,LookupValues!A:B,2,FALSE)","v":854}]
["value6637",{"$f":"VLOOKUP(A96638,LookupValues!A:B,2,FALSE)","v":676}]
["value6715",{"$f":"VLOOKUP(A96716,LookupValues!A:B,2,FALSE)","v":462}]
["value6754",{"$f":"VLOOKUP(A96755,LookupValues!A:B,2,FALSE)","v":534}]
["value6811",{"$f":"VLOOKUP(A96812,LookupValues!A:B,2,FALSE)","v":439}]
["value6840",{"$f":"VLOOKUP(A96841,LookupValues!A:B,2,FALSE)","v":180}]
["value6908",{"$f":"VLOOKUP(A96909,LookupValues!A:B,2,FALSE)","v":588}]
["value6953",{"$f":"VLOOKUP(A96954,LookupValues!A:B,2,FALSE)","v":535}]
["value7004",{"$f":"VLOOKUP(A97005,LookupValues!A:B,2,FALSE)","v":629}]
["value7033",{"$f":"VLOOKUP(A97034,LookupValues!A:B,2,FALSE)","v":75}]
["value7111",{"$f":"VLOOKUP(A97112,LookupValues!A:B,2,FALSE)","v":803}]
["value7120",{"$f":"VLOOKUP(A97121,LookupValues!A:B,2,FALSE)","v":101}]
["value7207",{"$f":"VLOOKUP(A97208,LookupValues!A:B,2,FALSE)","v":732}]
["value7236",{"$f":"VLOOKUP(A97237,LookupValues!A:B,2,FALSE)","v":931}]
["value7304",{"$f":"VLOOKUP(A97305,LookupValues!A:B,2,FALSE)","v":164}]
["value7319",{"$f":"VLOOKUP(A97320,LookupValues!A:B,2,FALSE)","v":990}]
["value7400",{"$f":"VLOOKUP(A97401,LookupValues!A:B,2,FALSE)","v":937}]
["value7429",{"$f":"VLOOKUP(A97430,LookupValues!A:B,2,FALSE)","v":993}]
["value7458",{"$f":"VLOOKUP(A97459,LookupValues!A:B,2,FALSE)","v":603}]
["value7534",{"$f":"VLOOKUP(A97535,LookupValues!A:B,2,FALSE)","v":650}]
["value7554",{"$f":"VLOOKUP(A97555,LookupValues!A:B,2,FALSE)","v":573}]
["value7622",{"$f":"VLOOKUP(A97623,LookupValues!A:B,2,FALSE)","v":1000}]
["value7651",{"$f":"VLOOKUP(A97652,LookupValues!A:B,2,FALSE)","v":924}]
["value7733",{"$f":"VLOOKUP(A97734,LookupValues!A:B,2,FALSE)","v":89}]
["value7747",{"$f":"VLOOKUP(A97748,LookupValues!A:B,2,FALSE)","v":672}]
["value7825",{"$f":"VLOOKUP(A97826,LookupValues!A:B,2,FALSE)","v":884}]
["value7854",{"$f":"VLOOKUP(A97855,LookupValues!A:B,2,FALSE)","v":247}]
["value7900",{"$f":"VLOOKUP(A97901,LookupValues!A:B,2,FALSE)","v":125}]
["value7950",{"$f":"VLOOKUP(A97951,LookupValues!A:B,2,FALSE)","v":407}]
["value8018",{"$f":"VLOOKUP(A98019,LookupValues!A:B,2,FALSE)","v":322}]
["value8047",{"$f":"VLOOKUP(A98048,LookupValues!A:B,2,FALSE)","v":677}]
["value8099",{"$f":"VLOOKUP(A98100,LookupValues!A:B,2,FALSE)","v":988}]
["value8143",{"$f":"VLOOKUP(A98144,LookupValues!A:B,2,FALSE)","v":233}]
["value8221",{"$f":"VLOOKUP(A98222,LookupValues!A:B,2,FALSE)","v":497}]
["value8240",{"$f":"VLOOKUP(A98241,LookupValues!A:B,2,FALSE)","v":94}]
["value8314",{"$f":"VLOOKUP(A98315,LookupValues!A:B,2,FALSE)","v":778}]
["value8346",{"$f":"VLOOKUP(A98347,LookupValues!A:B,2,FALSE)","v":252}]
["value8414",{"$f":"VLOOKUP(A98415,LookupValues!A:B,2,FALSE)","v":38}]
["value8443",{"$f":"VLOOKUP(A98444,LookupValues!A:B,2,FALSE)","v":146}]
["value8513",{"$f":"VLOOKUP(A98514,LookupValues!A:B,2,FALSE)","v":668}]
["value8539",{"$f":"VLOOKUP(A98540,LookupValues!A:B,2,FALSE)","v":914}]
["value8617",{"$f":"VLOOKUP(A98618,LookupValues!A:B,2,FALSE)","v":540}]
["value8636",{"$f":"VLOOKUP(A98637,LookupValues!A:B,2,FALSE)","v":759}]
["value8680",{"$f":"VLOOKUP(A98681,LookupValues!A:B,2,FALSE)","v":277}]
["value8742",{"$f":"VLOOKUP(A98743,LookupValues!A:B,2,FALSE)","v":342}]
["value8810",{"$f":"VLOOKUP(A98811,LookupValues!A:B,2,FALSE)","v":835}]
["value8839",{"$f":"VLOOKUP(A98840,LookupValues!A:B,2,FALSE)","v":503}]
["value8879",{"$f":"VLOOKUP(A98880,LookupValues!A:B,2,FALSE)","v":857}]
["value8935",{"$f":"VLOOKUP(A98936,LookupValues!A:B,2,FALSE)","v":765}]
["value8964",{"$f":"VLOOKUP(A98965,LookupValues!A:B,2,FALSE)","v":550}]
["value9032",{"$f":"VLOOKUP(A99033,LookupValues!A:B,2,FALSE)","v":263}]
["value9094",{"$f":"VLOOKUP(A99095,LookupValues!A:B,2,FALSE)","v":892}]
["value9138",{"$f":"VLOOKUP(A99139,LookupValues!A:B,2,FALSE)","v":382}]
["value9206",{"$f":"VLOOKUP(A99207,LookupValues!A:B,2,FALSE)","v":549}]
["value9235",{"$f":"VLOOKUP(A99236,LookupValues!A:B,2,FALSE)","v":188}]
["value9261",{"$f":"VLOOKUP(A99262,LookupValues!A:B,2,FALSE)","v":830}]
["value9331",{"$f":"VLOOKUP(A99332,LookupValues!A:B,2,FALSE)","v":74}]
["value9360",{"$f":"VLOOKUP(A99361,LookupValues!A:B,2,FALSE)","v":364}]
["value9428",{"$f":"VLOOKUP(A99429,LookupValues!A:B,2,FALSE)","v":412}]
["value9457",{"$f":"VLOOKUP(A99458,LookupValues!A:B,2,FALSE)","v":949}]
["value9501",{"$f":"VLOOKUP(A99502,LookupValues!A:B,2,FALSE)","v":657}]
["value9502",{"$f":"VLOOKUP(A99503,LookupValues!A:B,2,FALSE)","v":237}]
["value9503",{"$f":"VLOOKUP(A99504,LookupValues!A:B,2,FALSE)","v":445}]
["value9504",{"$f":"VLOOKUP(A99505,LookupValues!A:B,2,FALSE)","v":564}]
["value9505",{"$f":"VLOOKUP(A99506,LookupValues!A:B,2,FALSE)","v":498}]
["value9506",{"$f":"VLOOKUP(A99507,LookupValues!A:B,2,FALSE)","v":364}]
["value9507",{"$f":"VLOOKUP(A99508,LookupValues!A:B,2,FALSE)","v":780}]
["value9508",{"$f":"VLOOKUP(A99509,LookupValues!A:B,2,FALSE)","v":945}]
["value9509",{"$f":"VLOOKUP(A99510,LookupValues!A:B,2,FALSE)","v":388}]
["value9510",{"$f":"VLOOKUP(A99511,LookupValues!A:B,2,FALSE)","v":140}]
["value9511",{"$f":"VLOOKUP(A99512,LookupValues!A:B,2,FALSE)","v":868}]
["value9512",{"$f":"VLOOKUP(A99513,LookupValues!A:B,2,FALSE)","v":127}]
["value9513",{"$f":"VLOOKUP(A99514,LookupValues!A:B,2,FALSE)","v":663}]
["value9514",{"$f":"VLOOKUP(A99515,LookupValues!A:B,2,FALSE)","v":823}]
["value9515",{"$f":"VLOOKUP(A99516,LookupValues!A:B,2,FALSE)","v":6}]
["value9516",{"$f":"VLOOKUP(A99517,LookupValues!A:B,2,FALSE)","v":550}]
["value9517",{"$f":"VLOOKUP(A99518,LookupValues!A:B,2,FALSE)","v":545}]
["value9518",{"$f":"VLOOKUP(A99519,LookupValues!A:B,2,FALSE)","v":820}]
["value9519",{"$f":"VLOOKUP(A99520,LookupValues!A:B,2,FALSE)","v":412}]
["value9520",{"$f":"VLOOKUP(A99521,LookupValues!A:B,2,FALSE)","v":580}]
["value9521",{"$f":"VLOOKUP(A99522,LookupValues!A:B,2,FALSE)","v":91}]
["value9522",{"$f":"VLOOKUP(A99523,LookupValues!A:B,2,FALSE)","v":612}]
["value9523",{"$f":"VLOOKUP(A99524,LookupValues!A:B,2,FALSE)","v":777}]
["value9524",{"$f":"VLOOKUP(A99525,LookupValues!A:B,2,FALSE)","v":16}]
["value9525",{"$f":"VLOOKUP(A99526,LookupValues!A:B,2,FALSE)","v":767}]
["value9526",{"$f":"VLOOKUP(A99527,LookupValues!A:B,2,FALSE)","v":254}]
["value9527",{"$f":"VLOOKUP(A99528,LookupValues!A:B,2,FALSE)","v":830}]
["value9528",{"$f":"VLOOKUP(A99529,LookupValues!A:B,2,FALSE)","v":561}]
["value9529",{"$f":"VLOOKUP(A99530,LookupValues!A:B,2,FALSE)","v":104}]
["value9530",{"$f":"VLOOKUP(A99531,LookupValues!A:B,2,FALSE)","v":47}]
["value9531",{"$f":"VLOOKUP(A99532,LookupValues!A:B,2,FALSE)","v":577}]
["value9532",{"$f":"VLOOKUP(A99533,LookupValues!A:B,2,FALSE)","v":344}]
["value9533",{"$f":"VLOOKUP(A99534,LookupValues!A:B,2,FALSE)","v":440}]
["value9534",{"$f":"VLOOKUP(A99535,LookupValues!A:B,2,FALSE)","v":71}]
["value9535",{"$f":"VLOOKUP(A99536,LookupValues!A:B,2,FALSE)","v":453}]
["value9536",{"$f":"VLOOKUP(A99537,LookupValues!A:B,2,FALSE)","v":239}]
["value9537",{"$f":"VLOOKUP(A99538,LookupValues!A:B,2,FALSE)","v":603}]
["value9538",{"$f":"VLOOKUP(A99539,LookupValues!A:B,2,FALSE)","v":66}]
["value9539",{"$f":"VLOOKUP(A99540,LookupValues!A:B,2,FALSE)","v":995}]
["value9540",{"$f":"VLOOKUP(A99541,LookupValues!A:B,2,FALSE)","v":204}]
["value9541",{"$f":"VLOOKUP(A99542,LookupValues!A:B,2,FALSE)","v":885}]
["value9542",{"$f":"VLOOKUP(A99543,LookupValues!A:B,2,FALSE)","v":153}]
["value9543",{"$f":"VLOOKUP(A99544,LookupValues!A:B,2,FALSE)","v":35}]
["value9544",{"$f":"VLOOKUP(A99545,LookupValues!A:B,2,FALSE)","v":194}]
["value9545",{"$f":"VLOOKUP(A99546,LookupValues!A:B,2,FALSE)","v":672}]
["value9546",{"$f":"VLOOKUP(A99547,LookupValues!A:B,2,FALSE)","v":676}]
["value9547",{"$f":"VLOOKUP(A99548,LookupValues!A:B,2,FALSE)","v":887}]
["value9548",{"$f":"VLOOKUP(A99549,LookupValues!A:B,2,FALSE)","v":994}]
["value9549",{"$f":"VLOOKUP(A99550,LookupValues!A:B,2,FALSE)","v":392}]
["value9550",{"$f":"VLOOKUP(A99551,LookupValues!A:B,2,FALSE)","v":862}]
["value9551",{"$f":"VLOOKUP(A99552,LookupValues!A:B,2,FALSE)","v":259}]
["value9552",{"$f":"VLOOKUP(A99553,LookupValues!A:B,2,FALSE)","v":152}]
["value9553",{"$f":"VLOOKUP(A99554,LookupValues!A:B,2,FALSE)","v":381}]
["value9554",{"$f":"VLOOKUP(A99555,LookupValues!A:B,2,FALSE)","v":764}]
["value9555",{"$f":"VLOOKUP(A99556,LookupValues!A:B,2,FALSE)","v":195}]
["value9556",{"$f":"VLOOKUP(A99557,LookupValues!A:B,2,FALSE)","v":240}]
["value9557",{"$f":"VLOOKUP(A99558,LookupValues!A:B,2,FALSE)","v":593}]
["value9558",{"$f":"VLOOKUP(A99559,LookupValues!A:B,2,FALSE)","v":676}]
["value9559",{"$f":"VLOOKUP(A99560,LookupValues!A:B,2,FALSE)","v":309}]
["value9560",{"$f":"VLOOKUP(A99561,LookupValues!A:B,2,FALSE)","v":578}]
["value9561",{"$f":"VLOOKUP(A99562,LookupValues!A:B,2,FALSE)","v":577}]
["value9562",{"$f":"VLOOKUP(A99563,LookupValues!A:B,2,FALSE)","v":701}]
["value9563",{"$f":"VLOOKUP(A99564,LookupValues!A:B,2,FALSE)","v":675}]
["value9564",{"$f":"VLOOKUP(A99565,LookupValues!A:B,2,FALSE)","v":626}]
["value9565",{"$f":"VLOOKUP(A99566,LookupValues!A:B,2,FALSE)","v":223}]
["value9566",{"$f":"VLOOKUP(A99567,LookupValues!A:B,2,FALSE)","v":517}]
["value9567",{"$f":"VLOOKUP(A99568,LookupValues!A:B,2,FALSE)","v":746}]
["value9568",{"$f":"VLOOKUP(A99569,LookupValues!A:B,2,FALSE)","v":114}]
["value9569",{"$f":"VLOOKUP(A99570,LookupValues!A:B,2,FALSE)","v":711}]
["value9570",{"$f":"VLOOKUP(A99571,LookupValues!A:B,2,FALSE)","v":759}]
["value9571",{"$f":"VLOOKUP(A99572,LookupValues!A:B,2,FALSE)","v":363}]
["value9572",{"$f":"VLOOKUP(A99573,LookupValues!A:B,2,FALSE)","v":864}]
["value9573",{"$f":"VLOOKUP(A99574,LookupValues!A:B,2,FALSE)","v":29}]
["value9574",{"$f":"VLOOKUP(A99575,LookupValues!A:B,2,FALSE)","v":715}]
["value9575",{"$f":"VLOOKUP(A99576,LookupValues!A:B,2,FALSE)","v":730}]
["value9576",{"$f":"VLOOKUP(A99577,LookupValues!A:B,2,FALSE)","v":558}]
["value9577",{"$f":"VLOOKUP(A99578,LookupValues!A:B,2,FALSE)","v":703}]
["value9578",{"$f":"VLOOKUP(A99579,LookupValues!A:B,2,FALSE)","v":885}]
["value9579",{"$f":"VLOOKUP(A99580,LookupValues!A:B,2,FALSE)","v":96}]
["value9580",{"$f":"VLOOKUP(A99581,LookupValues!A:B,2,FALSE)","v":813}]
["value9581",{"$f":"VLOOKUP(A99582,LookupValues!A:B,2,FALSE)","v":460}]
["value9582",{"$f":"VLOOKUP(A99583,LookupValues!A:B,2,FALSE)","v":520}]
["value9583",{"$f":"VLOOKUP(A99584,LookupValues!A:B,2,FALSE)","v":179}]
["value9584",{"$f":"VLOOKUP(A99585,LookupValues!A:B,2,FALSE)","v":317}]
["value9585",{"$f":"VLOOKUP(A99586,LookupValues!A:B,2,FALSE)","v":315}]
["value9586",{"$f":"VLOOKUP(A99587,LookupValues!A:B,2,FALSE)","v":929}]
["value9587",{"$f":"VLOOKUP(A99588,LookupValues!A:B,2,FALSE)","v":957}]
["value9588",{"$f":"VLOOKUP(A99589,LookupValues!A:B,2,FALSE)","v":97}]
["value9589",{"$f":"VLOOKUP(A99590,LookupValues!A:B,2,FALSE)","v":323}]
["value9590",{"$f":"VLOOKUP(A99591,LookupValues!A:B,2,FALSE)","v":372}]
["value9591",{"$f":"VLOOKUP(A99592,LookupValues!A:B,2,FALSE)","v":602}]
["value9592",{"$f":"VLOOKUP(A99593,LookupValues!A:B,2,FALSE)","v":491}]
["value9593",{"$f":"VLOOKUP(A99594,LookupValues!A:B,2,FALSE)","v":367}]
["value9594",{"$f":"VLOOKUP(A99595,LookupValues!A:B,2,FALSE)","v":124}]
["value9595",{"$f":"VLOOKUP(A99596,LookupValues!A:B,2,FALSE)","v":418}]
["value9596",{"$f":"VLOOKUP(A99597,LookupValues!A:B,2,FALSE)","v":512}]
["value9597",{"$f":"VLOOKUP(A99598,LookupValues!A:B,2,FALSE)","v":665}]
["value9598",{"$f":"VLOOKUP(A99599,LookupValues!A:B,2,FALSE)","v":545}]
["value9599",{"$f":"VLOOKUP(A99600,LookupValues!A:B,2,FALSE)","v":754}]
["value9600",{"$f":"VLOOKUP(A99601,LookupValues!A:B,2,FALSE)","v":999}]
["value9601",{"$f":"VLOOKUP(A99602,LookupValues!A:B,2,FALSE)","v":638}]
["value9602",{"$f":"VLOOKUP(A99603,LookupValues!A:B,2,FALSE)","v":234}]
["value9603",{"$f":"VLOOKUP(A99604,LookupValues!A:B,2,FALSE)","v":910}]
["value9604",{"$f":"VLOOKUP(A99605,LookupValues!A:B,2,FALSE)","v":785}]
["value9605",{"$f":"VLOOKUP(A99606,LookupValues!A:B,2,FALSE)","v":892}]
["value9606",{"$f":"VLOOKUP(A99607,LookupValues!A:B,2,FALSE)","v":810}]
["value9607",{"$f":"VLOOKUP(A99608,LookupValues!A:B,2,FALSE)","v":192}]
["value9608",{"$f":"VLOOKUP(A99609,LookupValues!A:B,2,FALSE)","v":799}]
["value9609",{"$f":"VLOOKUP(A99610,LookupValues!A:B,2,FALSE)","v":500}]
["value9610",{"$f":"VLOOKUP(A99611,LookupValues!A:B,2,FALSE)","v":976}]
["value9611",{"$f":"VLOOKUP(A99612,LookupValues!A:B,2,FALSE)","v":989}]
["value9612",{"$f":"VLOOKUP(A99613,LookupValues!A:B,2,FALSE)","v":158}]
["value9613",{"$f":"VLOOKUP(A99614,LookupValues!A:B,2,FALSE)","v":84}]
["value9614",{"$f":"VLOOKUP(A99615,LookupValues!A:B,2,FALSE)","v":969}]
["value9615",{"$f":"VLOOKUP(A99616,LookupValues!A:B,2,FALSE)","v":60}]
["value9616",{"$f":"VLOOKUP(A99617,LookupValues!A:B,2,FALSE)","v":226}]
["value9617",{"$f":"VLOOKUP(A99618,LookupValues!A:B,2,FALSE)","v":855}]
["value9618",{"$f":"VLOOKUP(A99619,LookupValues!A:B,2,FALSE)","v":256}]
["value9619",{"$f":"VLOOKUP(A99620,LookupValues!A:B,2,FALSE)","v":567}]
["value9620",{"$f":"VLOOKUP(A99621,LookupValues!A:B,2,FALSE)","v":979}]
["value9621",{"$f":"VLOOKUP(A99622,LookupValues!A:B,2,FALSE)","v":161}]
["value9622",{"$f":"VLOOKUP(A99623,LookupValues!A:B,2,FALSE)","v":706}]
["value9623",{"$f":"VLOOKUP(A99624,LookupValues!A:B,2,FALSE)","v":578}]
["value9624",{"$f":"VLOOKUP(A99625,LookupValues!A:B,2,FALSE)","v":249}]
["value9625",{"$f":"VLOOKUP(A99626,LookupValues!A:B,2,FALSE)","v":857}]
["value9626",{"$f":"VLOOKUP(A99627,LookupValues!A:B,2,FALSE)","v":975}]
["value9627",{"$f":"VLOOKUP(A99628,LookupValues!A:B,2,FALSE)","v":598}]
["value9628",{"$f":"VLOOKUP(A99629,LookupValues!A:B,2,FALSE)","v":159}]
["value9629",{"$f":"VLOOKUP(A99630,LookupValues!A:B,2,FALSE)","v":784}]
["value9630",{"$f":"VLOOKUP(A99631,LookupValues!A:B,2,FALSE)","v":614}]
["value9631",{"$f":"VLOOKUP(A99632,LookupValues!A:B,2,FALSE)","v":141}]
["value9632",{"$f":"VLOOKUP(A99633,LookupValues!A:B,2,FALSE)","v":196}]
["value9633",{"$f":"VLOOKUP(A99634,LookupValues!A:B,2,FALSE)","v":39}]
["value9634",{"$f":"VLOOKUP(A99635,LookupValues!A:B,2,FALSE)","v":260}]
["value9635",{"$f":"VLOOKUP(A99636,LookupValues!A:B,2,FALSE)","v":500}]
["value9636",{"$f":"VLOOKUP(A99637,LookupValues!A:B,2,FALSE)","v":831}]
["value9637",{"$f":"VLOOKUP(A99638,LookupValues!A:B,2,FALSE)","v":565}]
["value9638",{"$f":"VLOOKUP(A99639,LookupValues!A:B,2,FALSE)","v":199}]
["value9639",{"$f":"VLOOKUP(A99640,LookupValues!A:B,2,FALSE)","v":749}]
["value9640",{"$f":"VLOOKUP(A99641,LookupValues!A:B,2,FALSE)","v":993}]
["value9641",{"$f":"VLOOKUP(A99642,LookupValues!A:B,2,FALSE)","v":880}]
["value9642",{"$f":"VLOOKUP(A99643,LookupValues!A:B,2,FALSE)","v":842}]
["value9643",{"$f":"VLOOKUP(A99644,LookupValues!A:B,2,FALSE)","v":327}]
["value9644",{"$f":"VLOOKUP(A99645,LookupValues!A:B,2,FALSE)","v":717}]
["value9645",{"$f":"VLOOKUP(A99646,LookupValues!A:B,2,FALSE)","v":517}]
["value9646",{"$f":"VLOOKUP(A99647,LookupValues!A:B,2,FALSE)","v":337}]
["value9647",{"$f":"VLOOKUP(A99648,LookupValues!A:B,2,FALSE)","v":398}]
["value9648",{"$f":"VLOOKUP(A99649,LookupValues!A:B,2,FALSE)","v":775}]
["value9649",{"$f":"VLOOKUP(A99650,LookupValues!A:B,2,FALSE)","v":217}]
["value9650",{"$f":"VLOOKUP(A99651,LookupValues!A:B,2,FALSE)","v":360}]
["value9651",{"$f":"VLOOKUP(A99652,LookupValues!A:B,2,FALSE)","v":444}]
["value9652",{"$f":"VLOOKUP(A99653,LookupValues!A:B,2,FALSE)","v":211}]
["value9653",{"$f":"VLOOKUP(A99654,LookupValues!A:B,2,FALSE)","v":97}]
["value9654",{"$f":"VLOOKUP(A99655,LookupValues!A:B,2,FALSE)","v":452}]
["value9655",{"$f":"VLOOKUP(A99656,LookupValues!A:B,2,FALSE)","v":641}]
["value9656",{"$f":"VLOOKUP(A99657,LookupValues!A:B,2,FALSE)","v":5}]
["value9657",{"$f":"VLOOKUP(A99658,LookupValues!A:B,2,FALSE)","v":85}]
["value9658",{"$f":"VLOOKUP(A99659,LookupValues!A:B,2,FALSE)","v":564}]
["value9659",{"$f":"VLOOKUP(A99660,LookupValues!A:B,2,FALSE)","v":842}]
["value9660",{"$f":"VLOOKUP(A99661,LookupValues!A:B,2,FALSE)","v":23}]
["value9661",{"$f":"VLOOKUP(A99662,LookupValues!A:B,2,FALSE)","v":642}]
["value9662",{"$f":"VLOOKUP(A99663,LookupValues!A:B,2,FALSE)","v":494}]
["value9663",{"$f":"VLOOKUP(A99664,LookupValues!A:B,2,FALSE)","v":205}]
["value9664",{"$f":"VLOOKUP(A99665,LookupValues!A:B,2,FALSE)","v":186}]
["value9665",{"$f":"VLOOKUP(A99666,LookupValues!A:B,2,FALSE)","v":634}]
["value9666",{"$f":"VLOOKUP(A99667,LookupValues!A:B,2,FALSE)","v":90}]
["value9667",{"$f":"VLOOKUP(A99668,LookupValues!A:B,2,FALSE)","v":282}]
["value9668",{"$f":"VLOOKUP(A99669,LookupValues!A:B,2,FALSE)","v":885}]
["value9669",{"$f":"VLOOKUP(A99670,LookupValues!A:B,2,FALSE)","v":578}]
["value9670",{"$f":"VLOOKUP(A99671,LookupValues!A:B,2,FALSE)","v":189}]
["value9671",{"$f":"VLOOKUP(A99672,LookupValues!A:B,2,FALSE)","v":941}]
["value9672",{"$f":"VLOOKUP(A99673,LookupValues!A:B,2,FALSE)","v":691}]
["value9673",{"$f":"VLOOKUP(A99674,LookupValues!A:B,2,FALSE)","v":266}]
["value9674",{"$f":"VLOOKUP(A99675,LookupValues!A:B,2,FALSE)","v":566}]
["value9675",{"$f":"VLOOKUP(A99676,LookupValues!A:B,2,FALSE)","v":115}]
["value9676",{"$f":"VLOOKUP(A99677,LookupValues!A:B,2,FALSE)","v":583}]
["value9677",{"$f":"VLOOKUP(A99678,LookupValues!A:B,2,FALSE)","v":380}]
["value9678",{"$f":"VLOOKUP(A99679,LookupValues!A:B,2,FALSE)","v":658}]
["value9679",{"$f":"VLOOKUP(A99680,LookupValues!A:B,2,FALSE)","v":921}]
["value9680",{"$f":"VLOOKUP(A99681,LookupValues!A:B,2,FALSE)","v":467}]
["value9681",{"$f":"VLOOKUP(A99682,LookupValues!A:B,2,FALSE)","v":375}]
["value9682",{"$f":"VLOOKUP(A99683,LookupValues!A:B,2,FALSE)","v":509}]
["value9683",{"$f":"VLOOKUP(A99684,LookupValues!A:B,2,FALSE)","v":641}]
["value9684",{"$f":"VLOOKUP(A99685,LookupValues!A:B,2,FALSE)","v":159}]
["value9685",{"$f":"VLOOKUP(A99686,LookupValues!A:B,2,FALSE)","v":131}]
["value9686",{"$f":"VLOOKUP(A99687,LookupValues!A:B,2,FALSE)","v":214}]
["value9687",{"$f":"VLOOKUP(A99688,LookupValues!A:B,2,FALSE)","v":286}]
["value9688",{"$f":"VLOOKUP(A99689,LookupValues!A:B,2,FALSE)","v":954}]
["value9689",{"$f":"VLOOKUP(A99690,LookupValues!A:B,2,FALSE)","v":544}]
["value9690",{"$f":"VLOOKUP(A99691,LookupValues!A:B,2,FALSE)","v":693}]
["value9691",{"$f":"VLOOKUP(A99692,LookupValues!A:B,2,FALSE)","v":54}]
["value9692",{"$f":"VLOOKUP(A99693,LookupValues!A:B,2,FALSE)","v":437}]
["value9693",{"$f":"VLOOKUP(A99694,LookupValues!A:B,2,FALSE)","v":316}]
["value9694",{"$f":"VLOOKUP(A99695,LookupValues!A:B,2,FALSE)","v":318}]
["value9695",{"$f":"VLOOKUP(A99696,LookupValues!A:B,2,FALSE)","v":128}]
["value9696",{"$f":"VLOOKUP(A99697,LookupValues!A:B,2,FALSE)","v":178}]
["value9697",{"$f":"VLOOKUP(A99698,LookupValues!A:B,2,FALSE)","v":350}]
["value9698",{"$f":"VLOOKUP(A99699,LookupValues!A:B,2,FALSE)","v":193}]
["value9699",{"$f":"VLOOKUP(A99700,LookupValues!A:B,2,FALSE)","v":812}]
["value9700",{"$f":"VLOOKUP(A99701,LookupValues!A:B,2,FALSE)","v":329}]
["value9701",{"$f":"VLOOKUP(A99702,LookupValues!A:B,2,FALSE)","v":275}]
["value9702",{"$f":"VLOOKUP(A99703,LookupValues!A:B,2,FALSE)","v":340}]
["value9703",{"$f":"VLOOKUP(A99704,LookupValues!A:B,2,FALSE)","v":852}]
["value9704",{"$f":"VLOOKUP(A99705,LookupValues!A:B,2,FALSE)","v":130}]
["value9705",{"$f":"VLOOKUP(A99706,LookupValues!A:B,2,FALSE)","v":832}]
["value9706",{"$f":"VLOOKUP(A99707,LookupValues!A:B,2,FALSE)","v":193}]
["value9707",{"$f":"VLOOKUP(A99708,LookupValues!A:B,2,FALSE)","v":215}]
["value9708",{"$f":"VLOOKUP(A99709,LookupValues!A:B,2,FALSE)","v":448}]
["value9709",{"$f":"VLOOKUP(A99710,LookupValues!A:B,2,FALSE)","v":673}]
["value9710",{"$f":"VLOOKUP(A99711,LookupValues!A:B,2,FALSE)","v":993}]
["value9711",{"$f":"VLOOKUP(A99712,LookupValues!A:B,2,FALSE)","v":213}]
["value9712",{"$f":"VLOOKUP(A99713,LookupValues!A:B,2,FALSE)","v":675}]
["value9713",{"$f":"VLOOKUP(A99714,LookupValues!A:B,2,FALSE)","v":123}]
["value9714",{"$f":"VLOOKUP(A99715,LookupValues!A:B,2,FALSE)","v":182}]
["value9715",{"$f":"VLOOKUP(A99716,LookupValues!A:B,2,FALSE)","v":28}]
["value9716",{"$f":"VLOOKUP(A99717,LookupValues!A:B,2,FALSE)","v":109}]
["value9717",{"$f":"VLOOKUP(A99718,LookupValues!A:B,2,FALSE)","v":156}]
["value9718",{"$f":"VLOOKUP(A99719,LookupValues!A:B,2,FALSE)","v":461}]
["value9719",{"$f":"VLOOKUP(A99720,LookupValues!A:B,2,FALSE)","v":635}]
["value9720",{"$f":"VLOOKUP(A99721,LookupValues!A:B,2,FALSE)","v":974}]
["value9721",{"$f":"VLOOKUP(A99722,LookupValues!A:B,2,FALSE)","v":419}]
["value9722",{"$f":"VLOOKUP(A99723,LookupValues!A:B,2,FALSE)","v":372}]
["value9723",{"$f":"VLOOKUP(A99724,LookupValues!A:B,2,FALSE)","v":796}]
["value9724",{"$f":"VLOOKUP(A99725,LookupValues!A:B,2,FALSE)","v":170}]
["value9725",{"$f":"VLOOKUP(A99726,LookupValues!A:B,2,FALSE)","v":708}]
["value9726",{"$f":"VLOOKUP(A99727,LookupValues!A:B,2,FALSE)","v":493}]
["value9727",{"$f":"VLOOKUP(A99728,LookupValues!A:B,2,FALSE)","v":39}]
["value9728",{"$f":"VLOOKUP(A99729,LookupValues!A:B,2,FALSE)","v":210}]
["value9729",{"$f":"VLOOKUP(A99730,LookupValues!A:B,2,FALSE)","v":717}]
["value9730",{"$f":"VLOOKUP(A99731,LookupValues!A:B,2,FALSE)","v":266}]
["value9731",{"$f":"VLOOKUP(A99732,LookupValues!A:B,2,FALSE)","v":543}]
["value9732",{"$f":"VLOOKUP(A99733,LookupValues!A:B,2,FALSE)","v":793}]
["value9733",{"$f":"VLOOKUP(A99734,LookupValues!A:B,2,FALSE)","v":640}]
["value9734",{"$f":"VLOOKUP(A99735,LookupValues!A:B,2,FALSE)","v":758}]
["value9735",{"$f":"VLOOKUP(A99736,LookupValues!A:B,2,FALSE)","v":574}]
["value9736",{"$f":"VLOOKUP(A99737,LookupValues!A:B,2,FALSE)","v":8}]
["value9737",{"$f":"VLOOKUP(A99738,LookupValues!A:B,2,FALSE)","v":334}]
["value9738",{"$f":"VLOOKUP(A99739,LookupValues!A:B,2,FALSE)","v":533}]
["value9739",{"$f":"VLOOKUP(A99740,LookupValues!A:B,2,FALSE)","v":7}]
["value9740",{"$f":"VLOOKUP(A99741,LookupValues!A:B,2,FALSE)","v":785}]
["value9741",{"$f":"VLOOKUP(A99742,LookupValues!A:B,2,FALSE)","v":28}]
["value9742",{"$f":"VLOOKUP(A99743,LookupValues!A:B,2,FALSE)","v":364}]
["value9743",{"$f":"VLOOKUP(A99744,LookupValues!A:B,2,FALSE)","v":606}]
["value9744",{"$f":"VLOOKUP(A99745,LookupValues!A:B,2,FALSE)","v":377}]
["value9745",{"$f":"VLOOKUP(A99746,LookupValues!A:B,2,FALSE)","v":771}]
["value9746",{"$f":"VLOOKUP(A99747,LookupValues!A:B,2,FALSE)","v":494}]
["value9747",{"$f":"VLOOKUP(A99748,LookupValues!A:B,2,FALSE)","v":467}]
["value9748",{"$f":"VLOOKUP(A99749,LookupValues!A:B,2,FALSE)","v":940}]
["value9749",{"$f":"VLOOKUP(A99750,LookupValues!A:B,2,FALSE)","v":248}]
["value9750",{"$f":"VLOOKUP(A99751,LookupValues!A:B,2,FALSE)","v":438}]
["value9751",{"$f":"VLOOKUP(A99752,LookupValues!A:B,2,FALSE)","v":83}]
["value9752",{"$f":"VLOOKUP(A99753,LookupValues!A:B,2,FALSE)","v":43}]
["value9753",{"$f":"VLOOKUP(A99754,LookupValues!A:B,2,FALSE)","v":764}]
["value9754",{"$f":"VLOOKUP(A99755,LookupValues!A:B,2,FALSE)","v":400}]
["value9755",{"$f":"VLOOKUP(A99756,LookupValues!A:B,2,FALSE)","v":756}]
["value9756",{"$f":"VLOOKUP(A99757,LookupValues!A:B,2,FALSE)","v":987}]
["value9757",{"$f":"VLOOKUP(A99758,LookupValues!A:B,2,FALSE)","v":570}]
["value9758",{"$f":"VLOOKUP(A99759,LookupValues!A:B,2,FALSE)","v":132}]
["value9759",{"$f":"VLOOKUP(A99760,LookupValues!A:B,2,FALSE)","v":94}]
["value9760",{"$f":"VLOOKUP(A99761,LookupValues!A:B,2,FALSE)","v":603}]
["value9761",{"$f":"VLOOKUP(A99762,LookupValues!A:B,2,FALSE)","v":62}]
["value9762",{"$f":"VLOOKUP(A99763,LookupValues!A:B,2,FALSE)","v":380}]
["value9763",{"$f":"VLOOKUP(A99764,LookupValues!A:B,2,FALSE)","v":362}]
["value9764",{"$f":"VLOOKUP(A99765,LookupValues!A:B,2,FALSE)","v":390}]
["value9765",{"$f":"VLOOKUP(A99766,LookupValues!A:B,2,FALSE)","v":450}]
["value9766",{"$f":"VLOOKUP(A99767,LookupValues!A:B,2,FALSE)","v":933}]
["value9767",{"$f":"VLOOKUP(A99768,LookupValues!A:B,2,FALSE)","v":929}]
["value9768",{"$f":"VLOOKUP(A99769,LookupValues!A:B,2,FALSE)","v":411}]
["value9769",{"$f":"VLOOKUP(A99770,LookupValues!A:B,2,FALSE)","v":314}]
["value9770",{"$f":"VLOOKUP(A99771,LookupValues!A:B,2,FALSE)","v":117}]
["value9771",{"$f":"VLOOKUP(A99772,LookupValues!A:B,2,FALSE)","v":378}]
["value9772",{"$f":"VLOOKUP(A99773,LookupValues!A:B,2,FALSE)","v":574}]
["value9773",{"$f":"VLOOKUP(A99774,LookupValues!A:B,2,FALSE)","v":861}]
["value9774",{"$f":"VLOOKUP(A99775,LookupValues!A:B,2,FALSE)","v":177}]
["value9775",{"$f":"VLOOKUP(A99776,LookupValues!A:B,2,FALSE)","v":9}]
["value9776",{"$f":"VLOOKUP(A99777,LookupValues!A:B,2,FALSE)","v":525}]
["value9777",{"$f":"VLOOKUP(A99778,LookupValues!A:B,2,FALSE)","v":506}]
["value9778",{"$f":"VLOOKUP(A99779,LookupValues!A:B,2,FALSE)","v":302}]
["value9779",{"$f":"VLOOKUP(A99780,LookupValues!A:B,2,FALSE)","v":748}]
["value9780",{"$f":"VLOOKUP(A99781,LookupValues!A:B,2,FALSE)","v":804}]
["value9781",{"$f":"VLOOKUP(A99782,LookupValues!A:B,2,FALSE)","v":777}]
["value9782",{"$f":"VLOOKUP(A99783,LookupValues!A:B,2,FALSE)","v":103}]
["value9783",{"$f":"VLOOKUP(A99784,LookupValues!A:B,2,FALSE)","v":836}]
["value9784",{"$f":"VLOOKUP(A99785,LookupValues!A:B,2,FALSE)","v":195}]
["value9785",{"$f":"VLOOKUP(A99786,LookupValues!A:B,2,FALSE)","v":588}]
["value9786",{"$f":"VLOOKUP(A99787,LookupValues!A:B,2,FALSE)","v":420}]
["value9787",{"$f":"VLOOKUP(A99788,LookupValues!A:B,2,FALSE)","v":250}]
["value9788",{"$f":"VLOOKUP(A99789,LookupValues!A:B,2,FALSE)","v":243}]
["value9789",{"$f":"VLOOKUP(A99790,LookupValues!A:B,2,FALSE)","v":281}]
["value9790",{"$f":"VLOOKUP(A99791,LookupValues!A:B,2,FALSE)","v":500}]
["value9791",{"$f":"VLOOKUP(A99792,LookupValues!A:B,2,FALSE)","v":748}]
["value9792",{"$f":"VLOOKUP(A99793,LookupValues!A:B,2,FALSE)","v":617}]
["value9793",{"$f":"VLOOKUP(A99794,LookupValues!A:B,2,FALSE)","v":582}]
["value9794",{"$f":"VLOOKUP(A99795,LookupValues!A:B,2,FALSE)","v":131}]
["value9795",{"$f":"VLOOKUP(A99796,LookupValues!A:B,2,FALSE)","v":195}]
["value9796",{"$f":"VLOOKUP(A99797,LookupValues!A:B,2,FALSE)","v":582}]
["value9797",{"$f":"VLOOKUP(A99798,LookupValues!A:B,2,FALSE)","v":266}]
["value9798",{"$f":"VLOOKUP(A99799,LookupValues!A:B,2,FALSE)","v":184}]
["value9799",{"$f":"VLOOKUP(A99800,LookupValues!A:B,2,FALSE)","v":862}]
["value9800",{"$f":"VLOOKUP(A99801,LookupValues!A:B,2,FALSE)","v":689}]
["value9801",{"$f":"VLOOKUP(A99802,LookupValues!A:B,2,FALSE)","v":474}]
["value9802",{"$f":"VLOOKUP(A99803,LookupValues!A:B,2,FALSE)","v":79}]
["value9803",{"$f":"VLOOKUP(A99804,LookupValues!A:B,2,FALSE)","v":190}]
["value9804",{"$f":"VLOOKUP(A99805,LookupValues!A:B,2,FALSE)","v":237}]
["value9805",{"$f":"VLOOKUP(A99806,LookupValues!A:B,2,FALSE)","v":382}]
["value9806",{"$f":"VLOOKUP(A99807,LookupValues!A:B,2,FALSE)","v":962}]
["value9807",{"$f":"VLOOKUP(A99808,LookupValues!A:B,2,FALSE)","v":994}]
["value9808",{"$f":"VLOOKUP(A99809,LookupValues!A:B,2,FALSE)","v":569}]
["value9809",{"$f":"VLOOKUP(A99810,LookupValues!A:B,2,FALSE)","v":12}]
["value9810",{"$f":"VLOOKUP(A99811,LookupValues!A:B,2,FALSE)","v":162}]
["value9811",{"$f":"VLOOKUP(A99812,LookupValues!A:B,2,FALSE)","v":402}]
["value9812",{"$f":"VLOOKUP(A99813,LookupValues!A:B,2,FALSE)","v":544}]
["value9813",{"$f":"VLOOKUP(A99814,LookupValues!A:B,2,FALSE)","v":818}]
["value9814",{"$f":"VLOOKUP(A99815,LookupValues!A:B,2,FALSE)","v":250}]
["value9815",{"$f":"VLOOKUP(A99816,LookupValues!A:B,2,FALSE)","v":132}]
["value9816",{"$f":"VLOOKUP(A99817,LookupValues!A:B,2,FALSE)","v":889}]
["value9817",{"$f":"VLOOKUP(A99818,LookupValues!A:B,2,FALSE)","v":260}]
["value9818",{"$f":"VLOOKUP(A99819,LookupValues!A:B,2,FALSE)","v":12}]
["value9819",{"$f":"VLOOKUP(A99820,LookupValues!A:B,2,FALSE)","v":70}]
["value9820",{"$f":"VLOOKUP(A99821,LookupValues!A:B,2,FALSE)","v":679}]
["value9821",{"$f":"VLOOKUP(A99822,LookupValues!A:B,2,FALSE)","v":112}]
["value9822",{"$f":"VLOOKUP(A99823,LookupValues!A:B,2,FALSE)","v":499}]
["value9823",{"$f":"VLOOKUP(A99824,LookupValues!A:B,2,FALSE)","v":416}]
["value9824",{"$f":"VLOOKUP(A99825,LookupValues!A:B,2,FALSE)","v":204}]
["value9825",{"$f":"VLOOKUP(A99826,LookupValues!A:B,2,FALSE)","v":328}]
["value9826",{"$f":"VLOOKUP(A99827,LookupValues!A:B,2,FALSE)","v":290}]
["value9827",{"$f":"VLOOKUP(A99828,LookupValues!A:B,2,FALSE)","v":286}]
["value9828",{"$f":"VLOOKUP(A99829,LookupValues!A:B,2,FALSE)","v":572}]
["value9829",{"$f":"VLOOKUP(A99830,LookupValues!A:B,2,FALSE)","v":769}]
["value9830",{"$f":"VLOOKUP(A99831,LookupValues!A:B,2,FALSE)","v":177}]
["value9831",{"$f":"VLOOKUP(A99832,LookupValues!A:B,2,FALSE)","v":62}]
["value9832",{"$f":"VLOOKUP(A99833,LookupValues!A:B,2,FALSE)","v":968}]
["value9833",{"$f":"VLOOKUP(A99834,LookupValues!A:B,2,FALSE)","v":108}]
["value9834",{"$f":"VLOOKUP(A99835,LookupValues!A:B,2,FALSE)","v":296}]
["value9835",{"$f":"VLOOKUP(A99836,LookupValues!A:B,2,FALSE)","v":82}]
["value9836",{"$f":"VLOOKUP(A99837,LookupValues!A:B,2,FALSE)","v":681}]
["value9837",{"$f":"VLOOKUP(A99838,LookupValues!A:B,2,FALSE)","v":917}]
["value9838",{"$f":"VLOOKUP(A99839,LookupValues!A:B,2,FALSE)","v":590}]
["value9839",{"$f":"VLOOKUP(A99840,LookupValues!A:B,2,FALSE)","v":392}]
["value9840",{"$f":"VLOOKUP(A99841,LookupValues!A:B,2,FALSE)","v":423}]
["value9841",{"$f":"VLOOKUP(A99842,LookupValues!A:B,2,FALSE)","v":247}]
["value9842",{"$f":"VLOOKUP(A99843,LookupValues!A:B,2,FALSE)","v":996}]
["value9843",{"$f":"VLOOKUP(A99844,LookupValues!A:B,2,FALSE)","v":975}]
["value9844",{"$f":"VLOOKUP(A99845,LookupValues!A:B,2,FALSE)","v":340}]
["value9845",{"$f":"VLOOKUP(A99846,LookupValues!A:B,2,FALSE)","v":386}]
["value9846",{"$f":"VLOOKUP(A99847,LookupValues!A:B,2,FALSE)","v":728}]
["value9847",{"$f":"VLOOKUP(A99848,LookupValues!A:B,2,FALSE)","v":496}]
["value9848",{"$f":"VLOOKUP(A99849,LookupValues!A:B,2,FALSE)","v":350}]
["value9849",{"$f":"VLOOKUP(A99850,LookupValues!A:B,2,FALSE)","v":994}]
["value9850",{"$f":"VLOOKUP(A99851,LookupValues!A:B,2,FALSE)","v":385}]
["value9851",{"$f":"VLOOKUP(A99852,LookupValues!A:B,2,FALSE)","v":808}]
["value9852",{"$f":"VLOOKUP(A99853,LookupValues!A:B,2,FALSE)","v":21}]
["value9853",{"$f":"VLOOKUP(A99854,LookupValues!A:B,2,FALSE)","v":46}]
["value9854",{"$f":"VLOOKUP(A99855,LookupValues!A:B,2,FALSE)","v":407}]
["value9855",{"$f":"VLOOKUP(A99856,LookupValues!A:B,2,FALSE)","v":887}]
["value9856",{"$f":"VLOOKUP(A99857,LookupValues!A:B,2,FALSE)","v":780}]
["value9857",{"$f":"VLOOKUP(A99858,LookupValues!A:B,2,FALSE)","v":407}]
["value9858",{"$f":"VLOOKUP(A99859,LookupValues!A:B,2,FALSE)","v":274}]
["value9859",{"$f":"VLOOKUP(A99860,LookupValues!A:B,2,FALSE)","v":852}]
["value9860",{"$f":"VLOOKUP(A99861,LookupValues!A:B,2,FALSE)","v":844}]
["value9861",{"$f":"VLOOKUP(A99862,LookupValues!A:B,2,FALSE)","v":757}]
["value9862",{"$f":"VLOOKUP(A99863,LookupValues!A:B,2,FALSE)","v":867}]
["value9863",{"$f":"VLOOKUP(A99864,LookupValues!A:B,2,FALSE)","v":281}]
["value9864",{"$f":"VLOOKUP(A99865,LookupValues!A:B,2,FALSE)","v":231}]
["value9865",{"$f":"VLOOKUP(A99866,LookupValues!A:B,2,FALSE)","v":51}]
["value9866",{"$f":"VLOOKUP(A99867,LookupValues!A:B,2,FALSE)","v":918}]
["value9867",{"$f":"VLOOKUP(A99868,LookupValues!A:B,2,FALSE)","v":298}]
["value9868",{"$f":"VLOOKUP(A99869,LookupValues!A:B,2,FALSE)","v":478}]
["value9869",{"$f":"VLOOKUP(A99870,LookupValues!A:B,2,FALSE)","v":942}]
["value9870",{"$f":"VLOOKUP(A99871,LookupValues!A:B,2,FALSE)","v":521}]
["value9871",{"$f":"VLOOKUP(A99872,LookupValues!A:B,2,FALSE)","v":768}]
["value9872",{"$f":"VLOOKUP(A99873,LookupValues!A:B,2,FALSE)","v":164}]
["value9873",{"$f":"VLOOKUP(A99874,LookupValues!A:B,2,FALSE)","v":369}]
["value9874",{"$f":"VLOOKUP(A99875,LookupValues!A:B,2,FALSE)","v":315}]
["value9875",{"$f":"VLOOKUP(A99876,LookupValues!A:B,2,FALSE)","v":142}]
["value9876",{"$f":"VLOOKUP(A99877,LookupValues!A:B,2,FALSE)","v":51}]
["value9877",{"$f":"VLOOKUP(A99878,LookupValues!A:B,2,FALSE)","v":525}]
["value9878",{"$f":"VLOOKUP(A99879,LookupValues!A:B,2,FALSE)","v":184}]
["value9879",{"$f":"VLOOKUP(A99880,LookupValues!A:B,2,FALSE)","v":864}]
["value9880",{"$f":"VLOOKUP(A99881,LookupValues!A:B,2,FALSE)","v":72}]
["value9881",{"$f":"VLOOKUP(A99882,LookupValues!A:B,2,FALSE)","v":674}]
["value9882",{"$f":"VLOOKUP(A99883,LookupValues!A:B,2,FALSE)","v":935}]
["value9883",{"$f":"VLOOKUP(A99884,LookupValues!A:B,2,FALSE)","v":113}]
["value9884",{"$f":"VLOOKUP(A99885,LookupValues!A:B,2,FALSE)","v":536}]
["value9885",{"$f":"VLOOKUP(A99886,LookupValues!A:B,2,FALSE)","v":458}]
["value9886",{"$f":"VLOOKUP(A99887,LookupValues!A:B,2,FALSE)","v":456}]
["value9887",{"$f":"VLOOKUP(A99888,LookupValues!A:B,2,FALSE)","v":152}]
["value9888",{"$f":"VLOOKUP(A99889,LookupValues!A:B,2,FALSE)","v":384}]
["value9889",{"$f":"VLOOKUP(A99890,LookupValues!A:B,2,FALSE)","v":780}]
["value9890",{"$f":"VLOOKUP(A99891,LookupValues!A:B,2,FALSE)","v":368}]
["value9891",{"$f":"VLOOKUP(A99892,LookupValues!A:B,2,FALSE)","v":483}]
["value9892",{"$f":"VLOOKUP(A99893,LookupValues!A:B,2,FALSE)","v":155}]
["value9893",{"$f":"VLOOKUP(A99894,LookupValues!A:B,2,FALSE)","v":644}]
["value9894",{"$f":"VLOOKUP(A99895,LookupValues!A:B,2,FALSE)","v":631}]
["value9895",{"$f":"VLOOKUP(A99896,LookupValues!A:B,2,FALSE)","v":534}]
["value9896",{"$f":"VLOOKUP(A99897,LookupValues!A:B,2,FALSE)","v":356}]
["value9897",{"$f":"VLOOKUP(A99898,LookupValues!A:B,2,FALSE)","v":246}]
["value9898",{"$f":"VLOOKUP(A99899,LookupValues!A:B,2,FALSE)","v":566}]
["value9899",{"$f":"VLOOKUP(A99900,LookupValues!A:B,2,FALSE)","v":393}]
["value9900",{"$f":"VLOOKUP(A99901,LookupValues!A:B,2,FALSE)","v":810}]
["value9901",{"$f":"VLOOKUP(A99902,LookupValues!A:B,2,FALSE)","v":866}]
["value9902",{"$f":"VLOOKUP(A99903,LookupValues!A:B,2,FALSE)","v":327}]
["value9903",{"$f":"VLOOKUP(A99904,LookupValues!A:B,2,FALSE)","v":948}]
["value9904",{"$f":"VLOOKUP(A99905,LookupValues!A:B,2,FALSE)","v":812}]
["value9905",{"$f":"VLOOKUP(A99906,LookupValues!A:B,2,FALSE)","v":472}]
["value9906",{"$f":"VLOOKUP(A99907,LookupValues!A:B,2,FALSE)","v":414}]
["value9907",{"$f":"VLOOKUP(A99908,LookupValues!A:B,2,FALSE)","v":831}]
["value9908",{"$f":"VLOOKUP(A99909,LookupValues!A:B,2,FALSE)","v":910}]
["value9909",{"$f":"VLOOKUP(A99910,LookupValues!A:B,2,FALSE)","v":882}]
["value9910",{"$f":"VLOOKUP(A99911,LookupValues!A:B,2,FALSE)","v":948}]
["value9911",{"$f":"VLOOKUP(A99912,LookupValues!A:B,2,FALSE)","v":773}]
["value9912",{"$f":"VLOOKUP(A99913,LookupValues!A:B,2,FALSE)","v":74}]
["value9913",{"$f":"VLOOKUP(A99914,LookupValues!A:B,2,FALSE)","v":780}]
["value9914",{"$f":"VLOOKUP(A99915,LookupValues!A:B,2,FALSE)","v":408}]
["value9915",{"$f":"VLOOKUP(A99916,LookupValues!A:B,2,FALSE)","v":666}]
["value9916",{"$f":"VLOOKUP(A99917,LookupValues!A:B,2,FALSE)","v":306}]
["value9917",{"$f":"VLOOKUP(A99918,LookupValues!A:B,2,FALSE)","v":212}]
["value9918",{"$f":"VLOOKUP(A99919,LookupValues!A:B,2,FALSE)","v":225}]
["value9919",{"$f":"VLOOKUP(A99920,LookupValues!A:B,2,FALSE)","v":287}]
["value9920",{"$f":"VLOOKUP(A99921,LookupValues!A:B,2,FALSE)","v":836}]
["value9921",{"$f":"VLOOKUP(A99922,LookupValues!A:B,2,FALSE)","v":673}]
["value9922",{"$f":"VLOOKUP(A99923,LookupValues!A:B,2,FALSE)","v":810}]
["value9923",{"$f":"VLOOKUP(A99924,LookupValues!A:B,2,FALSE)","v":473}]
["value9924",{"$f":"VLOOKUP(A99925,LookupValues!A:B,2,FALSE)","v":513}]
["value9925",{"$f":"VLOOKUP(A99926,LookupValues!A:B,2,FALSE)","v":159}]
["value9926",{"$f":"VLOOKUP(A99927,LookupValues!A:B,2,FALSE)","v":215}]
["value9927",{"$f":"VLOOKUP(A99928,LookupValues!A:B,2,FALSE)","v":614}]
["value9928",{"$f":"VLOOKUP(A99929,LookupValues!A:B,2,FALSE)","v":949}]
["value9929",{"$f":"VLOOKUP(A99930,LookupValues!A:B,2,FALSE)","v":943}]
["value9930",{"$f":"VLOOKUP(A99931,LookupValues!A:B,2,FALSE)","v":128}]
["value9931",{"$f":"VLOOKUP(A99932,LookupValues!A:B,2,FALSE)","v":126}]
["value9932",{"$f":"VLOOKUP(A99933,LookupValues!A:B,2,FALSE)","v":612}]
["value9933",{"$f":"VLOOKUP(A99934,LookupValues!A:B,2,FALSE)","v":555}]
["value9934",{"$f":"VLOOKUP(A99935,LookupValues!A:B,2,FALSE)","v":921}]
["value9935",{"$f":"VLOOKUP(A99936,LookupValues!A:B,2,FALSE)","v":487}]
["value9936",{"$f":"VLOOKUP(A99937,LookupValues!A:B,2,FALSE)","v":976}]
["value9937",{"$f":"VLOOKUP(A99938,LookupValues!A:B,2,FALSE)","v":794}]
["value9938",{"$f":"VLOOKUP(A99939,LookupValues!A:B,2,FALSE)","v":823}]
["value9939",{"$f":"VLOOKUP(A99940,LookupValues!A:B,2,FALSE)","v":896}]
["value9940",{"$f":"VLOOKUP(A99941,LookupValues!A:B,2,FALSE)","v":376}]
["value9941",{"$f":"VLOOKUP(A99942,LookupValues!A:B,2,FALSE)","v":707}]
["value9942",{"$f":"VLOOKUP(A99943,LookupValues!A:B,2,FALSE)","v":128}]
["value9943",{"$f":"VLOOKUP(A99944,LookupValues!A:B,2,FALSE)","v":843}]
["value9944",{"$f":"VLOOKUP(A99945,LookupValues!A:B,2,FALSE)","v":365}]
["value9945",{"$f":"VLOOKUP(A99946,LookupValues!A:B,2,FALSE)","v":33}]
["value9946",{"$f":"VLOOKUP(A99947,LookupValues!A:B,2,FALSE)","v":698}]
["value9947",{"$f":"VLOOKUP(A99948,LookupValues!A:B,2,FALSE)","v":686}]
["value9948",{"$f":"VLOOKUP(A99949,LookupValues!A:B,2,FALSE)","v":823}]
["value9949",{"$f":"VLOOKUP(A99950,LookupValues!A:B,2,FALSE)","v":624}]
["value9950",{"$f":"VLOOKUP(A99951,LookupValues!A:B,2,FALSE)","v":990}]
["value9951",{"$f":"VLOOKUP(A99952,LookupValues!A:B,2,FALSE)","v":198}]
["value9952",{"$f":"VLOOKUP(A99953,LookupValues!A:B,2,FALSE)","v":298}]
["value9953",{"$f":"VLOOKUP(A99954,LookupValues!A:B,2,FALSE)","v":741}]
["value9954",{"$f":"VLOOKUP(A99955,LookupValues!A:B,2,FALSE)","v":397}]
["value9955",{"$f":"VLOOKUP(A99956,LookupValues!A:B,2,FALSE)","v":489}]
["value9956",{"$f":"VLOOKUP(A99957,LookupValues!A:B,2,FALSE)","v":471}]
["value9957",{"$f":"VLOOKUP(A99958,LookupValues!A:B,2,FALSE)","v":60}]
["value9958",{"$f":"VLOOKUP(A99959,LookupValues!A:B,2,FALSE)","v":817}]
["value9959",{"$f":"VLOOKUP(A99960,LookupValues!A:B,2,FALSE)","v":649}]
["value9960",{"$f":"VLOOKUP(A99961,LookupValues!A:B,2,FALSE)","v":967}]
["value9961",{"$f":"VLOOKUP(A99962,LookupValues!A:B,2,FALSE)","v":441}]
["value9962",{"$f":"VLOOKUP(A99963,LookupValues!A:B,2,FALSE)","v":786}]
["value9963",{"$f":"VLOOKUP(A99964,LookupValues!A:B,2,FALSE)","v":337}]
["value9964",{"$f":"VLOOKUP(A99965,LookupValues!A:B,2,FALSE)","v":976}]
["value9965",{"$f":"VLOOKUP(A99966,LookupValues!A:B,2,FALSE)","v":484}]
["value9966",{"$f":"VLOOKUP(A99967,LookupValues!A:B,2,FALSE)","v":974}]
["value9967",{"$f":"VLOOKUP(A99968,LookupValues!A:B,2,FALSE)","v":268}]
["value9968",{"$f":"VLOOKUP(A99969,LookupValues!A:B,2,FALSE)","v":422}]
["value9969",{"$f":"VLOOKUP(A99970,LookupValues!A:B,2,FALSE)","v":343}]
["value9970",{"$f":"VLOOKUP(A99971,LookupValues!A:B,2,FALSE)","v":44}]
["value9971",{"$f":"VLOOKUP(A99972,LookupValues!A:B,2,FALSE)","v":376}]
["value9972",{"$f":"VLOOKUP(A99973,LookupValues!A:B,2,FALSE)","v":884}]
["value9973",{"$f":"VLOOKUP(A99974,LookupValues!A:B,2,FALSE)","v":657}]
["value9974",{"$f":"VLOOKUP(A99975,LookupValues!A:B,2,FALSE)","v":293}]
["value9975",{"$f":"VLOOKUP(A99976,LookupValues!A:B,2,FALSE)","v":444}]
["value9976",{"$f":"VLOOKUP(A99977,LookupValues!A:B,2,FALSE)","v":404}]
["value9977",{"$f":"VLOOKUP(A99978,LookupValues!A:B,2,FALSE)","v":483}]
["value9978",{"$f":"VLOOKUP(A99979,LookupValues!A:B,2,FALSE)","v":75}]
["value9979",{"$f":"VLOOKUP(A99980,LookupValues!A:B,2,FALSE)","v":24}]
["value9980",{"$f":"VLOOKUP(A99981,LookupValues!A:B,2,FALSE)","v":627}]
["value9981",{"$f":"VLOOKUP(A99982,LookupValues!A:B,2,FALSE)","v":279}]
["value9982",{"$f":"VLOOKUP(A99983,LookupValues!A:B,2,FALSE)","v":772}]
["value9983",{"$f":"VLOOKUP(A99984,LookupValues!A:B,2,FALSE)","v":727}]
["value9984",{"$f":"VLOOKUP(A99985,LookupValues!A:B,2,FALSE)","v":859}]
["value9985",{"$f":"VLOOKUP(A99986,LookupValues!A:B,2,FALSE)","v":221}]
["value9986",{"$f":"VLOOKUP(A99987,LookupValues!A:B,2,FALSE)","v":443}]
["value9987",{"$f":"VLOOKUP(A99988,LookupValues!A:B,2,FALSE)","v":636}]
["value9988",{"$f":"VLOOKUP(A99989,LookupValues!A:B,2,FALSE)","v":31}]
["value9989",{"$f":"VLOOKUP(A99990,LookupValues!A:B,2,FALSE)","v":637}]
["value9990",{"$f":"VLOOKUP(A99991,LookupValues!A:B,2,FALSE)","v":967}]
["value9991",{"$f":"VLOOKUP(A99992,LookupValues!A:B,2,FALSE)","v":765}]
["value9992",{"$f":"VLOOKUP(A99993,LookupValues!A:B,2,FALSE)","v":88}]
["value9993",{"$f":"VLOOKUP(A99994,LookupValues!A:B,2,FALSE)","v":919}]
["value9994",{"$f":"VLOOKUP(A99995,LookupValues!A:B,2,FALSE)","v":974}]
["value9995",{"$f":"VLOOKUP(A99996,LookupValues!A:B,2,FALSE)","v":82}]
["value9996",{"$f":"VLOOKUP(A99997,LookupValues!A:B,2,FALSE)","v":982}]
["value9997",{"$f":"VLOOKUP(A99998,LookupValues!A:B,2,FALSE)","v":85}]
["value9998",{"$f":"VLOOKUP(A99999,LookupValues!A:B,2,FALSE)","v":697}]
["value9999",{"$f":"VLOOKUP(A100000,LookupValues!A:B,2,FALSE)","v":744}]
["value10000",{"$f":"VLOOKUP(A100001,LookupValues!A:B,2,FALSE)","v":677}]

{"sheet":"LookupValues","index":1,"n_rows":10001,"n_cols":2,"rows_kept":10001}
["Lookup Column","Lookup Value"]
["value1",123]
["value2",333]
["value3",19]
["value4",386]
["value5",814]
["value6",984]
["value7",680]
["value8",253]
["value9",693]
["value10",511]
["value11",479]
["value12",713]
["value13",652]
["value14",190]
["value15",330]
["value16",348]
["value17",349]
["value18",104]
["value19",322]
["value20",358]
["value21",140]
["value22",242]
["value23",219]
["value24",467]
["value25",725]
["value26",667]
["value27",518]
["value28",717]
["value29",783]
["value30",487]
["value31",866]
["value32",709]
["value33",931]
["value34",367]
["value35",718]
["value36",555]
["value37",641]
["value38",611]
["value39",171]
["value40",705]
["value41",621]
["value42",926]
["value43",542]
["value44",923]
["value45",366]
["value46",160]
["value47",411]
["value48",999]
["value49",775]
["value50",738]
["value51",467]
["value52",136]
["value53",317]
["value54",754]
["value55",939]
["value56",716]
["value57",712]
["value58",822]
["value59",981]
["value60",923]
["value61",85]
["value62",561]
["value63",214]
["value64",531]
["value65",459]
["value66",895]
["value67",634]
["value68",466]
["value69",206]
["value70",179]
["value71",771]
["value72",639]
["value73",683]
["value74",307]
["value75",18]
["value76",803]
["value77",980]
["value78",83]
["value79",237]
["value80",965]
["value81",148]
["value82",66]
["value83",419]
["value84",10]
["value85",21]
["value86",8]
["value87",256]
["value88",177]
["value89",799]
["value90",663]
["value91",227]
["value92",543]
["value93",906]
["value94",960]
["value95",187]
["value96",85]
["value97",770]
["value98",64]
["value99",115]
["value100",398]
["value101",330]
["value102",56]
["value103",966]
["value104",711]
["value105",180]
["value106",689]
["value107",338]
["value108",557]
["value109",553]
["value110",909]
["value111",104]
["value112",951]
["value113",812]
["value114",507]
["value115",504]
["value116",516]
["value117",850]
["value118",756]
["value119",769]
["value120",544]
["value121",394]
["value122",114]
["value123",620]
["value124",268]
["value125",23]
["value126",245]
["value127",770]
["value128",285]
["value129",154]
["value130",619]
["value131",901]
["value132",689]
["value133",933]
["value134",39]
["value135",103]
["value136",571]
["value137",604]
["value138",227]
["value139",3]
["value140",981]
["value141",527]
["value142",114]
["value143",550]
["value144",675]
["value145",228]
["value146",335]
["value147",103]
["value148",822]
["value149",808]
["value150",269]
["value151",523]
["value152",8]
["value153",750]
["value154",498]
["value155",762]
["value156",395]
["value157",582]
["value158",856]
["value159",863]
["value160",170]
["value161",270]
["value162",240]
["value163",344]
["value164",406]
["value165",661]
["value166",811]
["value167",3]
["value168",587]
["value169",172]
["value170",150]
["value171",100]
["value172",95]
["value173",546]
["value174",929]
["value175",206]
["value176",565]
["value177",246]
["value178",204]
["value179",900]
["value180",801]
["value181",233]
["value182",419]
["value183",493]
["value184",519]
["value185",747]
["value186",247]
["value187",607]
["value188",158]
["value189",830]
["value190",436]
["value191",573]
["value192",375]
["value193",39]
["value194",729]
["value195",305]
["value196",146]
["value197",198]
["value198",463]
["value199",914]
["value200",729]
["value201",441]
["value202",729]
["value203",166]
["value204",73]
["value205",203]
["value206",9]
["value207",802]
["value208",872]
["value209",91]
["value210",214]
["value211",504]
["value212",835]
["value213",894]
["value214",849]
["value215",88]
["value216",286]
["value217",46]
["value218",734]
["value219",931]
["value220",639]
["value221",453]
["value222",111]
["value223",436]
["value224",595]
["value225",580]
["value226",142]
["value227",873]
["value228",513]
["value229",385]
["value230",387]
["value231",595]
["value232",813]
["value233",56]
["value234",562]
["value235",706]
["value236",235]
["value237",449]
["value238",510]
["value239",435]
["value240",409]
["value241",70]
["value242",156]
["value243",562]
["value244",236]
["value245",890]
["value246",366]
["value247",537]
["value248",0]
["value249",617]
["value250",611]
["value251",14]
["value252",387]
["value253",619]
["value254",208]
["value255",758]
["value256",528]
["value257",779]
["value258",856]
["value259",259]
["value260",560]
["value261",857]
["value262",839]
["value263",526]
["value264",961]
["value265",129]
["value266",750]
["value267",232]
["value268",859]
["value269",555]
["value270",924]
["value271",204]
["value272",593]
["value273",860]
["value274",932]
["value275",633]
["value276",796]
["value277",441]
["value278",494]
["value279",921]
["value280",554]
["value281",317]
["value282",838]
["value283",134]
["value284",631]
["value285",670]
["value286",896]
["value287",686]
["value288",339]
["value289",83]
["value290",131]
["value291",111]
["value292",653]
["value293",435]
["value294",295]
["value295",740]
["value296",122]
["value297",161]
["value298",27]
["value299",228]
["value300",1000]
["value301",916]
["value302",987]
["value303",678]
["value304",797]
["value305",992]
["value306",840]
["value307",860]
["value308",124]
["value309",374]
["value310",180]
["value311",752]
["value312",628]
["value313",900]
["value314",918]
["value315",809]
["value316",401]
["value317",110]
["value318",694]
["value319",673]
["value320",420]
["value321",566]
["value322",337]
["value323",80]
["value324",714]
["value325",346]
["value326",307]
["value327",966]
["value328",976]
["value329",590]
["value330",169]
["value331",400]
["value332",15]
["value333",130]
["value334",873]
["value335",388]
["value336",5]
["value337",163]
["value338",643]
["value339",780]
["value340",773]
["value341",834]
["value342",321]
["value343",872]
["value344",168]
["value345",387]
["value346",710]
["value347",268]
["value348",886]
["value349",696]
["value350",253]
["value351",198]
["value352",431]
["value353",804]
["value354",548]
["value355",454]
["value356",589]
["value357",294]
["value358",245]
["value359",685]
["value360",819]
["value361",73]
["value362",30]
["value363",639]
["value364",792]
["value365",668]
["value366",685]
["value367",468]
["value368",591]
["value369",801]
["value370",741]
["value371",475]
["value372",777]
["value373",506]
["value374",42]
["value375",123]
["value376",701]
["value377",855]
["value378",366]
["value379",289]
["value380",108]
["value381",487]
["value382",754]
["value383",140]
["value384",802]
["value385",522]
["value386",312]
["value387",473]
["value388",589]
["value389",991]
["value390",850]
["value391",995]
["value392",276]
["value393",672]
["value394",494]
["value395",112]
["value396",565]
["value397",932]
["value398",609]
["value399",397]
["value400",431]
["value401",724]
["value402",787]
["value403",625]
["value404",759]
["value405",404]
["value406",112]
["value407",215]
["value408",51]
["value409",952]
["value410",734]
["value411",826]
["value412",356]
["value413",374]
["value414",143]
["value415",751]
["value416",301]
["value417",174]
["value418",995]
["value419",77]
["value420",169]
["value421",542]
["value422",913]
["value423",777]
["value424",9]
["value425",49]
["value426",420]
["value427",858]
["value428",921]
["value429",611]
["value430",695]
["value431",442]
["value432",527]
["value433",447]
["value434",883]
["value435",153]
["value436",482]
["value437",237]
["value438",483]
["value439",132]
["value440",847]
["value441",611]
["value442",876]
["value443",964]
["value444",29]
["value445",745]
["value446",879]
["value447",431]
["value448",485]
["value449",597]
["value450",673]
["value451",864]
["value452",933]
["value453",281]
["value454",200]
["value455",788]
["value456",152]
["value457",353]
["value458",125]
["value459",951]
["value460",293]
["value461",769]
["value462",665]
["value463",343]
["value464",990]
["value465",555]
["value466",823]
["value467",732]
["value468",138]
["value469",391]
["value470",182]
["value471",147]
["value472",236]
["value473",992]
["value474",653]
["value475",959]
["value476",525]
["value477",671]
["value478",817]
["value479",572]
["value480",18]
["value481",882]
["value482",936]
["value483",455]
["value484",775]
["value485",650]
["value486",428]
["value487",288]
["value488",587]
["value489",980]
["value490",403]
["value491",711]
["value492",612]
["value493",708]
["value494",134]
["value495",851]
["value496",401]
["value497",304]
["value498",903]
["value499",988]
["value500",803]
["value501",643]
["value502",687]
["value503",174]
["value504",315]
["value505",828]
["value506",145]
["value507",450]
["value508",797]
["value509",323]
["value510",538]
["value511",659]
["value512",843]
["value513",527]
["value514",400]
["value515",683]
["value516",841]
["value517",763]
["value518",171]
["value519",446]
["value520",855]
["value521",816]
["value522",992]
["value523",603]
["value524",421]
["value525",637]
["value526",834]
["value527",506]
["value528",718]
["value529",47]
["value530",19]
["value531",685]
["value532",302]
["value533",62]
["value534",268]
["value535",641]
["value536",0]
["value537",451]
["value538",625]
["value539",963]
["value540",0]
["value541",971]
["value542",247]
["value543",533]
["value544",31]
["value545",604]
["value546",177]
["value547",379]
["value548",153]
["value549",639]
["value550",502]
["value551",751]
["value552",387]
["value553",966]
["value554",564]
["value555",232]
["value556",251]
["value557",686]
["value558",619]
["value559",199]
["value560",604]
["value561",263]
["value562",275]
["value563",395]
["value564",795]
["value565",196]
["value566",489]
["value567",836]
["value568",239]
["value569",860]
["value570",795]
["value571",571]
["value572",96]
["value573",782]
["value574",245]
["value575",638]
["value576",561]
["value577",510]
["value578",51]
["value579",2]
["value580",903]
["value581",977]
["value582",609]
["value583",640]
["value584",928]
["value585",653]
["value586",804]
["value587",509]
["value588",944]
["value589",268]
["value590",363]
["value591",261]
["value592",999]
["value593",268]
["value594",344]
["value595",967]
["value596",904]
["value597",594]
["value598",739]
["value599",597]
["value600",347]
["value601",726]
["value602",601]
["value603",696]
["value604",35]
["value605",827]
["value606",364]
["value607",467]
["value608",815]
["value609",401]
["value610",872]
["value611",669]
["value612",122]
["value613",999]
["value614",821]
["value615",975]
["value616",600]
["value617",262]
["value618",473]
["value619",448]
["value620",915]
["value621",495]
["value622",191]
["value623",595]
["value624",330]
["value625",373]
["value626",645]
["value627",732]
["value628",847]
["value629",496]
["value630",592]
["value631",801]
["value632",156]
["value633",454]
["value634",59]
["value635",993]
["value636",190]
["value637",324]
["value638",963]
["value639",857]
["value640",24]
["value641",568]
["value642",32]
["value643",652]
["value644",136]
["value645",988]
["value646",853]
["value647",648]
["value648",840]
["value649",576]
["value650",760]
["value651",21]
["value652",709]
["value653",96]
["value654",690]
["value655",509]
["value656",756]
["value657",86]
["value658",779]
["value659",57]
["value660",639]
["value661",533]
["value662",447]
["value663",698]
["value664",566]
["value665",131]
["value666",410]
["value667",375]
["value668",180]
["value669",997]
["value670",547]
["value671",347]
["value672",508]
["value673",834]
["value674",483]
["value675",851]
["value676",41]
["value677",242]
["value678",820]
["value679",712]
["value680",958]
["value681",192]
["value682",760]
["value683",828]
["value684",714]
["value685",974]
["value686",536]
["value687",917]
["value688",249]
["value689",172]
["value690",908]
["value691",215]
["value692",861]
["value693",428]
["value694",61]
["value695",140]
["value696",110]
["value697",988]
["value698",335]
["value699",545]
["value700",462]
["value701",979]
["value702",697]
["value703",877]
["value704",788]
["value705",652]
["value706",507]
["value707",129]
["value708",299]
["value709",460]
["value710",853]
["value711",208]
["value712",451]
["value713",616]
["value714",263]
["value715",859]
["value716",430]
["value717",251]
["value718",743]
["value719",114]
["value720",406]
["value721",423]
["value722",673]
["value723",330]
["value724",550]
["value725",865]
["value726",51]
["value727",487]
["value728",196]
["value729",114]
["value730",244]
["value731",293]
["value732",289]
["value733",787]
["value734",567]
["value735",326]
["value736",949]
["value737",600]
["value738",331]
["value739",342]
["value740",306]
["value741",94]
["value742",297]
["value743",719]
["value744",806]
["value745",141]
["value746",408]
["value747",603]
["value748",328]
["value749",341]
["value750",998]
["value751",352]
["value752",764]
["value753",440]
["value754",325]
["value755",622]
["value756",228]
["value757",234]
["value758",292]
["value759",584]
["value760",238]
["value761",787]
["value762",953]
["value763",575]
["value764",80]
["value765",16]
["value766",454]
["value767",70]
["value768",805]
["value769",628]
["value770",955]
["value771",223]
["value772",695]
["value773",75]
["value774",975]
["value775",640]
["value776",423]
["value777",617]
["value778",567]
["value779",615]
["value780",360]
["value781",282]
["value782",915]
["value783",432]
["value784",959]
["value785",726]
["value786",574]
["value787",916]
["value788",565]
["value789",102]
["value790",962]
["value791",84]
["value792",972]
["value793",112]
["value794",210]
["value795",242]
["value796",688]
["value797",721]
["value798",825]
["value799",59]
["value800",656]
["value801",74]
["value802",521]
["value803",767]
["value804",859]
["value805",416]
["value806",313]
["value807",938]
["value808",42]
["value809",694]
["value810",736]
["value811",734]
["value812",374]
["value813",47]
["value814",443]
["value815",395]
["value816",468]
["value817",167]
["value818",148]
["value819",504]
["value820",723]
["value821",141]
["value822",465]
["value823",515]
["value824",176]
["value825",360]
["value826",165]
["value827",897]
["value828",281]
["value829",534]
["value830",409]
["value831",119]
["value832",438]
["value833",953]
["value834",407]
["value835",494]
["value836",48]
["value837",347]
["value838",500]
["value839",415]
["value840",713]
["value841",451]
["value842",137]
["value843",472]
["value844",68]
["value845",435]
["value846",549]
["value847",887]
["value848",104]
["value849",358]
["value850",495]
["value851",976]
["value852",521]
["value853",93]
["value854",33]
["value855",223]
["value856",619]
["value857",375]
["value858",601]
["value859",293]
["value860",724]
["value861",796]
["value862",302]
["value863",858]
["value864",830]
["value865",116]
["value866",828]
["value867",782]
["value868",997]
["value869",949]
["value870",98]
["value871",936]
["value872",232]
["value873",139]
["value874",797]
["value875",286]
["value876",705]
["value877",707]
["value878",859]
["value879",133]
["value880",952]
["value881",675]
["value882",648]
["value883",992]
["value884",36]
["value885",748]
["value886",418]
["value887",765]
["value888",591]
["value889",510]
["value890",811]
["value891",236]
["value892",33]
["value893",276]
["value894",961]
["value895",403]
["value896",515]
["value897",442]
["value898",421]
["value899",591]
["value900",925]
["value901",502]
["value902",448]
["value903",191]
["value904",996]
["value905",161]
["value906",790]
["value907",185]
["value908",986]
["value909",300]
["value910",907]
["value911",787]
["value912",43]
["value913",36]
["value914",520]
["value915",560]
["value916",422]
["value917",763]
["value918",277]
["value919",892]
["value920",952]
["value921",610]
["value922",273]
["value923",247]
["value924",307]
["value925",715]
["value926",30]
["value927",493]
["value928",700]
["value929",775]
["value930",39]
["value931",365]
["value932",956]
["value933",709]
["value934",601]
["value935",385]
["value936",437]
["value937",6]
["value938",268]
["value939",532]
["value940",235]
["value941",624]
["value942",250]
["value943",200]
["value944",434]
["value945",624]
["value946",252]
["value947",129]
["value948",89]
["value949",833]
["value950",136]
["value951",733]
["value952",356]
["value953",282]
["value954",447]
["value955",472]
["value956",547]
["value957",947]
["value958",723]
["value959",750]
["value960",580]
["value961",550]
["value962",367]
["value963",27]
["value964",539]
["value965",616]
["value966",267]
["value967",803]
["value968",222]
["value969",602]
["value970",668]
["value971",553]
["value972",672]
["value973",224]
["value974",778]
["value975",292]
["value976",201]
["value977",367]
["value978",839]
["value979",829]
["value980",807]
["value981",538]
["value982",198]
["value983",296]
["value984",52]
["value985",902]
["value986",674]
["value987",428]
["value988",365]
["value989",447]
["value990",446]
["value991",237]
["value992",202]
["value993",116]
["value994",359]
["value995",430]
["value996",300]
["value997",501]
["value998",822]
["value999",628]
["value1000",721]
["value1001",536]
["value1002",86]
["value1003",694]
["value1004",164]
["value1005",107]
["value1006",370]
["value1007",667]
["value1008",495]
["value1009",668]
["value1010",248]
["value1011",587]
["value1012",412]
["value1013",775]
["value1014",629]
["value1015",914]
["value1016",428]
["value1017",151]
["value1018",363]
["value1019",554]
["value1020",597]
["value1021",194]
["value1022",632]
["value1023",762]
["value1024",785]
["value1025",740]
["value1026",70]
["value1027",571]
["value1028",307]
["value1029",158]
["value1030",707]
["value1031",105]
["value1032",588]
["value1033",703]
["value1034",294]
["value1035",741]
["value1036",607]
["value1037",954]
["value1038",873]
["value1039",169]
["value1040",255]
["value1041",377]
["value1042",807]
["value1043",594]
["value1044",772]
["value1045",824]
["value1046",441]
["value1047",763]
["value1048",233]
["value1049",474]
["value1050",690]
["value1051",473]
["value1052",925]
["value1053",387]
["value1054",684]
["value1055",893]
["value1056",272]
["value1057",732]
["value1058",883]
["value1059",411]
["value1060",770]
["value1061",561]
["value1062",382]
["value1063",208]
["value1064",713]
["value1065",116]
["value1066",395]
["value1067",518]
["value1068",966]
["value1069",763]
["value1070",193]
["value1071",142]
["value1072",527]
["value1073",397]
["value1074",473]
["value1075",329]
["value1076",728]
["value1077",817]
["value1078",347]
["value1079",184]
["value1080",441]
["value1081",45]
["value1082",833]
["value1083",167]
["value1084",454]
["value1085",54]
["value1086",220]
["value1087",241]
["value1088",528]
["value1089",481]
["value1090",907]
["value1091",529]
["value1092",729]
["value1093",101]
["value1094",983]
["value1095",302]
["value1096",365]
["value1097",23]
["value1098",602]
["value1099",380]
["value1100",722]
["value1101",370]
["value1102",385]
["value1103",361]
["value1104",828]
["value1105",701]
["value1106",747]
["value1107",209]
["value1108",852]
["value1109",622]
["value1110",952]
["value1111",748]
["value1112",182]
["value1113",379]
["value1114",648]
["value1115",711]
["value1116",808]
["value1117",270]
["value1118",524]
["value1119",868]
["value1120",743]
["value1121",881]
["value1122",807]
["value1123",98]
["value1124",437]
["value1125",474]
["value1126",301]
["value1127",564]
["value1128",278]
["value1129",514]
["value1130",883]
["value1131",319]
["value1132",643]
["value1133",466]
["value1134",828]
["value1135",21]
["value1136",665]
["value1137",510]
["value1138",833]
["value1139",99]
["value1140",631]
["value1141",260]
["value1142",564]
["value1143",95]
["value1144",768]
["value1145",670]
["value1146",97]
["value1147",359]
["value1148",483]
["value1149",217]
["value1150",353]
["value1151",120]
["value1152",666]
["value1153",727]
["value1154",576]
["value1155",115]
["value1156",856]
["value1157",68]
["value1158",369]
["value1159",379]
["value1160",507]
["value1161",111]
["value1162",226]
["value1163",2]
["value1164",962]
["value1165",415]
["value1166",194]
["value1167",474]
["value1168",6]
["value1169",772]
["value1170",97]
["value1171",521]
["value1172",73]
["value1173",619]
["value1174",791]
["value1175",375]
["value1176",286]
["value1177",377]
["value1178",211]
["value1179",674]
["value1180",517]
["value1181",593]
["value1182",195]
["value1183",253]
["value1184",199]
["value1185",637]
["value1186",616]
["value1187",352]
["value1188",627]
["value1189",523]
["value1190",933]
["value1191",264]
["value1192",959]
["value1193",592]
["value1194",87]
["value1195",823]
["value1196",531]
["value1197",589]
["value1198",603]
["value1199",463]
["value1200",573]
["value1201",855]
["value1202",860]
["value1203",64]
["value1204",854]
["value1205",590]
["value1206",205]
["value1207",151]
["value1208",181]
["value1209",710]
["value1210",279]
["value1211",52]
["value1212",747]
["value1213",255]
["value1214",266]
["value1215",69]
["value1216",61]
["value1217",275]
["value1218",116]
["value1219",985]
["value1220",957]
["value1221",234]
["value1222",258]
["value1223",251]
["value1224",356]
["value1225",438]
["value1226",195]
["value1227",916]
["value1228",701]
["value1229",841]
["value1230",760]
["value1231",48]
["value1232",888]
["value1233",160]
["value1234",65]
["value1235",259]
["value1236",420]
["value1237",208]
["value1238",449]
["value1239",946]
["value1240",811]
["value1241",225]
["value1242",185]
["value1243",168]
["value1244",616]
["value1245",55]
["value1246",414]
["value1247",320]
["value1248",72]
["value1249",146]
["value1250",561]
["value1251",983]
["value1252",265]
["value1253",981]
["value1254",161]
["value1255",375]
["value1256",841]
["value1257",792]
["value1258",580]
["value1259",571]
["value1260",603]
["value1261",294]
["value1262",457]
["value1263",580]
["value1264",486]
["value1265",506]
["value1266",474]
["value1267",68]
["value1268",806]
["value1269",113]
["value1270",554]
["value1271",664]
["value1272",374]
["value1273",891]
["value1274",836]
["value1275",473]
["value1276",182]
["value1277",484]
["value1278",168]
["value1279",81]
["value1280",635]
["value1281",427]
["value1282",134]
["value1283",776]
["value1284",809]
["value1285",424]
["value1286",804]
["value1287",628]
["value1288",209]
["value1289",984]
["value1290",233]
["value1291",693]
["value1292",917]
["value1293",68]
["value1294",371]
["value1295",182]
["value1296",853]
["value1297",384]
["value1298",159]
["value1299",41]
["value1300",317]
["value1301",347]
["value1302",285]
["value1303",845]
["value1304",671]
["value1305",671]
["value1306",57]
["value1307",552]
["value1308",661]
["value1309",76]
["value1310",160]
["value1311",414]
["value1312",97]
["value1313",299]
["value1314",532]
["value1315",553]
["value1316",301]
["value1317",509]
["value1318",892]
["value1319",780]
["value1320",766]
["value1321",173]
["value1322",487]
["value1323",445]
["value1324",96]
["value1325",109]
["value1326",84]
["value1327",436]
["value1328",455]
["value1329",581]
["value1330",513]
["value1331",563]
["value1332",827]
["value1333",762]
["value1334",527]
["value1335",615]
["value1336",209]
["value1337",439]
["value1338",66]
["value1339",845]
["value1340",157]
["value1341",618]
["value1342",330]
["value1343",118]
["value1344",900]
["value1345",607]
["value1346",468]
["value1347",418]
["value1348",908]
["value1349",192]
["value1350",946]
["value1351",57]
["value1352",830]
["value1353",335]
["value1354",485]
["value1355",9]
["value1356",108]
["value1357",798]
["value1358",351]
["value1359",100]
["value1360",612]
["value1361",662]
["value1362",769]
["value1363",323]
["value1364",324]
["value1365",294]
["value1366",871]
["value1367",316]
["value1368",484]
["value1369",983]
["value1370",211]
["value1371",582]
["value1372",540]
["value1373",541]
["value1374",248]
["value1375",929]
["value1376",809]
["value1377",225]
["value1378",794]
["value1379",804]
["value1380",774]
["value1381",139]
["value1382",297]
["value1383",413]
["value1384",336]
["value1385",112]
["value1386",147]
["value1387",412]
["value1388",775]
["value1389",992]
["value1390",663]
["value1391",787]
["value1392",719]
["value1393",940]
["value1394",840]
["value1395",55]
["value1396",590]
["value1397",156]
["value1398",733]
["value1399",334]
["value1400",3]
["value1401",453]
["value1402",815]
["value1403",395]
["value1404",239]
["value1405",586]
["value1406",499]
["value1407",578]
["value1408",983]
["value1409",573]
["value1410",474]
["value1411",196]
["value1412",834]
["value1413",359]
["value1414",788]
["value1415",395]
["value1416",832]
["value1417",291]
["value1418",164]
["value1419",249]
["value1420",531]
["value1421",554]
["value1422",771]
["value1423",588]
["value1424",249]
["value1425",825]
["value1426",38]
["value1427",601]
["value1428",121]
["value1429",342]
["value1430",724]
["value1431",930]
["value1432",318]
["value1433",974]
["value1434",896]
["value1435",503]
["value1436",651]
["value1437",768]
["value1438",846]
["value1439",695]
["value1440",916]
["value1441",435]
["value1442",738]
["value1443",641]
["value1444",680]
["value1445",65]
["value1446",133]
["value1447",752]
["value1448",16]
["value1449",333]
["value1450",829]
["value1451",341]
["value1452",968]
["value1453",941]
["value1454",655]
["value1455",999]
["value1456",993]
["value1457",263]
["value1458",438]
["value1459",870]
["value1460",172]
["value1461",868]
["value1462",600]
["value1463",348]
["value1464",494]
["value1465",842]
["value1466",895]
["value1467",928]
["value1468",659]
["value1469",861]
["value1470",169]
["value1471",96]
["value1472",358]
["value1473",234]
["value1474",76]
["value1475",850]
["value1476",854]
["value1477",791]
["value1478",526]
["value1479",340]
["value1480",957]
["value1481",756]
["value1482",812]
["value1483",166]
["value1484",512]
["value1485",771]
["value1486",310]
["value1487",836]
["value1488",743]
["value1489",866]
["value1490",688]
["value1491",871]
["value1492",608]
["value1493",794]
["value1494",579]
["value1495",186]
["value1496",922]
["value1497",585]
["value1498",830]
["value1499",100]
["value1500",880]
["value1501",712]
["value1502",401]
["value1503",315]
["value1504",161]
["value1505",774]
["value1506",264]
["value1507",506]
["value1508",129]
["value1509",917]
["value1510",512]
["value1511",429]
["value1512",954]
["value1513",518]
["value1514",809]
["value1515",736]
["value1516",523]
["value1517",682]
["value1518",587]
["value1519",92]
["value1520",349]
["value1521",471]
["value1522",184]
["value1523",138]
["value1524",788]
["value1525",606]
["value1526",908]
["value1527",205]
["value1528",447]
["value1529",211]
["value1530",906]
["value1531",344]
["value1532",648]
["value1533",707]
["value1534",933]
["value1535",26]
["value1536",44]
["value1537",498]
["value1538",628]
["value1539",305]
["value1540",472]
["value1541",833]
["value1542",215]
["value1543",412]
["value1544",529]
["value1545",441]
["value1546",585]
["value1547",749]
["value1548",950]
["value1549",762]
["value1550",354]
["value1551",751]
["value1552",374]
["value1553",999]
["value1554",51]
["value1555",149]
["value1556",914]
["value1557",547]
["value1558",798]
["value1559",545]
["value1560",522]
["value1561",779]
["value1562",710]
["value1563",330]
["value1564",301]
["value1565",873]
["value1566",710]
["value1567",268]
["value1568",254]
["value1569",827]
["value1570",203]
["value1571",359]
["value1572",982]
["value1573",106]
["value1574",932]
["value1575",999]
["value1576",537]
["value1577",408]
["value1578",905]
["value1579",434]
["value1580",270]
["value1581",145]
["value1582",554]
["value1583",655]
["value1584",195]
["value1585",701]
["value1586",308]
["value1587",549]
["value1588",914]
["value1589",620]
["value1590",662]
["value1591",464]
["value1592",583]
["value1593",401]
["value1594",889]
["value1595",75]
["value1596",983]
["value1597",340]
["value1598",755]
["value1599",628]
["value1600",916]
["value1601",914]
["value1602",261]
["value1603",522]
["value1604",502]
["value1605",605]
["value1606",127]
["value1607",44]
["value1608",904]
["value1609",508]
["value1610",980]
["value1611",245]
["value1612",250]
["value1613",853]
["value1614",652]
["value1615",165]
["value1616",685]
["value1617",338]
["value1618",647]
["value1619",883]
["value1620",500]
["value1621",845]
["value1622",169]
["value1623",207]
["value1624",3]
["value1625",786]
["value1626",279]
["value1627",897]
["value1628",410]
["value1629",638]
["value1630",852]
["value1631",843]
["value1632",58]
["value1633",753]
["value1634",653]
["value1635",20]
["value1636",242]
["value1637",322]
["value1638",415]
["value1639",116]
["value1640",920]
["value1641",208]
["value1642",936]
["value1643",839]
["value1644",664]
["value1645",792]
["value1646",871]
["value1647",815]
["value1648",296]
["value1649",275]
["value1650",204]
["value1651",679]
["value1652",671]
["value1653",542]
["value1654",381]
["value1655",494]
["value1656",112]
["value1657",399]
["value1658",150]
["value1659",376]
["value1660",655]
["value1661",623]
["value1662",781]
["value1663",855]
["value1664",198]
["value1665",150]
["value1666",623]
["value1667",204]
["value1668",226]
["value1669",182]
["value1670",267]
["value1671",123]
["value1672",390]
["value1673",833]
["value1674",736]
["value1675",450]
["value1676",132]
["value1677",325]
["value1678",568]
["value1679",98]
["value1680",450]
["value1681",504]
["value1682",327]
["value1683",63]
["value1684",682]
["value1685",517]
["value1686",714]
["value1687",975]
["value1688",146]
["value1689",3]
["value1690",994]
["value1691",591]
["value1692",40]
["value1693",435]
["value1694",752]
["value1695",528]
["value1696",947]
["value1697",182]
["value1698",283]
["value1699",846]
["value1700",412]
["value1701",678]
["value1702",749]
["value1703",786]
["value1704",215]
["value1705",439]
["value1706",455]
["value1707",477]
["value1708",179]
["value1709",811]
["value1710",205]
["value1711",735]
["value1712",76]
["value1713",664]
["value1714",63]
["value1715",55]
["value1716",136]
["value1717",652]
["value1718",199]
["value1719",713]
["value1720",814]
["value1721",335]
["value1722",834]
["value1723",998]
["value1724",399]
["value1725",31]
["value1726",380]
["value1727",909]
["value1728",482]
["value1729",487]
["value1730",423]
["value1731",215]
["value1732",596]
["value1733",519]
["value1734",383]
["value1735",122]
["value1736",251]
["value1737",623]
["value1738",449]
["value1739",126]
["value1740",818]
["value1741",909]
["value1742",251]
["value1743",182]
["value1744",62]
["value1745",756]
["value1746",818]
["value1747",468]
["value1748",184]
["value1749",514]
["value1750",281]
["value1751",928]
["value1752",893]
["value1753",20]
["value1754",219]
["value1755",486]
["value1756",752]
["value1757",987]
["value1758",306]
["value1759",32]
["value1760",988]
["value1761",303]
["value1762",445]
["value1763",351]
["value1764",633]
["value1765",998]
["value1766",812]
["value1767",160]
["value1768",166]
["value1769",782]
["value1770",164]
["value1771",370]
["value1772",488]
["value1773",917]
["value1774",485]
["value1775",174]
["value1776",737]
["value1777",650]
["value1778",879]
["value1779",14]
["value1780",873]
["value1781",828]
["value1782",731]
["value1783",683]
["value1784",533]
["value1785",560]
["value1786",271]
["value1787",380]
["value1788",512]
["value1789",484]
["value1790",712]
["value1791",519]
["value1792",466]
["value1793",758]
["value1794",545]
["value1795",159]
["value1796",814]
["value1797",25]
["value1798",937]
["value1799",459]
["value1800",837]
["value1801",479]
["value1802",955]
["value1803",252]
["value1804",70]
["value1805",637]
["value1806",81]
["value1807",676]
["value1808",777]
["value1809",784]
["value1810",831]
["value1811",276]
["value1812",821]
["value1813",220]
["value1814",190]
["value1815",376]
["value1816",458]
["value1817",932]
["value1818",15]
["value1819",298]
["value1820",932]
["value1821",725]
["value1822",323]
["value1823",522]
["value1824",124]
["value1825",327]
["value1826",423]
["value1827",747]
["value1828",842]
["value1829",855]
["value1830",778]
["value1831",909]
["value1832",330]
["value1833",797]
["value1834",788]
["value1835",38]
["value1836",194]
["value1837",738]
["value1838",794]
["value1839",593]
["value1840",446]
["value1841",933]
["value1842",365]
["value1843",51]
["value1844",604]
["value1845",913]
["value1846",130]
["value1847",392]
["value1848",830]
["value1849",447]
["value1850",251]
["value1851",964]
["value1852",454]
["value1853",313]
["value1854",69]
["value1855",83]
["value1856",164]
["value1857",620]
["value1858",699]
["value1859",779]
["value1860",897]
["value1861",709]
["value1862",638]
["value1863",23]
["value1864",359]
["value1865",653]
["value1866",924]
["value1867",855]
["value1868",686]
["value1869",310]
["value1870",126]
["value1871",459]
["value1872",504]
["value1873",494]
["value1874",737]
["value1875",843]
["value1876",963]
["value1877",771]
["value1878",450]
["value1879",39]
["value1880",42]
["value1881",791]
["value1882",267]
["value1883",746]
["value1884",403]
["value1885",104]
["value1886",49]
["value1887",781]
["value1888",46]
["value1889",194]
["value1890",980]
["value1891",14]
["value1892",878]
["value1893",723]
["value1894",31]
["value1895",227]
["value1896",505]
["value1897",131]
["value1898",526]
["value1899",601]
["value1900",505]
["value1901",927]
["value1902",343]
["value1903",132]
["value1904",181]
["value1905",458]
["value1906",548]
["value1907",73]
["value1908",333]
["value1909",507]
["value1910",656]
["value1911",615]
["value1912",490]
["value1913",66]
["value1914",805]
["value1915",630]
["value1916",172]
["value1917",9]
["value1918",319]
["value1919",176]
["value1920",923]
["value1921",978]
["value1922",228]
["value1923",615]
["value1924",846]
["value1925",839]
["value1926",809]
["value1927",431]
["value1928",526]
["value1929",160]
["value1930",740]
["value1931",10]
["value1932",845]
["value1933",947]
["value1934",218]
["value1935",826]
["value1936",428]
["value1937",18]
["value1938",566]
["value1939",949]
["value1940",994]
["value1941",818]
["value1942",941]
["value1943",554]
["value1944",733]
["value1945",676]
["value1946",278]
["value1947",20]
["value1948",139]
["value1949",719]
["value1950",448]
["value1951",522]
["value1952",762]
["value1953",226]
["value1954",416]
["value1955",503]
["value1956",396]
["value1957",695]
["value1958",253]
["value1959",19]
["value1960",305]
["value1961",289]
["value1962",583]
["value1963",649]
["value1964",864]
["value1965",998]
["value1966",313]
["value1967",578]
["value1968",758]
["value1969",48]
["value1970",870]
["value1971",225]
["value1972",813]
["value1973",152]
["value1974",614]
["value1975",937]
["value1976",42]
["value1977",511]
["value1978",487]
["value1979",915]
["value1980",855]
["value1981",735]
["value1982",301]
["value1983",185]
["value1984",461]
["value1985",713]
["value1986",620]
["value1987",319]
["value1988",526]
["value1989",307]
["value1990",258]
["value1991",871]
["value1992",508]
["value1993",907]
["value1994",754]
["value1995",229]
["value1996",946]
["value1997",109]
["value1998",412]
["value1999",338]
["value2000",38]
["value2001",270]
["value2002",932]
["value2003",405]
["value2004",48]
["value2005",562]
["value2006",331]
["value2007",888]
["value2008",446]
["value2009",687]
["value2010",305]
["value2011",323]
["value2012",615]
["value2013",715]
["value2014",300]
["value2015",629]
["value2016",859]
["value2017",916]
["value2018",380]
["value2019",317]
["value2020",228]
["value2021",874]
["value2022",596]
["value2023",905]
["value2024",8]
["value2025",833]
["value2026",66]
["value2027",428]
["value2028",471]
["value2029",952]
["value2030",776]
["value2031",783]
["value2032",868]
["value2033",228]
["value2034",95]
["value2035",596]
["value2036",32]
["value2037",949]
["value2038",610]
["value2039",672]
["value2040",537]
["value2041",920]
["value2042",587]
["value2043",360]
["value2044",191]
["value2045",830]
["value2046",277]
["value2047",338]
["value2048",258]
["value2049",844]
["value2050",703]
["value2051",833]
["value2052",136]
["value2053",825]
["value2054",553]
["value2055",274]
["value2056",596]
["value2057",349]
["value2058",406]
["value2059",594]
["value2060",908]
["value2061",850]
["value2062",161]
["value2063",334]
["value2064",575]
["value2065",962]
["value2066",354]
["value2067",859]
["value2068",61]
["value2069",157]
["value2070",581]
["value2071",197]
["value2072",611]
["value2073",212]
["value2074",125]
["value2075",221]
["value2076",627]
["value2077",69]
["value2078",817]
["value2079",551]
["value2080",976]
["value2081",301]
["value2082",598]
["value2083",69]
["value2084",932]
["value2085",436]
["value2086",518]
["value2087",111]
["value2088",177]
["value2089",991]
["value2090",438]
["value2091",579]
["value2092",67]
["value2093",214]
["value2094",629]
["value2095",560]
["value2096",884]
["value2097",308]
["value2098",903]
["value2099",938]
["value2100",279]
["value2101",952]
["value2102",724]
["value2103",617]
["value2104",469]
["value2105",561]
["value2106",338]
["value2107",97]
["value2108",380]
["value2109",894]
["value2110",752]
["value2111",765]
["value2112",367]
["value2113",612]
["value2114",772]
["value2115",464]
["value2116",779]
["value2117",5]
["value2118",280]
["value2119",211]
["value2120",826]
["value2121",170]
["value2122",595]
["value2123",967]
["value2124",229]
["value2125",716]
["value2126",240]
["value2127",489]
["value2128",785]
["value2129",629]
["value2130",690]
["value2131",294]
["value2132",189]
["value2133",903]
["value2134",534]
["value2135",474]
["value2136",579]
["value2137",218]
["value2138",42]
["value2139",84]
["value2140",983]
["value2141",341]
["value2142",686]
["value2143",910]
["value2144",370]
["value2145",629]
["value2146",110]
["value2147",940]
["value2148",369]
["value2149",167]
["value2150",583]
["value2151",933]
["value2152",34]
["value2153",103]
["value2154",754]
["value2155",407]
["value2156",288]
["value2157",748]
["value2158",737]
["value2159",358]
["value2160",167]
["value2161",848]
["value2162",105]
["value2163",721]
["value2164",388]
["value2165",799]
["value2166",534]
["value2167",319]
["value2168",432]
["value2169",740]
["value2170",501]
["value2171",803]
["value2172",523]
["value2173",373]
["value2174",28]
["value2175",209]
["value2176",901]
["value2177",823]
["value2178",172]
["value2179",127]
["value2180",918]
["value2181",43]
["value2182",512]
["value2183",185]
["value2184",329]
["value2185",625]
["value2186",650]
["value2187",676]
["value2188",690]
["value2189",230]
["value2190",34]
["value2191",414]
["value2192",669]
["value2193",655]
["value2194",868]
["value2195",85]
["value2196",10]
["value2197",590]
["value2198",39]
["value2199",615]
["value2200",106]
["value2201",153]
["value2202",994]
["value2203",513]
["value2204",578]
["value2205",197]
["value2206",642]
["value2207",839]
["value2208",686]
["value2209",569]
["value2210",886]
["value2211",625]
["value2212",861]
["value2213",776]
["value2214",213]
["value2215",934]
["value2216",133]
["value2217",37]
["value2218",984]
["value2219",751]
["value2220",1000]
["value2221",437]
["value2222",29]
["value2223",611]
["value2224",472]
["value2225",720]
["value2226",198]
["value2227",817]
["value2228",669]
["value2229",295]
["value2230",687]
["value2231",732]
["value2232",889]
["value2233",595]
["value2234",685]
["value2235",478]
["value2236",305]
["value2237",625]
["value2238",389]
["value2239",579]
["value2240",859]
["value2241",48]
["value2242",955]
["value2243",66]
["value2244",374]
["value2245",139]
["value2246",106]
["value2247",507]
["value2248",881]
["value2249",94]
["value2250",858]
["value2251",588]
["value2252",455]
["value2253",25]
["value2254",218]
["value2255",781]
["value2256",416]
["value2257",916]
["value2258",885]
["value2259",377]
["value2260",663]
["value2261",381]
["value2262",194]
["value2263",36]
["value2264",930]
["value2265",136]
["value2266",58]
["value2267",569]
["value2268",147]
["value2269",281]
["value2270",21]
["value2271",790]
["value2272",989]
["value2273",485]
["value2274",250]
["value2275",891]
["value2276",73]
["value2277",293]
["value2278",740]
["value2279",235]
["value2280",869]
["value2281",169]
["value2282",80]
["value2283",983]
["value2284",14]
["value2285",89]
["value2286",619]
["value2287",801]
["value2288",746]
["value2289",341]
["value2290",420]
["value2291",382]
["value2292",965]
["value2293",96]
["value2294",485]
["value2295",778]
["value2296",0]
["value2297",176]
["value2298",786]
["value2299",282]
["value2300",478]
["value2301",882]
["value2302",778]
["value2303",937]
["value2304",272]
["value2305",584]
["value2306",531]
["value2307",110]
["value2308",933]
["value2309",525]
["value2310",735]
["value2311",711]
["value2312",148]
["value2313",861]
["value2314",164]
["value2315",926]
["value2316",99]
["value2317",548]
["value2318",668]
["value2319",242]
["value2320",87]
["value2321",317]
["value2322",297]
["value2323",271]
["value2324",801]
["value2325",769]
["value2326",34]
["value2327",831]
["value2328",44]
["value2329",104]
["value2330",587]
["value2331",553]
["value2332",309]
["value2333",554]
["value2334",811]
["value2335",255]
["value2336",249]
["value2337",692]
["value2338",228]
["value2339",266]
["value2340",909]
["value2341",698]
["value2342",204]
["value2343",989]
["value2344",479]
["value2345",180]
["value2346",386]
["value2347",249]
["value2348",469]
["value2349",184]
["value2350",97]
["value2351",344]
["value2352",230]
["value2353",6]
["value2354",491]
["value2355",282]
["value2356",115]
["value2357",923]
["value2358",180]
["value2359",720]
["value2360",462]
["value2361",590]
["value2362",305]
["value2363",851]
["value2364",691]
["value2365",926]
["value2366",803]
["value2367",204]
["value2368",654]
["value2369",30]
["value2370",927]
["value2371",905]
["value2372",886]
["value2373",686]
["value2374",745]
["value2375",385]
["value2376",214]
["value2377",255]
["value2378",440]
["value2379",503]
["value2380",660]
["value2381",547]
["value2382",73]
["value2383",22]
["value2384",265]
["value2385",617]
["value2386",564]
["value2387",766]
["value2388",648]
["value2389",966]
["value2390",60]
["value2391",625]
["value2392",654]
["value2393",844]
["value2394",710]
["value2395",783]
["value2396",731]
["value2397",427]
["value2398",775]
["value2399",294]
["value2400",733]
["value2401",116]
["value2402",411]
["value2403",729]
["value2404",886]
["value2405",424]
["value2406",673]
["value2407",762]
["value2408",183]
["value2409",164]
["value2410",49]
["value2411",53]
["value2412",576]
["value2413",831]
["value2414",199]
["value2415",558]
["value2416",502]
["value2417",309]
["value2418",919]
["value2419",772]
["value2420",406]
["value2421",188]
["value2422",920]
["value2423",746]
["value2424",388]
["value2425",631]
["value2426",853]
["value2427",788]
["value2428",308]
["value2429",663]
["value2430",630]
["value2431",446]
["value2432",234]
["value2433",675]
["value2434",715]
["value2435",925]
["value2436",570]
["value2437",799]
["value2438",289]
["value2439",888]
["value2440",121]
["value2441",274]
["value2442",351]
["value2443",709]
["value2444",341]
["value2445",106]
["value2446",794]
["value2447",305]
["value2448",25]
["value2449",571]
["value2450",444]
["value2451",332]
["value2452",520]
["value2453",340]
["value2454",573]
["value2455",639]
["value2456",560]
["value2457",499]
["value2458",330]
["value2459",180]
["value2460",573]
["value2461",487]
["value2462",651]
["value2463",980]
["value2464",724]
["value2465",134]
["value2466",130]
["value2467",110]
["value2468",874]
["value2469",280]
["value2470",582]
["value2471",596]
["value2472",486]
["value2473",470]
["value2474",905]
["value2475",879]
["value2476",500]
["value2477",564]
["value2478",737]
["value2479",702]
["value2480",722]
["value2481",103]
["value2482",973]
["value2483",838]
["value2484",520]
["value2485",898]
["value2486",443]
["value2487",783]
["value2488",317]
["value2489",322]
["value2490",869]
["value2491",508]
["value2492",810]
["value2493",625]
["value2494",342]
["value2495",676]
["value2496",253]
["value2497",871]
["value2498",693]
["value2499",37]
["value2500",744]
["value2501",464]
["value2502",237]
["value2503",403]
["value2504",176]
["value2505",57]
["value2506",991]
["value2507",956]
["value2508",769]
["value2509",270]
["value2510",573]
["value2511",912]
["value2512",872]
["value2513",7]
["value2514",569]
["value2515",656]
["value2516",846]
["value2517",203]
["value2518",482]
["value2519",876]
["value2520",598]
["value2521",463]
["value2522",995]
["value2523",195]
["value2524",657]
["value2525",620]
["value2526",32]
["value2527",44]
["value2528",959]
["value2529",368]
["value2530",683]
["value2531",724]
["value2532",410]
["value2533",817]
["value2534",242]
["value2535",631]
["value2536",355]
["value2537",387]
["value2538",744]
["value2539",298]
["value2540",726]
["value2541",119]
["value2542",301]
["value2543",17]
["value2544",907]
["value2545",98]
["value2546",484]
["value2547",60]
["value2548",823]
["value2549",496]
["value2550",206]
["value2551",441]
["value2552",725]
["value2553",760]
["value2554",945]
["value2555",531]
["value2556",342]
["value2557",907]
["value2558",470]
["value2559",25]
["value2560",657]
["value2561",985]
["value2562",738]
["value2563",579]
["value2564",362]
["value2565",516]
["value2566",1000]
["value2567",216]
["value2568",871]
["value2569",244]
["value2570",987]
["value2571",20]
["value2572",86]
["value2573",148]
["value2574",941]
["value2575",462]
["value2576",782]
["value2577",684]
["value2578",108]
["value2579",758]
["value2580",732]
["value2581",152]
["value2582",219]
["value2583",38]
["value2584",884]
["value2585",647]
["value2586",787]
["value2587",828]
["value2588",190]
["value2589",328]
["value2590",364]
["value2591",435]
["value2592",496]
["value2593",279]
["value2594",52]
["value2595",759]
["value2596",618]
["value2597",736]
["value2598",824]
["value2599",132]
["value2600",1]
["value2601",974]
["value2602",386]
["value2603",584]
["value2604",583]
["value2605",555]
["value2606",949]
["value2607",49]
["value2608",306]
["value2609",779]
["value2610",131]
["value2611",255]
["value2612",832]
["value2613",259]
["value2614",468]
["value2615",103]
["value2616",115]
["value2617",147]
["value2618",354]
["value2619",642]
["value2620",958]
["value2621",892]
["value2622",353]
["value2623",707]
["value2624",714]
["value2625",879]
["value2626",688]
["value2627",389]
["value2628",141]
["value2629",578]
["value2630",96]
["value2631",182]
["value2632",533]
["value2633",535]
["value2634",202]
["value2635",795]
["value2636",312]
["value2637",698]
["value2638",559]
["value2639",111]
["value2640",753]
["value2641",546]
["value2642",604]
["value2643",559]
["value2644",200]
["value2645",632]
["value2646",382]
["value2647",391]
["value2648",253]
["value2649",246]
["value2650",114]
["value2651",28]
["value2652",900]
["value2653",597]
["value2654",511]
["value2655",978]
["value2656",994]
["value2657",475]
["value2658",417]
["value2659",563]
["value2660",473]
["value2661",261]
["value2662",555]
["value2663",649]
["value2664",374]
["value2665",152]
["value2666",736]
["value2667",538]
["value2668",368]
["value2669",749]
["value2670",406]
["value2671",669]
["value2672",180]
["value2673",77]
["value2674",58]
["value2675",630]
["value2676",570]
["value2677",325]
["value2678",852]
["value2679",279]
["value2680",526]
["value2681",784]
["value2682",376]
["value2683",912]
["value2684",725]
["value2685",272]
["value2686",446]
["value2687",537]
["value2688",927]
["value2689",799]
["value2690",430]
["value2691",586]
["value2692",497]
["value2693",555]
["value2694",959]
["value2695",610]
["value2696",296]
["value2697",48]
["value2698",111]
["value2699",612]
["value2700",337]
["value2701",702]
["value2702",12]
["value2703",289]
["value2704",151]
["value2705",241]
["value2706",279]
["value2707",917]
["value2708",155]
["value2709",500]
["value2710",326]
["value2711",784]
["value2712",616]
["value2713",197]
["value2714",834]
["value2715",164]
["value2716",989]
["value2717",523]
["value2718",461]
["value2719",621]
["value2720",496]
["value2721",455]
["value2722",107]
["value2723",654]
["value2724",357]
["value2725",77]
["value2726",516]
["value2727",898]
["value2728",458]
["value2729",115]
["value2730",567]
["value2731",467]
["value2732",689]
["value2733",793]
["value2734",771]
["value2735",759]
["value2736",358]
["value2737",2]
["value2738",107]
["value2739",464]
["value2740",607]
["value2741",12]
["value2742",218]
["value2743",998]
["value2744",104]
["value2745",244]
["value2746",617]
["value2747",665]
["value2748",148]
["value2749",549]
["value2750",749]
["value2751",654]
["value2752",470]
["value2753",753]
["value2754",54]
["value2755",348]
["value2756",410]
["value2757",398]
["value2758",738]
["value2759",709]
["value2760",427]
["value2761",837]
["value2762",879]
["value2763",478]
["value2764",368]
["value2765",664]
["value2766",991]
["value2767",276]
["value2768",117]
["value2769",288]
["value2770",320]
["value2771",441]
["value2772",6]
["value2773",806]
["value2774",619]
["value2775",773]
["value2776",140]
["value2777",125]
["value2778",287]
["value2779",151]
["value2780",273]
["value2781",704]
["value2782",854]
["value2783",19]
["value2784",953]
["value2785",61]
["value2786",872]
["value2787",685]
["value2788",607]
["value2789",364]
["value2790",915]
["value2791",268]
["value2792",83]
["value2793",24]
["value2794",927]
["value2795",311]
["value2796",708]
["value2797",810]
["value2798",244]
["value2799",77]
["value2800",892]
["value2801",541]
["value2802",233]
["value2803",286]
["value2804",96]
["value2805",844]
["value2806",73]
["value2807",171]
["value2808",795]
["value2809",660]
["value2810",316]
["value2811",981]
["value2812",158]
["value2813",766]
["value2814",355]
["value2815",101]
["value2816",14]
["value2817",217]
["value2818",174]
["value2819",365]
["value2820",317]
["value2821",143]
["value2822",897]
["value2823",109]
["value2824",52]
["value2825",328]
["value2826",119]
["value2827",58]
["value2828",102]
["value2829",209]
["value2830",824]
["value2831",275]
["value2832",151]
["value2833",30]
["value2834",694]
["value2835",634]
["value2836",945]
["value2837",684]
["value2838",781]
["value2839",845]
["value2840",809]
["value2841",359]
["value2842",403]
["value2843",289]
["value2844",220]
["value2845",731]
["value2846",874]
["value2847",555]
["value2848",999]
["value2849",293]
["value2850",736]
["value2851",64]
["value2852",442]
["value2853",908]
["value2854",618]
["value2855",829]
["value2856",173]
["value2857",755]
["value2858",641]
["value2859",679]
["value2860",273]
["value2861",697]
["value2862",584]
["value2863",27]
["value2864",712]
["value2865",238]
["value2866",526]
["value2867",950]
["value2868",530]
["value2869",685]
["value2870",810]
["value2871",958]
["value2872",942]
["value2873",441]
["value2874",784]
["value2875",864]
["value2876",11]
["value2877",245]
["value2878",784]
["value2879",583]
["value2880",190]
["value2881",87]
["value2882",427]
["value2883",461]
["value2884",198]
["value2885",261]
["value2886",626]
["value2887",876]
["value2888",934]
["value2889",102]
["value2890",793]
["value2891",986]
["value2892",830]
["value2893",117]
["value2894",652]
["value2895",90]
["value2896",337]
["value2897",579]
["value2898",390]
["value2899",170]
["value2900",259]
["value2901",706]
["value2902",115]
["value2903",342]
["value2904",187]
["value2905",864]
["value2906",889]
["value2907",966]
["value2908",842]
["value2909",246]
["value2910",649]
["value2911",419]
["value2912",611]
["value2913",339]
["value2914",639]
["value2915",855]
["value2916",639]
["value2917",823]
["value2918",602]
["value2919",122]
["value2920",647]
["value2921",957]
["value2922",583]
["value2923",71]
["value2924",364]
["value2925",472]
["value2926",450]
["value2927",140]
["value2928",614]
["value2929",668]
["value2930",787]
["value2931",941]
["value2932",875]
["value2933",980]
["value2934",450]
["value2935",576]
["value2936",86]
["value2937",939]
["value2938",611]
["value2939",868]
["value2940",175]
["value2941",528]
["value2942",249]
["value2943",787]
["value2944",852]
["value2945",664]
["value2946",86]
["value2947",832]
["value2948",959]
["value2949",75]
["value2950",448]
["value2951",608]
["value2952",171]
["value2953",500]
["value2954",149]
["value2955",51]
["value2956",889]
["value2957",828]
["value2958",135]
["value2959",867]
["value2960",40]
["value2961",313]
["value2962",969]
["value2963",76]
["value2964",272]
["value2965",111]
["value2966",598]
["value2967",451]
["value2968",574]
["value2969",127]
["value2970",496]
["value2971",287]
["value2972",325]
["value2973",602]
["value2974",901]
["value2975",574]
["value2976",364]
["value2977",174]
["value2978",123]
["value2979",500]
["value2980",696]
["value2981",338]
["value2982",721]
["value2983",786]
["value2984",133]
["value2985",242]
["value2986",28]
["value2987",432]
["value2988",612]
["value2989",958]
["value2990",600]
["value2991",14]
["value2992",336]
["value2993",787]
["value2994",122]
["value2995",676]
["value2996",528]
["value2997",897]
["value2998",732]
["value2999",490]
["value3000",385]
["value3001",176]
["value3002",867]
["value3003",672]
["value3004",671]
["value3005",198]
["value3006",282]
["value3007",533]
["value3008",627]
["value3009",234]
["value3010",70]
["value3011",599]
["value3012",839]
["value3013",373]
["value3014",157]
["value3015",843]
["value3016",21]
["value3017",402]
["value3018",243]
["value3019",639]
["value3020",345]
["value3021",425]
["value3022",4]
["value3023",184]
["value3024",209]
["value3025",676]
["value3026",858]
["value3027",693]
["value3028",12]
["value3029",844]
["value3030",748]
["value3031",58]
["value3032",207]
["value3033",404]
["value3034",469]
["value3035",757]
["value3036",249]
["value3037",351]
["value3038",973]
["value3039",744]
["value3040",487]
["value3041",570]
["value3042",30]
["value3043",65]
["value3044",30]
["value3045",590]
["value3046",170]
["value3047",315]
["value3048",758]
["value3049",306]
["value3050",961]
["value3051",387]
["value3052",147]
["value3053",738]
["value3054",459]
["value3055",939]
["value3056",373]
["value3057",403]
["value3058",388]
["value3059",256]
["value3060",99]
["value3061",591]
["value3062",136]
["value3063",800]
["value3064",338]
["value3065",446]
["value3066",440]
["value3067",278]
["value3068",805]
["value3069",725]
["value3070",611]
["value3071",988]
["value3072",313]
["value3073",220]
["value3074",492]
["value3075",443]
["value3076",230]
["value3077",330]
["value3078",64]
["value3079",306]
["value3080",555]
["value3081",772]
["value3082",674]
["value3083",405]
["value3084",796]
["value3085",514]
["value3086",163]
["value3087",242]
["value3088",826]
["value3089",260]
["value3090",205]
["value3091",744]
["value3092",806]
["value3093",114]
["value3094",992]
["value3095",99]
["value3096",857]
["value3097",697]
["value3098",667]
["value3099",601]
["value3100",433]
["value3101",128]
["value3102",682]
["value3103",476]
["value3104",92]
["value3105",374]
["value3106",477]
["value3107",90]
["value3108",603]
["value3109",976]
["value3110",24]
["value3111",218]
["value3112",609]
["value3113",394]
["value3114",55]
["value3115",730]
["value3116",888]
["value3117",977]
["value3118",483]
["value3119",497]
["value3120",499]
["value3121",141]
["value3122",916]
["value3123",73]
["value3124",660]
["value3125",185]
["value3126",345]
["value3127",994]
["value3128",241]
["value3129",335]
["value3130",948]
["value3131",781]
["value3132",285]
["value3133",24]
["value3134",778]
["value3135",490]
["value3136",506]
["value3137",133]
["value3138",87]
["value3139",810]
["value3140",866]
["value3141",901]
["value3142",837]
["value3143",89]
["value3144",745]
["value3145",179]
["value3146",869]
["value3147",421]
["value3148",245]
["value3149",862]
["value3150",315]
["value3151",108]
["value3152",86]
["value3153",755]
["value3154",607]
["value3155",494]
["value3156",663]
["value3157",69]
["value3158",861]
["value3159",290]
["value3160",499]
["value3161",396]
["value3162",35]
["value3163",733]
["value3164",644]
["value3165",166]
["value3166",378]
["value3167",524]
["value3168",786]
["value3169",563]
["value3170",782]
["value3171",495]
["value3172",885]
["value3173",144]
["value3174",373]
["value3175",342]
["value3176",932]
["value3177",833]
["value3178",651]
["value3179",368]
["value3180",304]
["value3181",131]
["value3182",59]
["value3183",20]
["value3184",810]
["value3185",678]
["value3186",57]
["value3187",533]
["value3188",38]
["value3189",599]
["value3190",181]
["value3191",202]
["value3192",181]
["value3193",792]
["value3194",564]
["value3195",646]
["value3196",710]
["value3197",294]
["value3198",226]
["value3199",861]
["value3200",530]
["value3201",448]
["value3202",728]
["value3203",875]
["value3204",306]
["value3205",930]
["value3206",799]
["value3207",841]
["value3208",206]
["value3209",700]
["value3210",641]
["value3211",181]
["value3212",469]
["value3213",885]
["value3214",859]
["value3215",888]
["value3216",310]
["value3217",66]
["value3218",547]
["value3219",244]
["value3220",775]
["value3221",70]
["value3222",285]
["value3223",527]
["value3224",867]
["value3225",982]
["value3226",728]
["value3227",284]
["value3228",912]
["value3229",363]
["value3230",224]
["value3231",570]
["value3232",224]
["value3233",858]
["value3234",897]
["value3235",39]
["value3236",330]
["value3237",449]
["value3238",534]
["value3239",657]
["value3240",405]
["value3241",675]
["value3242",991]
["value3243",151]
["value3244",908]
["value3245",733]
["value3246",60]
["value3247",203]
["value3248",193]
["value3249",796]
["value3250",203]
["value3251",84]
["value3252",798]
["value3253",847]
["value3254",610]
["value3255",954]
["value3256",57]
["value3257",233]
["value3258",125]
["value3259",726]
["value3260",672]
["value3261",444]
["value3262",967]
["value3263",885]
["value3264",38]
["value3265",791]
["value3266",673]
["value3267",295]
["value3268",121]
["value3269",259]
["value3270",506]
["value3271",443]
["value3272",587]
["value3273",684]
["value3274",306]
["value3275",552]
["value3276",696]
["value3277",651]
["value3278",967]
["value3279",858]
["value3280",416]
["value3281",409]
["value3282",340]
["value3283",408]
["value3284",967]
["value3285",788]
["value3286",856]
["value3287",293]
["value3288",231]
["value3289",362]
["value3290",471]
["value3291",500]
["value3292",273]
["value3293",172]
["value3294",572]
["value3295",471]
["value3296",931]
["value3297",221]
["value3298",596]
["value3299",429]
["value3300",939]
["value3301",247]
["value3302",922]
["value3303",101]
["value3304",776]
["value3305",515]
["value3306",684]
["value3307",125]
["value3308",13]
["value3309",520]
["value3310",193]
["value3311",720]
["value3312",970]
["value3313",633]
["value3314",782]
["value3315",56]
["value3316",458]
["value3317",635]
["value3318",743]
["value3319",323]
["value3320",886]
["value3321",756]
["value3322",166]
["value3323",322]
["value3324",736]
["value3325",143]
["value3326",647]
["value3327",906]
["value3328",848]
["value3329",4]
["value3330",909]
["value3331",464]
["value3332",125]
["value3333",540]
["value3334",632]
["value3335",817]
["value3336",256]
["value3337",294]
["value3338",690]
["value3339",65]
["value3340",672]
["value3341",76]
["value3342",487]
["value3343",973]
["value3344",114]
["value3345",305]
["value3346",227]
["value3347",630]
["value3348",816]
["value3349",118]
["value3350",665]
["value3351",389]
["value3352",631]
["value3353",706]
["value3354",740]
["value3355",131]
["value3356",320]
["value3357",250]
["value3358",887]
["value3359",478]
["value3360",718]
["value3361",552]
["value3362",270]
["value3363",642]
["value3364",258]
["value3365",837]
["value3366",888]
["value3367",86]
["value3368",823]
["value3369",416]
["value3370",876]
["value3371",994]
["value3372",22]
["value3373",906]
["value3374",105]
["value3375",787]
["value3376",857]
["value3377",956]
["value3378",759]
["value3379",156]
["value3380",493]
["value3381",469]
["value3382",345]
["value3383",880]
["value3384",332]
["value3385",444]
["value3386",654]
["value3387",809]
["value3388",251]
["value3389",426]
["value3390",854]
["value3391",580]
["value3392",142]
["value3393",27]
["value3394",891]
["value3395",190]
["value3396",577]
["value3397",971]
["value3398",156]
["value3399",889]
["value3400",203]
["value3401",429]
["value3402",938]
["value3403",263]
["value3404",481]
["value3405",557]
["value3406",549]
["value3407",322]
["value3408",979]
["value3409",850]
["value3410",85]
["value3411",357]
["value3412",697]
["value3413",658]
["value3414",794]
["value3415",631]
["value3416",747]
["value3417",527]
["value3418",783]
["value3419",879]
["value3420",338]
["value3421",948]
["value3422",85]
["value3423",999]
["value3424",264]
["value3425",1]
["value3426",176]
["value3427",216]
["value3428",322]
["value3429",78]
["value3430",605]
["value3431",720]
["value3432",681]
["value3433",718]
["value3434",922]
["value3435",544]
["value3436",634]
["value3437",734]
["value3438",859]
["value3439",857]
["value3440",573]
["value3441",903]
["value3442",550]
["value3443",260]
["value3444",703]
["value3445",767]
["value3446",805]
["value3447",397]
["value3448",607]
["value3449",450]
["value3450",398]
["value3451",600]
["value3452",657]
["value3453",596]
["value3454",721]
["value3455",298]
["value3456",789]
["value3457",873]
["value3458",118]
["value3459",399]
["value3460",120]
["value3461",448]
["value3462",45]
["value3463",835]
["value3464",611]
["value3465",571]
["value3466",345]
["value3467",301]
["value3468",125]
["value3469",572]
["value3470",673]
["value3471",889]
["value3472",102]
["value3473",892]
["value3474",711]
["value3475",944]
["value3476",882]
["value3477",609]
["value3478",577]
["value3479",660]
["value3480",835]
["value3481",73]
["value3482",915]
["value3483",917]
["value3484",387]
["value3485",96]
["value3486",447]
["value3487",466]
["value3488",233]
["value3489",710]
["value3490",593]
["value3491",553]
["value3492",280]
["value3493",392]
["value3494",146]
["value3495",800]
["value3496",791]
["value3497",863]
["value3498",685]
["value3499",173]
["value3500",208]
["value3501",59]
["value3502",671]
["value3503",442]
["value3504",580]
["value3505",468]
["value3506",54]
["value3507",977]
["value3508",262]
["value3509",528]
["value3510",996]
["value3511",855]
["value3512",961]
["value3513",585]
["value3514",428]
["value3515",905]
["value3516",173]
["value3517",182]
["value3518",186]
["value3519",375]
["value3520",9]
["value3521",738]
["value3522",24]
["value3523",808]
["value3524",495]
["value3525",151]
["value3526",411]
["value3527",434]
["value3528",469]
["value3529",85]
["value3530",60]
["value3531",564]
["value3532",335]
["value3533",646]
["value3534",244]
["value3535",456]
["value3536",797]
["value3537",911]
["value3538",762]
["value3539",535]
["value3540",971]
["value3541",877]
["value3542",977]
["value3543",177]
["value3544",971]
["value3545",369]
["value3546",531]
["value3547",47]
["value3548",11]
["value3549",489]
["value3550",547]
["value3551",805]
["value3552",957]
["value3553",155]
["value3554",401]
["value3555",232]
["value3556",716]
["value3557",627]
["value3558",967]
["value3559",748]
["value3560",961]
["value3561",574]
["value3562",879]
["value3563",865]
["value3564",551]
["value3565",751]
["value3566",695]
["value3567",903]
["value3568",159]
["value3569",43]
["value3570",505]
["value3571",759]
["value3572",265]
["value3573",233]
["value3574",641]
["value3575",772]
["value3576",713]
["value3577",218]
["value3578",368]
["value3579",199]
["value3580",277]
["value3581",250]
["value3582",816]
["value3583",595]
["value3584",975]
["value3585",378]
["value3586",921]
["value3587",788]
["value3588",217]
["value3589",281]
["value3590",891]
["value3591",929]
["value3592",801]
["value3593",321]
["value3594",579]
["value3595",110]
["value3596",923]
["value3597",504]
["value3598",207]
["value3599",602]
["value3600",464]
["value3601",740]
["value3602",537]
["value3603",351]
["value3604",451]
["value3605",326]
["value3606",17]
["value3607",254]
["value3608",162]
["value3609",468]
["value3610",453]
["value3611",735]
["value3612",669]
["value3613",482]
["value3614",230]
["value3615",976]
["value3616",389]
["value3617",467]
["value3618",768]
["value3619",299]
["value3620",674]
["value3621",928]
["value3622",544]
["value3623",367]
["value3624",969]
["value3625",822]
["value3626",976]
["value3627",343]
["value3628",797]
["value3629",274]
["value3630",950]
["value3631",153]
["value3632",851]
["value3633",652]
["value3634",227]
["value3635",962]
["value3636",346]
["value3637",952]
["value3638",749]
["value3639",293]
["value3640",450]
["value3641",965]
["value3642",423]
["value3643",970]
["value3644",522]
["value3645",771]
["value3646",895]
["value3647",55]
["value3648",769]
["value3649",144]
["value3650",404]
["value3651",209]
["value3652",457]
["value3653",434]
["value3654",418]
["value3655",408]
["value3656",422]
["value3657",37]
["value3658",131]
["value3659",121]
["value3660",62]
["value3661",895]
["value3662",306]
["value3663",967]
["value3664",631]
["value3665",633]
["value3666",63]
["value3667",8]
["value3668",997]
["value3669",824]
["value3670",368]
["value3671",580]
["value3672",151]
["value3673",891]
["value3674",862]
["value3675",720]
["value3676",445]
["value3677",830]
["value3678",271]
["value3679",447]
["value3680",220]
["value3681",964]
["value3682",560]
["value3683",131]
["value3684",340]
["value3685",715]
["value3686",938]
["value3687",78]
["value3688",309]
["value3689",834]
["value3690",325]
["value3691",806]
["value3692",696]
["value3693",429]
["value3694",783]
["value3695",111]
["value3696",593]
["value3697",696]
["value3698",9]
["value3699",194]
["value3700",687]
["value3701",535]
["value3702",716]
["value3703",384]
["value3704",109]
["value3705",500]
["value3706",761]
["value3707",804]
["value3708",847]
["value3709",74]
["value3710",623]
["value3711",316]
["value3712",604]
["value3713",828]
["value3714",853]
["value3715",660]
["value3716",446]
["value3717",481]
["value3718",58]
["value3719",634]
["value3720",252]
["value3721",607]
["value3722",269]
["value3723",210]
["value3724",987]
["value3725",401]
["value3726",883]
["value3727",635]
["value3728",245]
["value3729",257]
["value3730",535]
["value3731",925]
["value3732",829]
["value3733",455]
["value3734",779]
["value3735",671]
["value3736",390]
["value3737",179]
["value3738",52]
["value3739",28]
["value3740",46]
["value3741",98]
["value3742",519]
["value3743",729]
["value3744",976]
["value3745",133]
["value3746",102]
["value3747",211]
["value3748",950]
["value3749",507]
["value3750",843]
["value3751",362]
["value3752",890]
["value3753",71]
["value3754",711]
["value3755",848]
["value3756",488]
["value3757",424]
["value3758",590]
["value3759",680]
["value3760",957]
["value3761",507]
["value3762",693]
["value3763",47]
["value3764",427]
["value3765",246]
["value3766",590]
["value3767",572]
["value3768",135]
["value3769",444]
["value3770",500]
["value3771",726]
["value3772",881]
["value3773",244]
["value3774",308]
["value3775",575]
["value3776",139]
["value3777",553]
["value3778",329]
["value3779",893]
["value3780",540]
["value3781",830]
["value3782",783]
["value3783",120]
["value3784",379]
["value3785",488]
["value3786",110]
["value3787",509]
["value3788",436]
["value3789",940]
["value3790",838]
["value3791",876]
["value3792",352]
["value3793",625]
["value3794",71]
["value3795",568]
["value3796",665]
["value3797",46]
["value3798",474]
["value3799",190]
["value3800",481]
["value3801",272]
["value3802",917]
["value3803",186]
["value3804",90]
["value3805",692]
["value3806",70]
["value3807",176]
["value3808",678]
["value3809",906]
["value3810",611]
["value3811",459]
["value3812",476]
["value3813",1000]
["value3814",58]
["value3815",38]
["value3816",324]
["value3817",651]
["value3818",530]
["value3819",174]
["value3820",546]
["value3821",186]
["value3822",563]
["value3823",781]
["value3824",481]
["value3825",435]
["value3826",769]
["value3827",399]
["value3828",647]
["value3829",662]
["value3830",510]
["value3831",270]
["value3832",674]
["value3833",118]
["value3834",467]
["value3835",330]
["value3836",171]
["value3837",515]
["value3838",176]
["value3839",888]
["value3840",859]
["value3841",164]
["value3842",30]
["value3843",559]
["value3844",15]
["value3845",823]
["value3846",391]
["value3847",575]
["value3848",603]
["value3849",331]
["value3850",292]
["value3851",909]
["value3852",512]
["value3853",476]
["value3854",743]
["value3855",696]
["value3856",324]
["value3857",354]
["value3858",665]
["value3859",389]
["value3860",35]
["value3861",177]
["value3862",71]
["value3863",766]
["value3864",770]
["value3865",751]
["value3866",441]
["value3867",359]
["value3868",370]
["value3869",177]
["value3870",121]
["value3871",383]
["value3872",38]
["value3873",162]
["value3874",776]
["value3875",840]
["value3876",355]
["value3877",507]
["value3878",515]
["value3879",897]
["value3880",624]
["value3881",225]
["value3882",685]
["value3883",855]
["value3884",73]
["value3885",972]
["value3886",511]
["value3887",823]
["value3888",483]
["value3889",140]
["value3890",784]
["value3891",681]
["value3892",580]
["value3893",665]
["value3894",371]
["value3895",407]
["value3896",300]
["value3897",681]
["value3898",295]
["value3899",692]
["value3900",906]
["value3901",407]
["value3902",165]
["value3903",729]
["value3904",584]
["value3905",887]
["value3906",582]
["value3907",910]
["value3908",560]
["value3909",56]
["value3910",953]
["value3911",542]
["value3912",432]
["value3913",365]
["value3914",460]
["value3915",211]
["value3916",136]
["value3917",621]
["value3918",532]
["value3919",148]
["value3920",708]
["value3921",401]
["value3922",558]
["value3923",967]
["value3924",953]
["value3925",780]
["value3926",230]
["value3927",557]
["value3928",580]
["value3929",677]
["value3930",690]
["value3931",468]
["value3932",408]
["value3933",25]
["value3934",700]
["value3935",397]
["value3936",61]
["value3937",260]
["value3938",744]
["value3939",603]
["value3940",528]
["value3941",254]
["value3942",10]
["value3943",270]
["value3944",49]
["value3945",693]
["value3946",743]
["value3947",869]
["value3948",400]
["value3949",450]
["value3950",779]
["value3951",339]
["value3952",140]
["value3953",855]
["value3954",780]
["value3955",206]
["value3956",294]
["value3957",360]
["value3958",453]
["value3959",721]
["value3960",167]
["value3961",145]
["value3962",65]
["value3963",125]
["value3964",421]
["value3965",304]
["value3966",170]
["value3967",923]
["value3968",895]
["value3969",340]
["value3970",546]
["value3971",351]
["value3972",319]
["value3973",519]
["value3974",396]
["value3975",442]
["value3976",255]
["value3977",208]
["value3978",61]
["value3979",98]
["value3980",166]
["value3981",712]
["value3982",330]
["value3983",702]
["value3984",29]
["value3985",678]
["value3986",79]
["value3987",592]
["value3988",640]
["value3989",632]
["value3990",565]
["value3991",762]
["value3992",631]
["value3993",4]
["value3994",617]
["value3995",662]
["value3996",574]
["value3997",286]
["value3998",788]
["value3999",230]
["value4000",187]
["value4001",255]
["value4002",378]
["value4003",2]
["value4004",900]
["value4005",670]
["value4006",802]
["value4007",468]
["value4008",189]
["value4009",953]
["value4010",981]
["value4011",639]
["value4012",872]
["value4013",42]
["value4014",943]
["value4015",29]
["value4016",720]
["value4017",152]
["value4018",904]
["value4019",104]
["value4020",775]
["value4021",434]
["value4022",492]
["value4023",585]
["value4024",489]
["value4025",247]
["value4026",826]
["value4027",615]
["value4028",766]
["value4029",373]
["value4030",944]
["value4031",989]
["value4032",356]
["value4033",353]
["value4034",974]
["value4035",584]
["value4036",829]
["value4037",586]
["value4038",509]
["value4039",166]
["value4040",664]
["value4041",626]
["value4042",143]
["value4043",328]
["value4044",656]
["value4045",845]
["value4046",610]
["value4047",44]
["value4048",342]
["value4049",285]
["value4050",341]
["value4051",412]
["value4052",654]
["value4053",695]
["value4054",375]
["value4055",374]
["value4056",292]
["value4057",405]
["value4058",427]
["value4059",713]
["value4060",993]
["value4061",569]
["value4062",360]
["value4063",484]
["value4064",145]
["value4065",404]
["value4066",19]
["value4067",484]
["value4068",802]
["value4069",999]
["value4070",811]
["value4071",67]
["value4072",715]
["value4073",356]
["value4074",634]
["value4075",105]
["value4076",494]
["value4077",509]
["value4078",383]
["value4079",964]
["value4080",616]
["value4081",899]
["value4082",748]
["value4083",334]
["value4084",649]
["value4085",11]
["value4086",16]
["value4087",415]
["value4088",591]
["value4089",246]
["value4090",966]
["value4091",944]
["value4092",868]
["value4093",515]
["value4094",728]
["value4095",980]
["value4096",435]
["value4097",536]
["value4098",455]
["value4099",49]
["value4100",38]
["value4101",627]
["value4102",686]
["value4103",392]
["value4104",731]
["value4105",766]
["value4106",593]
["value4107",967]
["value4108",63]
["value4109",726]
["value4110",31]
["value4111",625]
["value4112",362]
["value4113",265]
["value4114",19]
["value4115",601]
["value4116",446]
["value4117",843]
["value4118",867]
["value4119",398]
["value4120",359]
["value4121",288]
["value4122",802]
["value4123",958]
["value4124",77]
["value4125",48]
["value4126",697]
["value4127",696]
["value4128",797]
["value4129",222]
["value4130",513]
["value4131",538]
["value4132",668]
["value4133",632]
["value4134",795]
["value4135",484]
["value4136",668]
["value4137",442]
["value4138",901]
["value4139",254]
["value4140",706]
["value4141",773]
["value4142",400]
["value4143",512]
["value4144",789]
["value4145",157]
["value4146",661]
["value4147",912]
["value4148",594]
["value4149",747]
["value4150",118]
["value4151",36]
["value4152",458]
["value4153",159]
["value4154",734]
["value4155",793]
["value4156",825]
["value4157",428]
["value4158",730]
["value4159",145]
["value4160",826]
["value4161",993]
["value4162",656]
["value4163",696]
["value4164",70]
["value4165",752]
["value4166",745]
["value4167",793]
["value4168",606]
["value4169",425]
["value4170",650]
["value4171",365]
["value4172",586]
["value4173",807]
["value4174",595]
["value4175",758]
["value4176",706]
["value4177",33]
["value4178",466]
["value4179",213]
["value4180",874]
["value4181",177]
["value4182",293]
["value4183",856]
["value4184",60]
["value4185",500]
["value4186",799]
["value4187",384]
["value4188",492]
["value4189",919]
["value4190",716]
["value4191",379]
["value4192",549]
["value4193",207]
["value4194",823]
["value4195",695]
["value4196",153]
["value4197",667]
["value4198",519]
["value4199",320]
["value4200",379]
["value4201",872]
["value4202",961]
["value4203",510]
["value4204",563]
["value4205",265]
["value4206",301]
["value4207",677]
["value4208",387]
["value4209",823]
["value4210",309]
["value4211",354]
["value4212",707]
["value4213",822]
["value4214",47]
["value4215",62]
["value4216",411]
["value4217",132]
["value4218",121]
["value4219",348]
["value4220",184]
["value4221",935]
["value4222",272]
["value4223",889]
["value4224",670]
["value4225",472]
["value4226",22]
["value4227",482]
["value4228",28]
["value4229",650]
["value4230",128]
["value4231",597]
["value4232",844]
["value4233",956]
["value4234",232]
["value4235",670]
["value4236",313]
["value4237",878]
["value4238",880]
["value4239",157]
["value4240",318]
["value4241",813]
["value4242",0]
["value4243",342]
["value4244",522]
["value4245",689]
["value4246",66]
["value4247",856]
["value4248",151]
["value4249",23]
["value4250",953]
["value4251",453]
["value4252",690]
["value4253",433]
["value4254",410]
["value4255",333]
["value4256",546]
["value4257",513]
["value4258",566]
["value4259",537]
["value4260",839]
["value4261",395]
["value4262",740]
["value4263",699]
["value4264",336]
["value4265",726]
["value4266",478]
["value4267",677]
["value4268",799]
["value4269",853]
["value4270",15]
["value4271",960]
["value4272",69]
["value4273",8]
["value4274",828]
["value4275",735]
["value4276",764]
["value4277",130]
["value4278",303]
["value4279",123]
["value4280",892]
["value4281",205]
["value4282",962]
["value4283",202]
["value4284",323]
["value4285",883]
["value4286",56]
["value4287",862]
["value4288",895]
["value4289",842]
["value4290",939]
["value4291",193]
["value4292",137]
["value4293",435]
["value4294",30]
["value4295",610]
["value4296",250]
["value4297",976]
["value4298",518]
["value4299",88]
["value4300",470]
["value4301",768]
["value4302",139]
["value4303",612]
["value4304",745]
["value4305",317]
["value4306",677]
["value4307",112]
["value4308",460]
["value4309",601]
["value4310",693]
["value4311",302]
["value4312",657]
["value4313",173]
["value4314",822]
["value4315",818]
["value4316",623]
["value4317",37]
["value4318",247]
["value4319",918]
["value4320",675]
["value4321",908]
["value4322",828]
["value4323",637]
["value4324",534]
["value4325",335]
["value4326",646]
["value4327",24]
["value4328",153]
["value4329",939]
["value4330",734]
["value4331",42]
["value4332",789]
["value4333",18]
["value4334",392]
["value4335",602]
["value4336",259]
["value4337",151]
["value4338",852]
["value4339",839]
["value4340",64]
["value4341",222]
["value4342",213]
["value4343",482]
["value4344",304]
["value4345",673]
["value4346",940]
["value4347",815]
["value4348",696]
["value4349",428]
["value4350",35]
["value4351",745]
["value4352",291]
["value4353",16]
["value4354",961]
["value4355",270]
["value4356",480]
["value4357",573]
["value4358",476]
["value4359",995]
["value4360",67]
["value4361",212]
["value4362",218]
["value4363",924]
["value4364",93]
["value4365",899]
["value4366",239]
["value4367",174]
["value4368",945]
["value4369",186]
["value4370",251]
["value4371",408]
["value4372",581]
["value4373",737]
["value4374",452]
["value4375",935]
["value4376",403]
["value4377",273]
["value4378",822]
["value4379",135]
["value4380",567]
["value4381",191]
["value4382",364]
["value4383",251]
["value4384",57]
["value4385",208]
["value4386",249]
["value4387",895]
["value4388",656]
["value4389",83]
["value4390",458]
["value4391",140]
["value4392",935]
["value4393",212]
["value4394",561]
["value4395",387]
["value4396",998]
["value4397",30]
["value4398",633]
["value4399",232]
["value4400",72]
["value4401",298]
["value4402",260]
["value4403",915]
["value4404",107]
["value4405",586]
["value4406",261]
["value4407",986]
["value4408",623]
["value4409",998]
["value4410",860]
["value4411",75]
["value4412",269]
["value4413",969]
["value4414",981]
["value4415",446]
["value4416",304]
["value4417",584]
["value4418",126]
["value4419",524]
["value4420",402]
["value4421",51]
["value4422",18]
["value4423",401]
["value4424",182]
["value4425",902]
["value4426",501]
["value4427",505]
["value4428",333]
["value4429",145]
["value4430",112]
["value4431",238]
["value4432",128]
["value4433",688]
["value4434",134]
["value4435",610]
["value4436",329]
["value4437",717]
["value4438",880]
["value4439",644]
["value4440",493]
["value4441",256]
["value4442",570]
["value4443",946]
["value4444",537]
["value4445",126]
["value4446",899]
["value4447",200]
["value4448",894]
["value4449",473]
["value4450",9]
["value4451",695]
["value4452",583]
["value4453",54]
["value4454",765]
["value4455",928]
["value4456",617]
["value4457",14]
["value4458",630]
["value4459",17]
["value4460",65]
["value4461",29]
["value4462",471]
["value4463",356]
["value4464",126]
["value4465",640]
["value4466",607]
["value4467",360]
["value4468",986]
["value4469",625]
["value4470",82]
["value4471",911]
["value4472",868]
["value4473",866]
["value4474",64]
["value4475",972]
["value4476",129]
["value4477",752]
["value4478",871]
["value4479",490]
["value4480",852]
["value4481",220]
["value4482",242]
["value4483",251]
["value4484",839]
["value4485",509]
["value4486",361]
["value4487",650]
["value4488",139]
["value4489",199]
["value4490",634]
["value4491",776]
["value4492",944]
["value4493",691]
["value4494",95]
["value4495",485]
["value4496",90]
["value4497",589]
["value4498",491]
["value4499",650]
["value4500",863]
["value4501",897]
["value4502",171]
["value4503",852]
["value4504",964]
["value4505",652]
["value4506",450]
["value4507",441]
["value4508",514]
["value4509",131]
["value4510",4]
["value4511",459]
["value4512",289]
["value4513",91]
["value4514",582]
["value4515",246]
["value4516",982]
["value4517",608]
["value4518",163]
["value4519",842]
["value4520",53]
["value4521",755]
["value4522",585]
["value4523",757]
["value4524",756]
["value4525",29]
["value4526",119]
["value4527",165]
["value4528",94]
["value4529",672]
["value4530",357]
["value4531",639]
["value4532",529]
["value4533",538]
["value4534",647]
["value4535",126]
["value4536",366]
["value4537",87]
["value4538",760]
["value4539",513]
["value4540",921]
["value4541",568]
["value4542",96]
["value4543",215]
["value4544",494]
["value4545",642]
["value4546",441]
["value4547",692]
["value4548",94]
["value4549",105]
["value4550",471]
["value4551",311]
["value4552",112]
["value4553",877]
["value4554",195]
["value4555",566]
["value4556",439]
["value4557",979]
["value4558",863]
["value4559",273]
["value4560",959]
["value4561",571]
["value4562",912]
["value4563",324]
["value4564",31]
["value4565",204]
["value4566",397]
["value4567",990]
["value4568",42]
["value4569",777]
["value4570",419]
["value4571",673]
["value4572",131]
["value4573",753]
["value4574",937]
["value4575",148]
["value4576",424]
["value4577",974]
["value4578",806]
["value4579",280]
["value4580",772]
["value4581",487]
["value4582",860]
["value4583",415]
["value4584",425]
["value4585",484]
["value4586",136]
["value4587",695]
["value4588",533]
["value4589",432]
["value4590",993]
["value4591",93]
["value4592",619]
["value4593",13]
["value4594",99]
["value4595",335]
["value4596",516]
["value4597",442]
["value4598",134]
["value4599",568]
["value4600",334]
["value4601",311]
["value4602",228]
["value4603",127]
["value4604",651]
["value4605",991]
["value4606",939]
["value4607",649]
["value4608",730]
["value4609",443]
["value4610",408]
["value4611",89]
["value4612",63]
["value4613",563]
["value4614",775]
["value4615",980]
["value4616",5]
["value4617",955]
["value4618",639]
["value4619",843]
["value4620",144]
["value4621",615]
["value4622",1000]
["value4623",766]
["value4624",164]
["value4625",668]
["value4626",228]
["value4627",346]
["value4628",766]
["value4629",415]
["value4630",478]
["value4631",309]
["value4632",914]
["value4633",449]
["value4634",143]
["value4635",471]
["value4636",847]
["value4637",649]
["value4638",610]
["value4639",627]
["value4640",161]
["value4641",499]
["value4642",406]
["value4643",465]
["value4644",260]
["value4645",904]
["value4646",998]
["value4647",386]
["value4648",292]
["value4649",968]
["value4650",794]
["value4651",786]
["value4652",267]
["value4653",578]
["value4654",155]
["value4655",321]
["value4656",452]
["value4657",572]
["value4658",816]
["value4659",558]
["value4660",112]
["value4661",641]
["value4662",98]
["value4663",254]
["value4664",302]
["value4665",674]
["value4666",410]
["value4667",237]
["value4668",32]
["value4669",579]
["value4670",214]
["value4671",284]
["value4672",32]
["value4673",901]
["value4674",637]
["value4675",287]
["value4676",929]
["value4677",506]
["value4678",677]
["value4679",940]
["value4680",172]
["value4681",895]
["value4682",67]
["value4683",253]
["value4684",15]
["value4685",791]
["value4686",328]
["value4687",949]
["value4688",219]
["value4689",291]
["value4690",739]
["value4691",276]
["value4692",372]
["value4693",185]
["value4694",480]
["value4695",178]
["value4696",553]
["value4697",379]
["value4698",712]
["value4699",405]
["value4700",984]
["value4701",299]
["value4702",172]
["value4703",289]
["value4704",817]
["value4705",493]
["value4706",177]
["value4707",731]
["value4708",635]
["value4709",548]
["value4710",524]
["value4711",916]
["value4712",172]
["value4713",831]
["value4714",556]
["value4715",590]
["value4716",912]
["value4717",261]
["value4718",489]
["value4719",875]
["value4720",633]
["value4721",633]
["value4722",787]
["value4723",607]
["value4724",264]
["value4725",225]
["value4726",315]
["value4727",631]
["value4728",533]
["value4729",98]
["value4730",885]
["value4731",306]
["value4732",342]
["value4733",319]
["value4734",557]
["value4735",11]
["value4736",357]
["value4737",612]
["value4738",862]
["value4739",76]
["value4740",663]
["value4741",402]
["value4742",304]
["value4743",438]
["value4744",10]
["value4745",201]
["value4746",647]
["value4747",896]
["value4748",548]
["value4749",702]
["value4750",881]
["value4751",367]
["value4752",673]
["value4753",283]
["value4754",37]
["value4755",516]
["value4756",625]
["value4757",658]
["value4758",632]
["value4759",858]
["value4760",766]
["value4761",228]
["value4762",690]
["value4763",610]
["value4764",352]
["value4765",446]
["value4766",849]
["value4767",880]
["value4768",239]
["value4769",913]
["value4770",974]
["value4771",100]
["value4772",762]
["value4773",969]
["value4774",379]
["value4775",547]
["value4776",4]
["value4777",436]
["value4778",413]
["value4779",839]
["value4780",765]
["value4781",717]
["value4782",509]
["value4783",479]
["value4784",708]
["value4785",436]
["value4786",155]
["value4787",419]
["value4788",777]
["value4789",345]
["value4790",746]
["value4791",787]
["value4792",235]
["value4793",654]
["value4794",98]
["value4795",177]
["value4796",389]
["value4797",544]
["value4798",200]
["value4799",821]
["value4800",814]
["value4801",779]
["value4802",366]
["value4803",674]
["value4804",796]
["value4805",277]
["value4806",217]
["value4807",938]
["value4808",166]
["value4809",344]
["value4810",830]
["value4811",379]
["value4812",643]
["value4813",468]
["value4814",299]
["value4815",383]
["value4816",423]
["value4817",881]
["value4818",484]
["value4819",333]
["value4820",503]
["value4821",501]
["value4822",866]
["value4823",129]
["value4824",774]
["value4825",229]
["value4826",952]
["value4827",878]
["value4828",598]
["value4829",741]
["value4830",318]
["value4831",353]
["value4832",154]
["value4833",927]
["value4834",769]
["value4835",48]
["value4836",628]
["value4837",974]
["value4838",435]
["value4839",987]
["value4840",49]
["value4841",699]
["value4842",297]
["value4843",316]
["value4844",368]
["value4845",916]
["value4846",87]
["value4847",635]
["value4848",139]
["value4849",298]
["value4850",64]
["value4851",882]
["value4852",79]
["value4853",220]
["value4854",638]
["value4855",907]
["value4856",145]
["value4857",323]
["value4858",655]
["value4859",167]
["value4860",542]
["value4861",784]
["value4862",924]
["value4863",228]
["value4864",754]
["value4865",14]
["value4866",711]
["value4867",37]
["value4868",822]
["value4869",765]
["value4870",653]
["value4871",724]
["value4872",251]
["value4873",832]
["value4874",610]
["value4875",170]
["value4876",302]
["value4877",842]
["value4878",887]
["value4879",259]
["value4880",338]
["value4881",183]
["value4882",15]
["value4883",793]
["value4884",210]
["value4885",161]
["value4886",766]
["value4887",700]
["value4888",431]
["value4889",639]
["value4890",365]
["value4891",119]
["value4892",30]
["value4893",983]
["value4894",10]
["value4895",581]
["value4896",374]
["value4897",40]
["value4898",512]
["value4899",950]
["value4900",647]
["value4901",358]
["value4902",243]
["value4903",627]
["value4904",926]
["value4905",124]
["value4906",186]
["value4907",103]
["value4908",202]
["value4909",918]
["value4910",922]
["value4911",286]
["value4912",90]
["value4913",735]
["value4914",139]
["value4915",491]
["value4916",902]
["value4917",993]
["value4918",143]
["value4919",951]
["value4920",431]
["value4921",574]
["value4922",428]
["value4923",225]
["value4924",97]
["value4925",7]
["value4926",898]
["value4927",144]
["value4928",919]
["value4929",644]
["value4930",505]
["value4931",248]
["value4932",794]
["value4933",685]
["value4934",201]
["value4935",352]
["value4936",811]
["value4937",978]
["value4938",681]
["value4939",856]
["value4940",482]
["value4941",119]
["value4942",694]
["value4943",793]
["value4944",79]
["value4945",954]
["value4946",332]
["value4947",584]
["value4948",51]
["value4949",954]
["value4950",354]
["value4951",286]
["value4952",218]
["value4953",190]
["value4954",714]
["value4955",731]
["value4956",447]
["value4957",105]
["value4958",220]
["value4959",785]
["value4960",559]
["value4961",750]
["value4962",722]
["value4963",743]
["value4964",939]
["value4965",915]
["value4966",361]
["value4967",939]
["value4968",189]
["value4969",440]
["value4970",399]
["value4971",175]
["value4972",241]
["value4973",869]
["value4974",636]
["value4975",164]
["value4976",294]
["value4977",539]
["value4978",222]
["value4979",164]
["value4980",173]
["value4981",897]
["value4982",134]
["value4983",510]
["value4984",837]
["value4985",654]
["value4986",133]
["value4987",704]
["value4988",868]
["value4989",701]
["value4990",921]
["value4991",597]
["value4992",843]
["value4993",646]
["value4994",981]
["value4995",17]
["value4996",812]
["value4997",960]
["value4998",536]
["value4999",116]
["value5000",130]
["value5001",519]
["value5002",706]
["value5003",294]
["value5004",983]
["value5005",753]
["value5006",955]
["value5007",139]
["value5008",622]
["value5009",28]
["value5010",403]
["value5011",452]
["value5012",574]
["value5013",207]
["value5014",299]
["value5015",113]
["value5016",139]
["value5017",296]
["value5018",913]
["value5019",86]
["value5020",237]
["value5021",621]
["value5022",24]
["value5023",31]
["value5024",203]
["value5025",936]
["value5026",195]
["value5027",834]
["value5028",542]
["value5029",253]
["value5030",502]
["value5031",105]
["value5032",344]
["value5033",528]
["value5034",167]
["value5035",544]
["value5036",161]
["value5037",45]
["value5038",922]
["value5039",215]
["value5040",940]
["value5041",741]
["value5042",223]
["value5043",126]
["value5044",666]
["value5045",615]
["value5046",620]
["value5047",47]
["value5048",191]
["value5049",798]
["value5050",645]
["value5051",250]
["value5052",474]
["value5053",653]
["value5054",9]
["value5055",549]
["value5056",417]
["value5057",227]
["value5058",536]
["value5059",453]
["value5060",635]
["value5061",642]
["value5062",918]
["value5063",517]
["value5064",452]
["value5065",674]
["value5066",323]
["value5067",220]
["value5068",768]
["value5069",820]
["value5070",622]
["value5071",123]
["value5072",278]
["value5073",247]
["value5074",140]
["value5075",586]
["value5076",305]
["value5077",380]
["value5078",670]
["value5079",811]
["value5080",35]
["value5081",705]
["value5082",316]
["value5083",622]
["value5084",655]
["value5085",423]
["value5086",623]
["value5087",728]
["value5088",256]
["value5089",696]
["value5090",375]
["value5091",86]
["value5092",378]
["value5093",943]
["value5094",959]
["value5095",762]
["value5096",364]
["value5097",156]
["value5098",246]
["value5099",7]
["value5100",146]
["value5101",704]
["value5102",291]
["value5103",125]
["value5104",769]
["value5105",581]
["value5106",657]
["value5107",800]
["value5108",199]
["value5109",852]
["value5110",686]
["value5111",980]
["value5112",96]
["value5113",844]
["value5114",112]
["value5115",973]
["value5116",378]
["value5117",200]
["value5118",890]
["value5119",809]
["value5120",261]
["value5121",868]
["value5122",620]
["value5123",767]
["value5124",140]
["value5125",738]
["value5126",377]
["value5127",498]
["value5128",631]
["value5129",463]
["value5130",678]
["value5131",209]
["value5132",133]
["value5133",787]
["value5134",962]
["value5135",266]
["value5136",281]
["value5137",266]
["value5138",875]
["value5139",852]
["value5140",861]
["value5141",789]
["value5142",493]
["value5143",306]
["value5144",378]
["value5145",364]
["value5146",237]
["value5147",759]
["value5148",235]
["value5149",645]
["value5150",741]
["value5151",400]
["value5152",823]
["value5153",577]
["value5154",26]
["value5155",228]
["value5156",162]
["value5157",725]
["value5158",492]
["value5159",604]
["value5160",382]
["value5161",652]
["value5162",669]
["value5163",255]
["value5164",381]
["value5165",568]
["value5166",33]
["value5167",523]
["value5168",74]
["value5169",153]
["value5170",212]
["value5171",985]
["value5172",274]
["value5173",147]
["value5174",495]
["value5175",561]
["value5176",145]
["value5177",11]
["value5178",822]
["value5179",470]
["value5180",841]
["value5181",686]
["value5182",926]
["value5183",830]
["value5184",42]
["value5185",332]
["value5186",779]
["value5187",594]
["value5188",727]
["value5189",106]
["value5190",225]
["value5191",91]
["value5192",265]
["value5193",816]
["value5194",764]
["value5195",86]
["value5196",37]
["value5197",455]
["value5198",809]
["value5199",113]
["value5200",848]
["value5201",667]
["value5202",742]
["value5203",154]
["value5204",859]
["value5205",333]
["value5206",657]
["value5207",921]
["value5208",176]
["value5209",926]
["value5210",322]
["value5211",624]
["value5212",655]
["value5213",184]
["value5214",189]
["value5215",721]
["value5216",1]
["value5217",172]
["value5218",906]
["value5219",245]
["value5220",146]
["value5221",853]
["value5222",843]
["value5223",149]
["value5224",369]
["value5225",313]
["value5226",818]
["value5227",431]
["value5228",349]
["value5229",704]
["value5230",159]
["value5231",370]
["value5232",526]
["value5233",328]
["value5234",303]
["value5235",896]
["value5236",923]
["value5237",296]
["value5238",666]
["value5239",908]
["value5240",25]
["value5241",342]
["value5242",825]
["value5243",796]
["value5244",580]
["value5245",527]
["value5246",414]
["value5247",784]
["value5248",214]
["value5249",994]
["value5250",32]
["value5251",384]
["value5252",350]
["value5253",647]
["value5254",647]
["value5255",366]
["value5256",336]
["value5257",545]
["value5258",52]
["value5259",427]
["value5260",307]
["value5261",231]
["value5262",572]
["value5263",774]
["value5264",725]
["value5265",734]
["value5266",283]
["value5267",267]
["value5268",156]
["value5269",92]
["value5270",86]
["value5271",942]
["value5272",404]
["value5273",864]
["value5274",927]
["value5275",843]
["value5276",783]
["value5277",497]
["value5278",7]
["value5279",253]
["value5280",898]
["value5281",932]
["value5282",511]
["value5283",734]
["value5284",136]
["value5285",101]
["value5286",363]
["value5287",232]
["value5288",590]
["value5289",304]
["value5290",51]
["value5291",120]
["value5292",853]
["value5293",548]
["value5294",538]
["value5295",538]
["value5296",285]
["value5297",262]
["value5298",564]
["value5299",564]
["value5300",388]
["value5301",531]
["value5302",861]
["value5303",351]
["value5304",546]
["value5305",324]
["value5306",746]
["value5307",120]
["value5308",193]
["value5309",393]
["value5310",522]
["value5311",789]
["value5312",1000]
["value5313",56]
["value5314",939]
["value5315",34]
["value5316",563]
["value5317",717]
["value5318",713]
["value5319",523]
["value5320",919]
["value5321",342]
["value5322",856]
["value5323",392]
["value5324",151]
["value5325",195]
["value5326",294]
["value5327",506]
["value5328",729]
["value5329",667]
["value5330",855]
["value5331",56]
["value5332",196]
["value5333",532]
["value5334",775]
["value5335",852]
["value5336",663]
["value5337",329]
["value5338",319]
["value5339",765]
["value5340",724]
["value5341",651]
["value5342",735]
["value5343",55]
["value5344",218]
["value5345",965]
["value5346",795]
["value5347",452]
["value5348",357]
["value5349",259]
["value5350",791]
["value5351",111]
["value5352",333]
["value5353",78]
["value5354",356]
["value5355",395]
["value5356",295]
["value5357",525]
["value5358",40]
["value5359",97]
["value5360",799]
["value5361",795]
["value5362",264]
["value5363",643]
["value5364",22]
["value5365",547]
["value5366",563]
["value5367",567]
["value5368",272]
["value5369",805]
["value5370",248]
["value5371",724]
["value5372",339]
["value5373",742]
["value5374",967]
["value5375",763]
["value5376",7]
["value5377",843]
["value5378",56]
["value5379",52]
["value5380",315]
["value5381",791]
["value5382",81]
["value5383",563]
["value5384",367]
["value5385",172]
["value5386",772]
["value5387",301]
["value5388",540]
["value5389",121]
["value5390",727]
["value5391",457]
["value5392",96]
["value5393",286]
["value5394",241]
["value5395",164]
["value5396",643]
["value5397",930]
["value5398",844]
["value5399",82]
["value5400",354]
["value5401",228]
["value5402",882]
["value5403",376]
["value5404",207]
["value5405",912]
["value5406",276]
["value5407",859]
["value5408",111]
["value5409",829]
["value5410",910]
["value5411",786]
["value5412",969]
["value5413",331]
["value5414",476]
["value5415",13]
["value5416",984]
["value5417",398]
["value5418",224]
["value5419",162]
["value5420",359]
["value5421",805]
["value5422",350]
["value5423",469]
["value5424",86]
["value5425",316]
["value5426",917]
["value5427",269]
["value5428",450]
["value5429",680]
["value5430",591]
["value5431",736]
["value5432",696]
["value5433",103]
["value5434",51]
["value5435",914]
["value5436",614]
["value5437",828]
["value5438",226]
["value5439",122]
["value5440",413]
["value5441",225]
["value5442",460]
["value5443",110]
["value5444",874]
["value5445",686]
["value5446",659]
["value5447",622]
["value5448",82]
["value5449",835]
["value5450",943]
["value5451",307]
["value5452",131]
["value5453",738]
["value5454",268]
["value5455",579]
["value5456",133]
["value5457",123]
["value5458",139]
["value5459",561]
["value5460",440]
["value5461",642]
["value5462",611]
["value5463",468]
["value5464",142]
["value5465",783]
["value5466",15]
["value5467",607]
["value5468",898]
["value5469",683]
["value5470",612]
["value5471",235]
["value5472",483]
["value5473",102]
["value5474",696]
["value5475",516]
["value5476",27]
["value5477",991]
["value5478",305]
["value5479",843]
["value5480",348]
["value5481",972]
["value5482",201]
["value5483",233]
["value5484",460]
["value5485",137]
["value5486",171]
["value5487",471]
["value5488",158]
["value5489",667]
["value5490",78]
["value5491",42]
["value5492",205]
["value5493",735]
["value5494",38]
["value5495",664]
["value5496",955]
["value5497",386]
["value5498",793]
["value5499",788]
["value5500",912]
["value5501",169]
["value5502",17]
["value5503",729]
["value5504",338]
["value5505",487]
["value5506",273]
["value5507",779]
["value5508",905]
["value5509",556]
["value5510",58]
["value5511",841]
["value5512",707]
["value5513",308]
["value5514",457]
["value5515",943]
["value5516",89]
["value5517",626]
["value5518",533]
["value5519",0]
["value5520",315]
["value5521",359]
["value5522",974]
["value5523",883]
["value5524",677]
["value5525",964]
["value5526",405]
["value5527",592]
["value5528",229]
["value5529",772]
["value5530",571]
["value5531",998]
["value5532",804]
["value5533",680]
["value5534",64]
["value5535",199]
["value5536",564]
["value5537",413]
["value5538",480]
["value5539",97]
["value5540",538]
["value5541",453]
["value5542",19]
["value5543",272]
["value5544",542]
["value5545",433]
["value5546",158]
["value5547",919]
["value5548",467]
["value5549",143]
["value5550",901]
["value5551",280]
["value5552",526]
["value5553",38]
["value5554",427]
["value5555",880]
["value5556",850]
["value5557",542]
["value5558",663]
["value5559",203]
["value5560",816]
["value5561",92]
["value5562",298]
["value5563",337]
["value5564",180]
["value5565",134]
["value5566",114]
["value5567",263]
["value5568",89]
["value5569",981]
["value5570",354]
["value5571",853]
["value5572",644]
["value5573",179]
["value5574",365]
["value5575",891]
["value5576",962]
["value5577",282]
["value5578",774]
["value5579",781]
["value5580",511]
["value5581",555]
["value5582",676]
["value5583",434]
["value5584",264]
["value5585",158]
["value5586",298]
["value5587",820]
["value5588",3]
["value5589",604]
["value5590",481]
["value5591",510]
["value5592",110]
["value5593",776]
["value5594",116]
["value5595",520]
["value5596",336]
["value5597",326]
["value5598",457]
["value5599",502]
["value5600",783]
["value5601",938]
["value5602",909]
["value5603",459]
["value5604",687]
["value5605",855]
["value5606",556]
["value5607",972]
["value5608",865]
["value5609",681]
["value5610",317]
["value5611",458]
["value5612",915]
["value5613",398]
["value5614",813]
["value5615",767]
["value5616",791]
["value5617",786]
["value5618",573]
["value5619",659]
["value5620",221]
["value5621",845]
["value5622",119]
["value5623",83]
["value5624",860]
["value5625",560]
["value5626",344]
["value5627",131]
["value5628",860]
["value5629",541]
["value5630",247]
["value5631",953]
["value5632",570]
["value5633",502]
["value5634",488]
["value5635",521]
["value5636",169]
["value5637",726]
["value5638",332]
["value5639",793]
["value5640",530]
["value5641",21]
["value5642",471]
["value5643",719]
["value5644",346]
["value5645",506]
["value5646",178]
["value5647",935]
["value5648",622]
["value5649",839]
["value5650",614]
["value5651",119]
["value5652",265]
["value5653",266]
["value5654",552]
["value5655",206]
["value5656",348]
["value5657",576]
["value5658",616]
["value5659",277]
["value5660",147]
["value5661",893]
["value5662",866]
["value5663",444]
["value5664",732]
["value5665",210]
["value5666",20]
["value5667",398]
["value5668",357]
["value5669",856]
["value5670",273]
["value5671",216]
["value5672",427]
["value5673",730]
["value5674",664]
["value5675",854]
["value5676",210]
["value5677",654]
["value5678",822]
["value5679",924]
["value5680",226]
["value5681",390]
["value5682",833]
["value5683",896]
["value5684",84]
["value5685",451]
["value5686",812]
["value5687",92]
["value5688",128]
["value5689",480]
["value5690",822]
["value5691",879]
["value5692",140]
["value5693",191]
["value5694",811]
["value5695",257]
["value5696",388]
["value5697",26]
["value5698",614]
["value5699",329]
["value5700",245]
["value5701",580]
["value5702",495]
["value5703",389]
["value5704",217]
["value5705",701]
["value5706",595]
["value5707",661]
["value5708",288]
["value5709",73]
["value5710",556]
["value5711",199]
["value5712",962]
["value5713",808]
["value5714",658]
["value5715",1000]
["value5716",443]
["value5717",496]
["value5718",868]
["value5719",840]
["value5720",292]
["value5721",256]
["value5722",761]
["value5723",904]
["value5724",671]
["value5725",760]
["value5726",549]
["value5727",855]
["value5728",909]
["value5729",711]
["value5730",463]
["value5731",738]
["value5732",127]
["value5733",267]
["value5734",595]
["value5735",753]
["value5736",928]
["value5737",674]
["value5738",453]
["value5739",807]
["value5740",148]
["value5741",734]
["value5742",127]
["value5743",703]
["value5744",419]
["value5745",495]
["value5746",272]
["value5747",507]
["value5748",27]
["value5749",369]
["value5750",383]
["value5751",79]
["value5752",294]
["value5753",665]
["value5754",108]
["value5755",899]
["value5756",879]
["value5757",84]
["value5758",356]
["value5759",404]
["value5760",718]
["value5761",915]
["value5762",950]
["value5763",537]
["value5764",952]
["value5765",393]
["value5766",364]
["value5767",34]
["value5768",553]
["value5769",51]
["value5770",878]
["value5771",50]
["value5772",507]
["value5773",452]
["value5774",196]
["value5775",382]
["value5776",585]
["value5777",203]
["value5778",943]
["value5779",405]
["value5780",739]
["value5781",334]
["value5782",905]
["value5783",226]
["value5784",966]
["value5785",198]
["value5786",238]
["value5787",973]
["value5788",87]
["value5789",889]
["value5790",410]
["value5791",438]
["value5792",66]
["value5793",352]
["value5794",831]
["value5795",679]
["value5796",475]
["value5797",95]
["value5798",740]
["value5799",804]
["value5800",613]
["value5801",528]
["value5802",751]
["value5803",673]
["value5804",728]
["value5805",724]
["value5806",830]
["value5807",746]
["value5808",865]
["value5809",989]
["value5810",862]
["value5811",537]
["value5812",541]
["value5813",404]
["value5814",688]
["value5815",278]
["value5816",791]
["value5817",199]
["value5818",116]
["value5819",905]
["value5820",129]
["value5821",897]
["value5822",646]
["value5823",736]
["value5824",850]
["value5825",765]
["value5826",602]
["value5827",175]
["value5828",363]
["value5829",762]
["value5830",69]
["value5831",810]
["value5832",111]
["value5833",949]
["value5834",142]
["value5835",986]
["value5836",583]
["value5837",674]
["value5838",771]
["value5839",35]
["value5840",741]
["value5841",279]
["value5842",864]
["value5843",763]
["value5844",793]
["value5845",679]
["value5846",649]
["value5847",750]
["value5848",998]
["value5849",744]
["value5850",542]
["value5851",838]
["value5852",330]
["value5853",688]
["value5854",840]
["value5855",826]
["value5856",331]
["value5857",275]
["value5858",696]
["value5859",515]
["value5860",216]
["value5861",122]
["value5862",824]
["value5863",767]
["value5864",608]
["value5865",473]
["value5866",288]
["value5867",738]
["value5868",355]
["value5869",342]
["value5870",580]
["value5871",304]
["value5872",494]
["value5873",9]
["value5874",583]
["value5875",496]
["value5876",870]
["value5877",809]
["value5878",470]
["value5879",191]
["value5880",184]
["value5881",186]
["value5882",967]
["value5883",153]
["value5884",376]
["value5885",975]
["value5886",859]
["value5887",44]
["value5888",688]
["value5889",162]
["value5890",33]
["value5891",707]
["value5892",528]
["value5893",123]
["value5894",236]
["value5895",351]
["value5896",372]
["value5897",711]
["value5898",689]
["value5899",309]
["value5900",449]
["value5901",392]
["value5902",483]
["value5903",677]
["value5904",862]
["value5905",516]
["value5906",658]
["value5907",509]
["value5908",588]
["value5909",626]
["value5910",560]
["value5911",702]
["value5912",750]
["value5913",738]
["value5914",762]
["value5915",275]
["value5916",599]
["value5917",158]
["value5918",551]
["value5919",949]
["value5920",305]
["value5921",572]
["value5922",922]
["value5923",523]
["value5924",24]
["value5925",49]
["value5926",855]
["value5927",507]
["value5928",818]
["value5929",387]
["value5930",339]
["value5931",248]
["value5932",949]
["value5933",133]
["value5934",100]
["value5935",786]
["value5936",536]
["value5937",828]
["value5938",420]
["value5939",385]
["value5940",544]
["value5941",502]
["value5942",659]
["value5943",855]
["value5944",134]
["value5945",112]
["value5946",145]
["value5947",253]
["value5948",998]
["value5949",793]
["value5950",93]
["value5951",424]
["value5952",34]
["value5953",974]
["value5954",888]
["value5955",878]
["value5956",102]
["value5957",489]
["value5958",177]
["value5959",404]
["value5960",469]
["value5961",6]
["value5962",419]
["value5963",32]
["value5964",286]
["value5965",934]
["value5966",143]
["value5967",549]
["value5968",62]
["value5969",184]
["value5970",892]
["value5971",357]
["value5972",376]
["value5973",214]
["value5974",123]
["value5975",206]
["value5976",707]
["value5977",120]
["value5978",780]
["value5979",337]
["value5980",148]
["value5981",371]
["value5982",42]
["value5983",222]
["value5984",726]
["value5985",448]
["value5986",197]
["value5987",610]
["value5988",387]
["value5989",29]
["value5990",830]
["value5991",998]
["value5992",416]
["value5993",968]
["value5994",639]
["value5995",224]
["value5996",475]
["value5997",972]
["value5998",873]
["value5999",822]
["value6000",746]
["value6001",49]
["value6002",705]
["value6003",875]
["value6004",354]
["value6005",51]
["value6006",266]
["value6007",384]
["value6008",519]
["value6009",657]
["value6010",454]
["value6011",342]
["value6012",702]
["value6013",915]
["value6014",102]
["value6015",5]
["value6016",1]
["value6017",44]
["value6018",991]
["value6019",905]
["value6020",808]
["value6021",857]
["value6022",110]
["value6023",498]
["value6024",274]
["value6025",922]
["value6026",35]
["value6027",429]
["value6028",409]
["value6029",428]
["value6030",912]
["value6031",587]
["value6032",242]
["value6033",333]
["value6034",37]
["value6035",428]
["value6036",229]
["value6037",225]
["value6038",482]
["value6039",846]
["value6040",149]
["value6041",197]
["value6042",51]
["value6043",271]
["value6044",529]
["value6045",125]
["value6046",266]
["value6047",986]
["value6048",272]
["value6049",217]
["value6050",545]
["value6051",411]
["value6052",873]
["value6053",898]
["value6054",579]
["value6055",360]
["value6056",741]
["value6057",770]
["value6058",883]
["value6059",411]
["value6060",788]
["value6061",206]
["value6062",103]
["value6063",227]
["value6064",788]
["value6065",842]
["value6066",458]
["value6067",482]
["value6068",476]
["value6069",784]
["value6070",110]
["value6071",21]
["value6072",95]
["value6073",443]
["value6074",767]
["value6075",379]
["value6076",174]
["value6077",275]
["value6078",719]
["value6079",271]
["value6080",934]
["value6081",663]
["value6082",669]
["value6083",737]
["value6084",868]
["value6085",624]
["value6086",396]
["value6087",633]
["value6088",338]
["value6089",77]
["value6090",637]
["value6091",368]
["value6092",481]
["value6093",173]
["value6094",855]
["value6095",366]
["value6096",876]
["value6097",666]
["value6098",602]
["value6099",856]
["value6100",759]
["value6101",902]
["value6102",239]
["value6103",383]
["value6104",430]
["value6105",337]
["value6106",410]
["value6107",249]
["value6108",364]
["value6109",23]
["value6110",217]
["value6111",663]
["value6112",764]
["value6113",11]
["value6114",747]
["value6115",341]
["value6116",330]
["value6117",932]
["value6118",228]
["value6119",957]
["value6120",746]
["value6121",247]
["value6122",982]
["value6123",441]
["value6124",527]
["value6125",734]
["value6126",733]
["value6127",437]
["value6128",901]
["value6129",520]
["value6130",42]
["value6131",327]
["value6132",790]
["value6133",15]
["value6134",378]
["value6135",997]
["value6136",560]
["value6137",167]
["value6138",101]
["value6139",306]
["value6140",322]
["value6141",838]
["value6142",798]
["value6143",696]
["value6144",654]
["value6145",237]
["value6146",339]
["value6147",279]
["value6148",852]
["value6149",989]
["value6150",623]
["value6151",828]
["value6152",827]
["value6153",220]
["value6154",241]
["value6155",597]
["value6156",404]
["value6157",297]
["value6158",829]
["value6159",792]
["value6160",90]
["value6161",747]
["value6162",514]
["value6163",161]
["value6164",296]
["value6165",598]
["value6166",78]
["value6167",541]
["value6168",949]
["value6169",834]
["value6170",756]
["value6171",811]
["value6172",721]
["value6173",802]
["value6174",252]
["value6175",767]
["value6176",66]
["value6177",536]
["value6178",454]
["value6179",533]
["value6180",857]
["value6181",17]
["value6182",980]
["value6183",112]
["value6184",80]
["value6185",490]
["value6186",536]
["value6187",206]
["value6188",717]
["value6189",233]
["value6190",867]
["value6191",29]
["value6192",740]
["value6193",438]
["value6194",780]
["value6195",994]
["value6196",747]
["value6197",415]
["value6198",659]
["value6199",898]
["value6200",699]
["value6201",820]
["value6202",878]
["value6203",225]
["value6204",475]
["value6205",938]
["value6206",134]
["value6207",536]
["value6208",219]
["value6209",104]
["value6210",151]
["value6211",161]
["value6212",54]
["value6213",985]
["value6214",71]
["value6215",963]
["value6216",129]
["value6217",194]
["value6218",885]
["value6219",180]
["value6220",454]
["value6221",976]
["value6222",10]
["value6223",523]
["value6224",689]
["value6225",221]
["value6226",332]
["value6227",683]
["value6228",129]
["value6229",807]
["value6230",731]
["value6231",281]
["value6232",358]
["value6233",370]
["value6234",898]
["value6235",177]
["value6236",95]
["value6237",492]
["value6238",705]
["value6239",278]
["value6240",488]
["value6241",399]
["value6242",557]
["value6243",733]
["value6244",840]
["value6245",480]
["value6246",474]
["value6247",254]
["value6248",801]
["value6249",861]
["value6250",973]
["value6251",676]
["value6252",158]
["value6253",897]
["value6254",729]
["value6255",984]
["value6256",904]
["value6257",290]
["value6258",417]
["value6259",79]
["value6260",235]
["value6261",458]
["value6262",925]
["value6263",518]
["value6264",542]
["value6265",723]
["value6266",192]
["value6267",735]
["value6268",706]
["value6269",772]
["value6270",691]
["value6271",131]
["value6272",319]
["value6273",566]
["value6274",358]
["value6275",994]
["value6276",884]
["value6277",194]
["value6278",611]
["value6279",591]
["value6280",125]
["value6281",14]
["value6282",932]
["value6283",855]
["value6284",197]
["value6285",314]
["value6286",384]
["value6287",692]
["value6288",901]
["value6289",353]
["value6290",159]
["value6291",308]
["value6292",481]
["value6293",438]
["value6294",485]
["value6295",194]
["value6296",201]
["value6297",223]
["value6298",371]
["value6299",771]
["value6300",314]
["value6301",994]
["value6302",729]
["value6303",960]
["value6304",745]
["value6305",344]
["value6306",475]
["value6307",7]
["value6308",115]
["value6309",251]
["value6310",184]
["value6311",672]
["value6312",508]
["value6313",957]
["value6314",568]
["value6315",479]
["value6316",198]
["value6317",552]
["value6318",610]
["value6319",806]
["value6320",415]
["value6321",309]
["value6322",369]
["value6323",770]
["value6324",972]
["value6325",136]
["value6326",713]
["value6327",493]
["value6328",797]
["value6329",613]
["value6330",805]
["value6331",398]
["value6332",160]
["value6333",581]
["value6334",532]
["value6335",354]
["value6336",366]
["value6337",750]
["value6338",332]
["value6339",396]
["value6340",459]
["value6341",972]
["value6342",431]
["value6343",118]
["value6344",266]
["value6345",388]
["value6346",625]
["value6347",462]
["value6348",442]
["value6349",506]
["value6350",299]
["value6351",904]
["value6352",854]
["value6353",120]
["value6354",235]
["value6355",582]
["value6356",425]
["value6357",731]
["value6358",937]
["value6359",744]
["value6360",192]
["value6361",795]
["value6362",972]
["value6363",395]
["value6364",354]
["value6365",724]
["value6366",985]
["value6367",286]
["value6368",596]
["value6369",684]
["value6370",344]
["value6371",78]
["value6372",661]
["value6373",786]
["value6374",757]
["value6375",455]
["value6376",656]
["value6377",248]
["value6378",110]
["value6379",56]
["value6380",235]
["value6381",310]
["value6382",869]
["value6383",354]
["value6384",432]
["value6385",733]
["value6386",641]
["value6387",905]
["value6388",105]
["value6389",660]
["value6390",317]
["value6391",206]
["value6392",599]
["value6393",771]
["value6394",951]
["value6395",266]
["value6396",597]
["value6397",339]
["value6398",353]
["value6399",21]
["value6400",521]
["value6401",448]
["value6402",997]
["value6403",236]
["value6404",367]
["value6405",126]
["value6406",918]
["value6407",254]
["value6408",793]
["value6409",206]
["value6410",922]
["value6411",13]
["value6412",675]
["value6413",167]
["value6414",605]
["value6415",765]
["value6416",340]
["value6417",728]
["value6418",781]
["value6419",579]
["value6420",592]
["value6421",63]
["value6422",383]
["value6423",235]
["value6424",178]
["value6425",844]
["value6426",645]
["value6427",90]
["value6428",559]
["value6429",300]
["value6430",642]
["value6431",232]
["value6432",468]
["value6433",382]
["value6434",600]
["value6435",584]
["value6436",532]
["value6437",516]
["value6438",367]
["value6439",846]
["value6440",452]
["value6441",862]
["value6442",200]
["value6443",112]
["value6444",688]
["value6445",809]
["value6446",448]
["value6447",83]
["value6448",950]
["value6449",851]
["value6450",41]
["value6451",775]
["value6452",480]
["value6453",683]
["value6454",106]
["value6455",861]
["value6456",485]
["value6457",256]
["value6458",79]
["value6459",10]
["value6460",87]
["value6461",825]
["value6462",868]
["value6463",121]
["value6464",543]
["value6465",277]
["value6466",286]
["value6467",172]
["value6468",352]
["value6469",876]
["value6470",214]
["value6471",496]
["value6472",572]
["value6473",188]
["value6474",27]
["value6475",856]
["value6476",949]
["value6477",766]
["value6478",301]
["value6479",748]
["value6480",622]
["value6481",346]
["value6482",245]
["value6483",982]
["value6484",535]
["value6485",93]
["value6486",361]
["value6487",351]
["value6488",514]
["value6489",974]
["value6490",677]
["value6491",600]
["value6492",926]
["value6493",990]
["value6494",433]
["value6495",161]
["value6496",59]
["value6497",28]
["value6498",368]
["value6499",410]
["value6500",573]
["value6501",886]
["value6502",420]
["value6503",798]
["value6504",222]
["value6505",880]
["value6506",806]
["value6507",941]
["value6508",151]
["value6509",598]
["value6510",628]
["value6511",773]
["value6512",619]
["value6513",667]
["value6514",3]
["value6515",194]
["value6516",426]
["value6517",692]
["value6518",441]
["value6519",7]
["value6520",833]
["value6521",848]
["value6522",944]
["value6523",465]
["value6524",131]
["value6525",533]
["value6526",258]
["value6527",520]
["value6528",674]
["value6529",593]
["value6530",379]
["value6531",532]
["value6532",4]
["value6533",365]
["value6534",910]
["value6535",62]
["value6536",273]
["value6537",787]
["value6538",236]
["value6539",884]
["value6540",134]
["value6541",448]
["value6542",631]
["value6543",608]
["value6544",298]
["value6545",976]
["value6546",962]
["value6547",360]
["value6548",762]
["value6549",626]
["value6550",515]
["value6551",813]
["value6552",869]
["value6553",160]
["value6554",631]
["value6555",495]
["value6556",468]
["value6557",819]
["value6558",688]
["value6559",650]
["value6560",961]
["value6561",771]
["value6562",58]
["value6563",342]
["value6564",320]
["value6565",889]
["value6566",410]
["value6567",365]
["value6568",959]
["value6569",743]
["value6570",522]
["value6571",973]
["value6572",4]
["value6573",667]
["value6574",603]
["value6575",391]
["value6576",319]
["value6577",22]
["value6578",419]
["value6579",431]
["value6580",562]
["value6581",190]
["value6582",437]
["value6583",217]
["value6584",496]
["value6585",748]
["value6586",399]
["value6587",106]
["value6588",384]
["value6589",119]
["value6590",640]
["value6591",860]
["value6592",356]
["value6593",688]
["value6594",495]
["value6595",876]
["value6596",539]
["value6597",531]
["value6598",142]
["value6599",17]
["value6600",305]
["value6601",369]
["value6602",174]
["value6603",211]
["value6604",906]
["value6605",689]
["value6606",771]
["value6607",88]
["value6608",854]
["value6609",340]
["value6610",408]
["value6611",537]
["value6612",665]
["value6613",139]
["value6614",878]
["value6615",835]
["value6616",654]
["value6617",195]
["value6618",708]
["value6619",802]
["value6620",102]
["value6621",441]
["value6622",971]
["value6623",742]
["value6624",946]
["value6625",439]
["value6626",510]
["value6627",644]
["value6628",577]
["value6629",847]
["value6630",103]
["value6631",893]
["value6632",772]
["value6633",245]
["value6634",731]
["value6635",58]
["value6636",154]
["value6637",676]
["value6638",510]
["value6639",458]
["value6640",435]
["value6641",118]
["value6642",861]
["value6643",828]
["value6644",546]
["value6645",896]
["value6646",180]
["value6647",992]
["value6648",1]
["value6649",647]
["value6650",126]
["value6651",705]
["value6652",189]
["value6653",182]
["value6654",722]
["value6655",370]
["value6656",714]
["value6657",233]
["value6658",28]
["value6659",540]
["value6660",755]
["value6661",613]
["value6662",857]
["value6663",590]
["value6664",223]
["value6665",378]
["value6666",219]
["value6667",601]
["value6668",605]
["value6669",483]
["value6670",378]
["value6671",999]
["value6672",89]
["value6673",632]
["value6674",464]
["value6675",294]
["value6676",250]
["value6677",645]
["value6678",131]
["value6679",294]
["value6680",53]
["value6681",372]
["value6682",158]
["value6683",291]
["value6684",139]
["value6685",141]
["value6686",96]
["value6687",92]
["value6688",596]
["value6689",423]
["value6690",519]
["value6691",76]
["value6692",468]
["value6693",843]
["value6694",341]
["value6695",217]
["value6696",649]
["value6697",956]
["value6698",634]
["value6699",763]
["value6700",784]
["value6701",149]
["value6702",333]
["value6703",676]
["value6704",995]
["value6705",160]
["value6706",166]
["value6707",865]
["value6708",483]
["value6709",813]
["value6710",484]
["value6711",957]
["value6712",791]
["value6713",966]
["value6714",39]
["value6715",462]
["value6716",48]
["value6717",844]
["value6718",572]
["value6719",979]
["value6720",397]
["value6721",950]
["value6722",646]
["value6723",817]
["value6724",987]
["value6725",712]
["value6726",755]
["value6727",591]
["value6728",898]
["value6729",29]
["value6730",983]
["value6731",229]
["value6732",7]
["value6733",528]
["value6734",940]
["value6735",912]
["value6736",629]
["value6737",700]
["value6738",177]
["value6739",114]
["value6740",771]
["value6741",969]
["value6742",246]
["value6743",746]
["value6744",709]
["value6745",696]
["value6746",785]
["value6747",941]
["value6748",67]
["value6749",1000]
["value6750",847]
["value6751",329]
["value6752",321]
["value6753",40]
["value6754",534]
["value6755",510]
["value6756",244]
["value6757",91]
["value6758",987]
["value6759",351]
["value6760",770]
["value6761",113]
["value6762",664]
["value6763",347]
["value6764",443]
["value6765",411]
["value6766",884]
["value6767",519]
["value6768",658]
["value6769",136]
["value6770",415]
["value6771",106]
["value6772",231]
["value6773",145]
["value6774",693]
["value6775",160]
["value6776",328]
["value6777",831]
["value6778",978]
["value6779",945]
["value6780",685]
["value6781",912]
["value6782",265]
["value6783",358]
["value6784",147]
["value6785",221]
["value6786",782]
["value6787",387]
["value6788",704]
["value6789",425]
["value6790",480]
["value6791",901]
["value6792",879]
["value6793",278]
["value6794",658]
["value6795",483]
["value6796",274]
["value6797",223]
["value6798",616]
["value6799",836]
["value6800",182]
["value6801",596]
["value6802",810]
["value6803",496]
["value6804",115]
["value6805",53]
["value6806",879]
["value6807",109]
["value6808",440]
["value6809",617]
["value6810",50]
["value6811",439]
["value6812",855]
["value6813",536]
["value6814",860]
["value6815",300]
["value6816",508]
["value6817",442]
["value6818",755]
["value6819",869]
["value6820",774]
["value6821",31]
["value6822",429]
["value6823",409]
["value6824",110]
["value6825",139]
["value6826",290]
["value6827",600]
["value6828",468]
["value6829",943]
["value6830",629]
["value6831",342]
["value6832",681]
["value6833",590]
["value6834",724]
["value6835",118]
["value6836",111]
["value6837",121]
["value6838",97]
["value6839",156]
["value6840",180]
["value6841",690]
["value6842",28]
["value6843",119]
["value6844",171]
["value6845",818]
["value6846",425]
["value6847",947]
["value6848",186]
["value6849",413]
["value6850",122]
["value6851",523]
["value6852",136]
["value6853",848]
["value6854",401]
["value6855",479]
["value6856",692]
["value6857",312]
["value6858",854]
["value6859",347]
["value6860",259]
["value6861",553]
["value6862",686]
["value6863",799]
["value6864",292]
["value6865",839]
["value6866",97]
["value6867",800]
["value6868",29]
["value6869",513]
["value6870",81]
["value6871",263]
["value6872",296]
["value6873",651]
["value6874",739]
["value6875",601]
["value6876",773]
["value6877",659]
["value6878",206]
["value6879",868]
["value6880",870]
["value6881",303]
["value6882",387]
["value6883",858]
["value6884",20]
["value6885",391]
["value6886",527]
["value6887",419]
["value6888",504]
["value6889",237]
["value6890",131]
["value6891",820]
["value6892",477]
["value6893",500]
["value6894",431]
["value6895",516]
["value6896",133]
["value6897",447]
["value6898",988]
["value6899",387]
["value6900",845]
["value6901",859]
["value6902",360]
["value6903",710]
["value6904",701]
["value6905",827]
["value6906",982]
["value6907",218]
["value6908",588]
["value6909",989]
["value6910",58]
["value6911",179]
["value6912",107]
["value6913",421]
["value6914",538]
["value6915",579]
["value6916",197]
["value6917",364]
["value6918",366]
["value6919",719]
["value6920",504]
["value6921",561]
["value6922",910]
["value6923",821]
["value6924",308]
["value6925",284]
["value6926",19]
["value6927",979]
["value6928",342]
["value6929",871]
["value6930",392]
["value6931",232]
["value6932",345]
["value6933",337]
["value6934",88]
["value6935",672]
["value6936",562]
["value6937",725]
["value6938",423]
["value6939",721]
["value6940",745]
["value6941",984]
["value6942",662]
["value6943",305]
["value6944",702]
["value6945",834]
["value6946",799]
["value6947",37]
["value6948",687]
["value6949",610]
["value6950",56]
["value6951",505]
["value6952",204]
["value6953",535]
["value6954",213]
["value6955",598]
["value6956",355]
["value6957",974]
["value6958",721]
["value6959",637]
["value6960",506]
["value6961",982]
["value6962",442]
["value6963",539]
["value6964",20]
["value6965",912]
["value6966",430]
["value6967",662]
["value6968",282]
["value6969",445]
["value6970",873]
["value6971",814]
["value6972",502]
["value6973",432]
["value6974",853]
["value6975",631]
["value6976",75]
["value6977",312]
["value6978",92]
["value6979",6]
["value6980",479]
["value6981",329]
["value6982",788]
["value6983",824]
["value6984",751]
["value6985",837]
["value6986",21]
["value6987",969]
["value6988",596]
["value6989",226]
["value6990",551]
["value6991",25]
["value6992",829]
["value6993",940]
["value6994",426]
["value6995",190]
["value6996",208]
["value6997",894]
["value6998",352]
["value6999",244]
["value7000",171]
["value7001",817]
["value7002",658]
["value7003",728]
["value7004",629]
["value7005",49]
["value7006",339]
["value7007",678]
["value7008",621]
["value7009",788]
["value7010",348]
["value7011",918]
["value7012",884]
["value7013",109]
["value7014",285]
["value7015",886]
["value7016",883]
["value7017",712]
["value7018",205]
["value7019",13]
["value7020",625]
["value7021",5]
["value7022",202]
["value7023",752]
["value7024",65]
["value7025",647]
["value7026",389]
["value7027",838]
["value7028",125]
["value7029",18]
["value7030",889]
["value7031",48]
["value7032",891]
["value7033",75]
["value7034",753]
["value7035",637]
["value7036",800]
["value7037",319]
["value7038",65]
["value7039",879]
["value7040",353]
["value7041",709]
["value7042",653]
["value7043",756]
["value7044",876]
["value7045",882]
["value7046",579]
["value7047",777]
["value7048",351]
["value7049",653]
["value7050",636]
["value7051",990]
["value7052",741]
["value7053",267]
["value7054",631]
["value7055",677]
["value7056",959]
["value7057",176]
["value7058",763]
["value7059",184]
["value7060",316]
["value7061",354]
["value7062",400]
["value7063",421]
["value7064",847]
["value7065",815]
["value7066",347]
["value7067",694]
["value7068",266]
["value7069",190]
["value7070",482]
["value7071",947]
["value7072",756]
["value7073",173]
["value7074",361]
["value7075",438]
["value7076",48]
["value7077",827]
["value7078",977]
["value7079",459]
["value7080",560]
["value7081",963]
["value7082",595]
["value7083",725]
["value7084",654]
["value7085",624]
["value7086",397]
["value7087",314]
["value7088",58]
["value7089",496]
["value7090",202]
["value7091",13]
["value7092",410]
["value7093",77]
["value7094",672]
["value7095",387]
["value7096",42]
["value7097",455]
["value7098",925]
["value7099",858]
["value7100",79]
["value7101",176]
["value7102",817]
["value7103",926]
["value7104",496]
["value7105",252]
["value7106",372]
["value7107",509]
["value7108",348]
["value7109",210]
["value7110",534]
["value7111",803]
["value7112",720]
["value7113",56]
["value7114",837]
["value7115",516]
["value7116",168]
["value7117",601]
["value7118",670]
["value7119",697]
["value7120",101]
["value7121",11]
["value7122",419]
["value7123",502]
["value7124",210]
["value7125",451]
["value7126",244]
["value7127",141]
["value7128",794]
["value7129",246]
["value7130",229]
["value7131",869]
["value7132",767]
["value7133",194]
["value7134",678]
["value7135",565]
["value7136",353]
["value7137",734]
["value7138",455]
["value7139",654]
["value7140",17]
["value7141",324]
["value7142",108]
["value7143",928]
["value7144",802]
["value7145",957]
["value7146",285]
["value7147",592]
["value7148",689]
["value7149",38]
["value7150",496]
["value7151",218]
["value7152",80]
["value7153",201]
["value7154",355]
["value7155",5]
["value7156",552]
["value7157",193]
["value7158",406]
["value7159",640]
["value7160",59]
["value7161",115]
["value7162",351]
["value7163",798]
["value7164",267]
["value7165",461]
["value7166",327]
["value7167",156]
["value7168",367]
["value7169",223]
["value7170",95]
["value7171",354]
["value7172",56]
["value7173",353]
["value7174",482]
["value7175",40]
["value7176",313]
["value7177",995]
["value7178",806]
["value7179",240]
["value7180",369]
["value7181",326]
["value7182",388]
["value7183",834]
["value7184",630]
["value7185",582]
["value7186",771]
["value7187",950]
["value7188",802]
["value7189",188]
["value7190",726]
["value7191",363]
["value7192",61]
["value7193",777]
["value7194",246]
["value7195",127]
["value7196",836]
["value7197",922]
["value7198",54]
["value7199",80]
["value7200",774]
["value7201",749]
["value7202",965]
["value7203",753]
["value7204",898]
["value7205",398]
["value7206",90]
["value7207",732]
["value7208",412]
["value7209",596]
["value7210",153]
["value7211",968]
["value7212",573]
["value7213",966]
["value7214",856]
["value7215",136]
["value7216",924]
["value7217",645]
["value7218",392]
["value7219",851]
["value7220",391]
["value7221",393]
["value7222",319]
["value7223",2]
["value7224",372]
["value7225",328]
["value7226",143]
["value7227",891]
["value7228",124]
["value7229",429]
["value7230",676]
["value7231",831]
["value7232",31]
["value7233",512]
["value7234",264]
["value7235",341]
["value7236",931]
["value7237",260]
["value7238",487]
["value7239",333]
["value7240",734]
["value7241",746]
["value7242",979]
["value7243",91]
["value7244",771]
["value7245",719]
["value7246",52]
["value7247",428]
["value7248",977]
["value7249",71]
["value7250",42]
["value7251",631]
["value7252",5]
["value7253",402]
["value7254",684]
["value7255",895]
["value7256",622]
["value7257",663]
["value7258",82]
["value7259",495]
["value7260",640]
["value7261",508]
["value7262",949]
["value7263",840]
["value7264",701]
["value7265",549]
["value7266",937]
["value7267",768]
["value7268",311]
["value7269",376]
["value7270",304]
["value7271",164]
["value7272",724]
["value7273",225]
["value7274",760]
["value7275",162]
["value7276",926]
["value7277",329]
["value7278",355]
["value7279",436]
["value7280",188]
["value7281",471]
["value7282",728]
["value7283",331]
["value7284",393]
["value7285",906]
["value7286",239]
["value7287",69]
["value7288",466]
["value7289",872]
["value7290",270]
["value7291",585]
["value7292",425]
["value7293",96]
["value7294",883]
["value7295",154]
["value7296",950]
["value7297",671]
["value7298",592]
["value7299",180]
["value7300",132]
["value7301",268]
["value7302",184]
["value7303",946]
["value7304",164]
["value7305",581]
["value7306",990]
["value7307",874]
["value7308",977]
["value7309",916]
["value7310",921]
["value7311",452]
["value7312",948]
["value7313",932]
["value7314",667]
["value7315",998]
["value7316",868]
["value7317",198]
["value7318",777]
["value7319",990]
["value7320",53]
["value7321",763]
["value7322",617]
["value7323",332]
["value7324",422]
["value7325",156]
["value7326",276]
["value7327",926]
["value7328",168]
["value7329",272]
["value7330",890]
["value7331",286]
["value7332",899]
["value7333",309]
["value7334",30]
["value7335",804]
["value7336",292]
["value7337",242]
["value7338",659]
["value7339",252]
["value7340",573]
["value7341",474]
["value7342",443]
["value7343",972]
["value7344",167]
["value7345",910]
["value7346",212]
["value7347",505]
["value7348",465]
["value7349",334]
["value7350",862]
["value7351",368]
["value7352",890]
["value7353",571]
["value7354",488]
["value7355",245]
["value7356",366]
["value7357",355]
["value7358",549]
["value7359",924]
["value7360",420]
["value7361",704]
["value7362",923]
["value7363",739]
["value7364",815]
["value7365",323]
["value7366",479]
["value7367",180]
["value7368",401]
["value7369",786]
["value7370",345]
["value7371",92]
["value7372",374]
["value7373",764]
["value7374",734]
["value7375",18]
["value7376",782]
["value7377",932]
["value7378",189]
["value7379",870]
["value7380",342]
["value7381",322]
["value7382",757]
["value7383",508]
["value7384",808]
["value7385",830]
["value7386",845]
["value7387",936]
["value7388",599]
["value7389",483]
["value7390",240]
["value7391",201]
["value7392",104]
["value7393",44]
["value7394",50]
["value7395",104]
["value7396",999]
["value7397",435]
["value7398",54]
["value7399",423]
["value7400",937]
["value7401",299]
["value7402",680]
["value7403",296]
["value7404",114]
["value7405",203]
["value7406",497]
["value7407",15]
["value7408",416]
["value7409",944]
["value7410",341]
["value7411",564]
["value7412",270]
["value7413",475]
["value7414",185]
["value7415",542]
["value7416",166]
["value7417",274]
["value7418",628]
["value7419",571]
["value7420",240]
["value7421",509]
["value7422",678]
["value7423",430]
["value7424",184]
["value7425",809]
["value7426",530]
["value7427",935]
["value7428",381]
["value7429",993]
["value7430",962]
["value7431",474]
["value7432",445]
["value7433",5]
["value7434",919]
["value7435",140]
["value7436",744]
["value7437",19]
["value7438",93]
["value7439",245]
["value7440",596]
["value7441",49]
["value7442",880]
["value7443",140]
["value7444",987]
["value7445",587]
["value7446",48]
["value7447",900]
["value7448",427]
["value7449",315]
["value7450",524]
["value7451",56]
["value7452",75]
["value7453",236]
["value7454",337]
["value7455",748]
["value7456",565]
["value7457",962]
["value7458",603]
["value7459",11]
["value7460",923]
["value7461",173]
["value7462",917]
["value7463",854]
["value7464",40]
["value7465",417]
["value7466",403]
["value7467",466]
["value7468",581]
["value7469",312]
["value7470",80]
["value7471",297]
["value7472",616]
["value7473",79]
["value7474",760]
["value7475",765]
["value7476",486]
["value7477",944]
["value7478",908]
["value7479",771]
["value7480",825]
["value7481",717]
["value7482",84]
["value7483",209]
["value7484",311]
["value7485",22]
["value7486",857]
["value7487",239]
["value7488",307]
["value7489",35]
["value7490",589]
["value7491",679]
["value7492",745]
["value7493",217]
["value7494",582]
["value7495",221]
["value7496",482]
["value7497",270]
["value7498",285]
["value7499",262]
["value7500",613]
["value7501",751]
["value7502",670]
["value7503",181]
["value7504",54]
["value7505",197]
["value7506",52]
["value7507",743]
["value7508",502]
["value7509",306]
["value7510",365]
["value7511",616]
["value7512",467]
["value7513",857]
["value7514",784]
["value7515",496]
["value7516",877]
["value7517",776]
["value7518",511]
["value7519",261]
["value7520",515]
["value7521",641]
["value7522",481]
["value7523",980]
["value7524",834]
["value7525",891]
["value7526",793]
["value7527",868]
["value7528",346]
["value7529",946]
["value7530",626]
["value7531",31]
["value7532",195]
["value7533",122]
["value7534",650]
["value7535",677]
["value7536",317]
["value7537",599]
["value7538",498]
["value7539",451]
["value7540",302]
["value7541",274]
["value7542",72]
["value7543",730]
["value7544",233]
["value7545",910]
["value7546",938]
["value7547",425]
["value7548",206]
["value7549",148]
["value7550",579]
["value7551",657]
["value7552",899]
["value7553",89]
["value7554",573]
["value7555",143]
["value7556",544]
["value7557",639]
["value7558",889]
["value7559",748]
["value7560",238]
["value7561",253]
["value7562",617]
["value7563",283]
["value7564",106]
["value7565",355]
["value7566",289]
["value7567",683]
["value7568",597]
["value7569",209]
["value7570",249]
["value7571",598]
["value7572",540]
["value7573",7]
["value7574",622]
["value7575",724]
["value7576",55]
["value7577",491]
["value7578",853]
["value7579",14]
["value7580",408]
["value7581",353]
["value7582",497]
["value7583",831]
["value7584",351]
["value7585",567]
["value7586",35]
["value7587",487]
["value7588",231]
["value7589",499]
["value7590",141]
["value7591",837]
["value7592",450]
["value7593",531]
["value7594",867]
["value7595",77]
["value7596",946]
["value7597",476]
["value7598",310]
["value7599",383]
["value7600",802]
["value7601",559]
["value7602",40]
["value7603",573]
["value7604",435]
["value7605",910]
["value7606",722]
["value7607",210]
["value7608",568]
["value7609",155]
["value7610",161]
["value7611",970]
["value7612",26]
["value7613",671]
["value7614",755]
["value7615",372]
["value7616",625]
["value7617",88]
["value7618",460]
["value7619",350]
["value7620",481]
["value7621",802]
["value7622",1000]
["value7623",0]
["value7624",488]
["value7625",695]
["value7626",453]
["value7627",445]
["value7628",95]
["value7629",649]
["value7630",928]
["value7631",108]
["value7632",636]
["value7633",373]
["value7634",464]
["value7635",279]
["value7636",966]
["value7637",755]
["value7638",488]
["value7639",723]
["value7640",853]
["value7641",665]
["value7642",730]
["value7643",974]
["value7644",860]
["value7645",171]
["value7646",733]
["value7647",67]
["value7648",57]
["value7649",95]
["value7650",170]
["value7651",924]
["value7652",331]
["value7653",245]
["value7654",324]
["value7655",253]
["value7656",253]
["value7657",642]
["value7658",631]
["value7659",896]
["value7660",293]
["value7661",427]
["value7662",825]
["value7663",711]
["value7664",466]
["value7665",545]
["value7666",443]
["value7667",193]
["value7668",982]
["value7669",674]
["value7670",31]
["value7671",306]
["value7672",569]
["value7673",929]
["value7674",110]
["value7675",714]
["value7676",562]
["value7677",459]
["value7678",744]
["value7679",36]
["value7680",296]
["value7681",982]
["value7682",302]
["value7683",953]
["value7684",925]
["value7685",176]
["value7686",835]
["value7687",199]
["value7688",124]
["value7689",689]
["value7690",620]
["value7691",596]
["value7692",974]
["value7693",567]
["value7694",176]
["value7695",234]
["value7696",430]
["value7697",665]
["value7698",979]
["value7699",262]
["value7700",120]
["value7701",928]
["value7702",761]
["value7703",513]
["value7704",281]
["value7705",430]
["value7706",968]
["value7707",588]
["value7708",975]
["value7709",833]
["value7710",376]
["value7711",642]
["value7712",229]
["value7713",405]
["value7714",984]
["value7715",856]
["value7716",992]
["value7717",120]
["value7718",5]
["value7719",577]
["value7720",256]
["value7721",855]
["value7722",101]
["value7723",935]
["value7724",214]
["value7725",986]
["value7726",154]
["value7727",500]
["value7728",689]
["value7729",266]
["value7730",963]
["value7731",336]
["value7732",841]
["value7733",89]
["value7734",166]
["value7735",72]
["value7736",375]
["value7737",668]
["value7738",339]
["value7739",250]
["value7740",673]
["value7741",327]
["value7742",505]
["value7743",93]
["value7744",869]
["value7745",179]
["value7746",970]
["value7747",672]
["value7748",253]
["value7749",803]
["value7750",17]
["value7751",367]
["value7752",620]
["value7753",308]
["value7754",116]
["value7755",487]
["value7756",972]
["value7757",218]
["value7758",949]
["value7759",23]
["value7760",589]
["value7761",552]
["value7762",481]
["value7763",412]
["value7764",96]
["value7765",802]
["value7766",273]
["value7767",684]
["value7768",575]
["value7769",640]
["value7770",943]
["value7771",291]
["value7772",702]
["value7773",507]
["value7774",776]
["value7775",983]
["value7776",60]
["value7777",901]
["value7778",550]
["value7779",539]
["value7780",793]
["value7781",802]
["value7782",858]
["value7783",49]
["value7784",882]
["value7785",54]
["value7786",424]
["value7787",353]
["value7788",75]
["value7789",542]
["value7790",496]
["value7791",354]
["value7792",706]
["value7793",367]
["value7794",713]
["value7795",5]
["value7796",551]
["value7797",322]
["value7798",643]
["value7799",676]
["value7800",670]
["value7801",569]
["value7802",803]
["value7803",183]
["value7804",600]
["value7805",986]
["value7806",256]
["value7807",307]
["value7808",49]
["value7809",179]
["value7810",289]
["value7811",827]
["value7812",15]
["value7813",610]
["value7814",752]
["value7815",925]
["value7816",981]
["value7817",884]
["value7818",688]
["value7819",637]
["value7820",781]
["value7821",788]
["value7822",647]
["value7823",895]
["value7824",839]
["value7825",884]
["value7826",813]
["value7827",85]
["value7828",610]
["value7829",681]
["value7830",543]
["value7831",223]
["value7832",402]
["value7833",70]
["value7834",480]
["value7835",481]
["value7836",378]
["value7837",232]
["value7838",909]
["value7839",660]
["value7840",457]
["value7841",606]
["value7842",809]
["value7843",603]
["value7844",247]
["value7845",291]
["value7846",861]
["value7847",532]
["value7848",381]
["value7849",669]
["value7850",219]
["value7851",769]
["value7852",206]
["value7853",836]
["value7854",247]
["value7855",768]
["value7856",717]
["value7857",935]
["value7858",181]
["value7859",253]
["value7860",109]
["value7861",486]
["value7862",326]
["value7863",770]
["value7864",987]
["value7865",277]
["value7866",374]
["value7867",40]
["value7868",513]
["value7869",469]
["value7870",126]
["value7871",999]
["value7872",468]
["value7873",143]
["value7874",8]
["value7875",706]
["value7876",994]
["value7877",701]
["value7878",276]
["value7879",288]
["value7880",625]
["value7881",104]
["value7882",685]
["value7883",658]
["value7884",698]
["value7885",948]
["value7886",689]
["value7887",600]
["value7888",345]
["value7889",617]
["value7890",513]
["value7891",435]
["value7892",848]
["value7893",539]
["value7894",684]
["value7895",758]
["value7896",943]
["value7897",258]
["value7898",633]
["value7899",302]
["value7900",125]
["value7901",546]
["value7902",393]
["value7903",2]
["value7904",512]
["value7905",953]
["value7906",252]
["value7907",285]
["value7908",101]
["value7909",211]
["value7910",550]
["value7911",65]
["value7912",925]
["value7913",70]
["value7914",197]
["value7915",1000]
["value7916",597]
["value7917",526]
["value7918",939]
["value7919",264]
["value7920",131]
["value7921",477]
["value7922",875]
["value7923",245]
["value7924",637]
["value7925",439]
["value7926",898]
["value7927",513]
["value7928",541]
["value7929",993]
["value7930",205]
["value7931",459]
["value7932",431]
["value7933",847]
["value7934",305]
["value7935",587]
["value7936",899]
["value7937",563]
["value7938",357]
["value7939",201]
["value7940",53]
["value7941",284]
["value7942",71]
["value7943",949]
["value7944",662]
["value7945",483]
["value7946",916]
["value7947",935]
["value7948",688]
["value7949",744]
["value7950",407]
["value7951",454]
["value7952",177]
["value7953",929]
["value7954",889]
["value7955",242]
["value7956",516]
["value7957",427]
["value7958",689]
["value7959",639]
["value7960",40]
["value7961",575]
["value7962",956]
["value7963",630]
["value7964",607]
["value7965",315]
["value7966",834]
["value7967",624]
["value7968",312]
["value7969",916]
["value7970",811]
["value7971",12]
["value7972",40]
["value7973",90]
["value7974",926]
["value7975",983]
["value7976",581]
["value7977",672]
["value7978",750]
["value7979",426]
["value7980",671]
["value7981",229]
["value7982",296]
["value7983",319]
["value7984",639]
["value7985",108]
["value7986",63]
["value7987",603]
["value7988",825]
["value7989",192]
["value7990",931]
["value7991",123]
["value7992",941]
["value7993",519]
["value7994",221]
["value7995",879]
["value7996",889]
["value7997",143]
["value7998",878]
["value7999",923]
["value8000",792]
["value8001",569]
["value8002",888]
["value8003",784]
["value8004",347]
["value8005",895]
["value8006",445]
["value8007",298]
["value8008",46]
["value8009",68]
["value8010",490]
["value8011",563]
["value8012",441]
["value8013",782]
["value8014",941]
["value8015",118]
["value8016",586]
["value8017",581]
["value8018",322]
["value8019",132]
["value8020",280]
["value8021",649]
["value8022",774]
["value8023",931]
["value8024",91]
["value8025",498]
["value8026",520]
["value8027",458]
["value8028",555]
["value8029",203]
["value8030",753]
["value8031",655]
["value8032",781]
["value8033",534]
["value8034",842]
["value8035",175]
["value8036",310]
["value8037",979]
["value8038",471]
["value8039",314]
["value8040",895]
["value8041",624]
["value8042",617]
["value8043",266]
["value8044",418]
["value8045",264]
["value8046",756]
["value8047",677]
["value8048",250]
["value8049",444]
["value8050",655]
["value8051",743]
["value8052",286]
["value8053",334]
["value8054",986]
["value8055",224]
["value8056",469]
["value8057",963]
["value8058",944]
["value8059",379]
["value8060",32]
["value8061",179]
["value8062",492]
["value8063",64]
["value8064",141]
["value8065",565]
["value8066",581]
["value8067",765]
["value8068",665]
["value8069",759]
["value8070",260]
["value8071",820]
["value8072",761]
["value8073",48]
["value8074",671]
["value8075",914]
["value8076",259]
["value8077",633]
["value8078",391]
["value8079",728]
["value8080",978]
["value8081",746]
["value8082",977]
["value8083",897]
["value8084",374]
["value8085",841]
["value8086",59]
["value8087",53]
["value8088",884]
["value8089",931]
["value8090",786]
["value8091",645]
["value8092",941]
["value8093",549]
["value8094",591]
["value8095",17]
["value8096",566]
["value8097",507]
["value8098",908]
["value8099",988]
["value8100",451]
["value8101",541]
["value8102",948]
["value8103",601]
["value8104",23]
["value8105",162]
["value8106",783]
["value8107",115]
["value8108",917]
["value8109",300]
["value8110",703]
["value8111",940]
["value8112",463]
["value8113",963]
["value8114",543]
["value8115",12]
["value8116",762]
["value8117",885]
["value8118",413]
["value8119",459]
["value8120",252]
["value8121",812]
["value8122",961]
["value8123",992]
["value8124",786]
["value8125",727]
["value8126",741]
["value8127",331]
["value8128",116]
["value8129",611]
["value8130",352]
["value8131",660]
["value8132",924]
["value8133",120]
["value8134",159]
["value8135",307]
["value8136",498]
["value8137",642]
["value8138",433]
["value8139",406]
["value8140",507]
["value8141",829]
["value8142",487]
["value8143",233]
["value8144",532]
["value8145",73]
["value8146",8]
["value8147",540]
["value8148",56]
["value8149",643]
["value8150",758]
["value8151",561]
["value8152",770]
["value8153",188]
["value8154",458]
["value8155",583]
["value8156",25]
["value8157",254]
["value8158",301]
["value8159",453]
["value8160",904]
["value8161",593]
["value8162",449]
["value8163",677]
["value8164",490]
["value8165",772]
["value8166",943]
["value8167",908]
["value8168",796]
["value8169",466]
["value8170",846]
["value8171",567]
["value8172",663]
["value8173",104]
["value8174",676]
["value8175",593]
["value8176",525]
["value8177",597]
["value8178",447]
["value8179",377]
["value8180",798]
["value8181",775]
["value8182",246]
["value8183",137]
["value8184",54]
["value8185",295]
["value8186",479]
["value8187",168]
["value8188",136]
["value8189",926]
["value8190",189]
["value8191",708]
["value8192",321]
["value8193",174]
["value8194",520]
["value8195",811]
["value8196",627]
["value8197",49]
["value8198",975]
["value8199",510]
["value8200",34]
["value8201",766]
["value8202",905]
["value8203",804]
["value8204",87]
["value8205",216]
["value8206",718]
["value8207",738]
["value8208",588]
["value8209",859]
["value8210",191]
["value8211",962]
["value8212",253]
["value8213",818]
["value8214",160]
["value8215",327]
["value8216",174]
["value8217",371]
["value8218",220]
["value8219",735]
["value8220",639]
["value8221",497]
["value8222",76]
["value8223",471]
["value8224",607]
["value8225",796]
["value8226",170]
["value8227",489]
["value8228",791]
["value8229",953]
["value8230",190]
["value8231",79]
["value8232",76]
["value8233",563]
["value8234",902]
["value8235",163]
["value8236",508]
["value8237",575]
["value8238",716]
["value8239",209]
["value8240",94]
["value8241",828]
["value8242",188]
["value8243",66]
["value8244",948]
["value8245",551]
["value8246",802]
["value8247",27]
["value8248",269]
["value8249",132]
["value8250",278]
["value8251",319]
["value8252",511]
["value8253",349]
["value8254",307]
["value8255",405]
["value8256",155]
["value8257",109]
["value8258",755]
["value8259",756]
["value8260",805]
["value8261",233]
["value8262",408]
["value8263",913]
["value8264",128]
["value8265",760]
["value8266",940]
["value8267",679]
["value8268",997]
["value8269",949]
["value8270",876]
["value8271",641]
["value8272",202]
["value8273",921]
["value8274",439]
["value8275",179]
["value8276",473]
["value8277",773]
["value8278",366]
["value8279",268]
["value8280",769]
["value8281",226]
["value8282",38]
["value8283",950]
["value8284",976]
["value8285",720]
["value8286",696]
["value8287",288]
["value8288",682]
["value8289",774]
["value8290",271]
["value8291",54]
["value8292",227]
["value8293",873]
["value8294",178]
["value8295",422]
["value8296",509]
["value8297",492]
["value8298",828]
["value8299",128]
["value8300",798]
["value8301",857]
["value8302",456]
["value8303",358]
["value8304",870]
["value8305",147]
["value8306",245]
["value8307",23]
["value8308",441]
["value8309",921]
["value8310",114]
["value8311",780]
["value8312",573]
["value8313",249]
["value8314",778]
["value8315",936]
["value8316",243]
["value8317",303]
["value8318",43]
["value8319",630]
["value8320",133]
["value8321",148]
["value8322",663]
["value8323",807]
["value8324",760]
["value8325",156]
["value8326",860]
["value8327",858]
["value8328",987]
["value8329",995]
["value8330",473]
["value8331",872]
["value8332",465]
["value8333",93]
["value8334",9]
["value8335",157]
["value8336",586]
["value8337",160]
["value8338",556]
["value8339",430]
["value8340",196]
["value8341",517]
["value8342",871]
["value8343",314]
["value8344",792]
["value8345",450]
["value8346",252]
["value8347",91]
["value8348",68]
["value8349",975]
["value8350",742]
["value8351",25]
["value8352",583]
["value8353",803]
["value8354",916]
["value8355",409]
["value8356",590]
["value8357",0]
["value8358",357]
["value8359",732]
["value8360",540]
["value8361",904]
["value8362",575]
["value8363",282]
["value8364",485]
["value8365",617]
["value8366",401]
["value8367",827]
["value8368",857]
["value8369",474]
["value8370",436]
["value8371",772]
["value8372",312]
["value8373",480]
["value8374",313]
["value8375",408]
["value8376",935]
["value8377",197]
["value8378",698]
["value8379",618]
["value8380",26]
["value8381",360]
["value8382",742]
["value8383",402]
["value8384",981]
["value8385",261]
["value8386",262]
["value8387",374]
["value8388",837]
["value8389",889]
["value8390",935]
["value8391",549]
["value8392",504]
["value8393",725]
["value8394",927]
["value8395",287]
["value8396",294]
["value8397",277]
["value8398",997]
["value8399",657]
["value8400",351]
["value8401",80]
["value8402",652]
["value8403",165]
["value8404",285]
["value8405",808]
["value8406",70]
["value8407",506]
["value8408",526]
["value8409",122]
["value8410",618]
["value8411",66]
["value8412",409]
["value8413",92]
["value8414",38]
["value8415",797]
["value8416",194]
["value8417",522]
["value8418",508]
["value8419",56]
["value8420",68]
["value8421",626]
["value8422",380]
["value8423",57]
["value8424",2]
["value8425",823]
["value8426",419]
["value8427",593]
["value8428",157]
["value8429",3]
["value8430",731]
["value8431",481]
["value8432",767]
["value8433",241]
["value8434",963]
["value8435",29]
["value8436",886]
["value8437",537]
["value8438",647]
["value8439",686]
["value8440",811]
["value8441",183]
["value8442",312]
["value8443",146]
["value8444",120]
["value8445",527]
["value8446",85]
["value8447",78]
["value8448",164]
["value8449",80]
["value8450",890]
["value8451",929]
["value8452",723]
["value8453",945]
["value8454",914]
["value8455",517]
["value8456",380]
["value8457",481]
["value8458",968]
["value8459",768]
["value8460",195]
["value8461",182]
["value8462",508]
["value8463",778]
["value8464",954]
["value8465",906]
["value8466",966]
["value8467",48]
["value8468",181]
["value8469",237]
["value8470",779]
["value8471",81]
["value8472",822]
["value8473",795]
["value8474",153]
["value8475",355]
["value8476",239]
["value8477",524]
["value8478",64]
["value8479",268]
["value8480",360]
["value8481",317]
["value8482",841]
["value8483",248]
["value8484",116]
["value8485",966]
["value8486",62]
["value8487",810]
["value8488",876]
["value8489",421]
["value8490",801]
["value8491",975]
["value8492",885]
["value8493",321]
["value8494",164]
["value8495",118]
["value8496",741]
["value8497",358]
["value8498",540]
["value8499",154]
["value8500",470]
["value8501",555]
["value8502",185]
["value8503",70]
["value8504",784]
["value8505",575]
["value8506",3]
["value8507",256]
["value8508",841]
["value8509",645]
["value8510",833]
["value8511",649]
["value8512",288]
["value8513",668]
["value8514",344]
["value8515",209]
["value8516",336]
["value8517",54]
["value8518",899]
["value8519",388]
["value8520",407]
["value8521",340]
["value8522",793]
["value8523",69]
["value8524",821]
["value8525",82]
["value8526",706]
["value8527",597]
["value8528",522]
["value8529",110]
["value8530",220]
["value8531",407]
["value8532",650]
["value8533",493]
["value8534",378]
["value8535",20]
["value8536",863]
["value8537",521]
["value8538",152]
["value8539",914]
["value8540",604]
["value8541",510]
["value8542",239]
["value8543",685]
["value8544",250]
["value8545",864]
["value8546",862]
["value8547",671]
["value8548",954]
["value8549",89]
["value8550",485]
["value8551",321]
["value8552",757]
["value8553",899]
["value8554",546]
["value8555",688]
["value8556",272]
["value8557",218]
["value8558",112]
["value8559",165]
["value8560",593]
["value8561",551]
["value8562",502]
["value8563",379]
["value8564",278]
["value8565",544]
["value8566",356]
["value8567",762]
["value8568",577]
["value8569",702]
["value8570",610]
["value8571",270]
["value8572",819]
["value8573",436]
["value8574",436]
["value8575",309]
["value8576",672]
["value8577",50]
["value8578",656]
["value8579",724]
["value8580",902]
["value8581",260]
["value8582",625]
["value8583",709]
["value8584",991]
["value8585",363]
["value8586",533]
["value8587",19]
["value8588",700]
["value8589",45]
["value8590",737]
["value8591",833]
["value8592",446]
["value8593",896]
["value8594",401]
["value8595",918]
["value8596",983]
["value8597",990]
["value8598",98]
["value8599",993]
["value8600",107]
["value8601",461]
["value8602",123]
["value8603",445]
["value8604",459]
["value8605",854]
["value8606",183]
["value8607",469]
["value8608",556]
["value8609",968]
["value8610",291]
["value8611",705]
["value8612",852]
["value8613",444]
["value8614",574]
["value8615",863]
["value8616",205]
["value8617",540]
["value8618",981]
["value8619",659]
["value8620",344]
["value8621",942]
["value8622",414]
["value8623",701]
["value8624",875]
["value8625",474]
["value8626",963]
["value8627",715]
["value8628",145]
["value8629",568]
["value8630",384]
["value8631",571]
["value8632",652]
["value8633",349]
["value8634",586]
["value8635",2]
["value8636",759]
["value8637",178]
["value8638",137]
["value8639",26]
["value8640",381]
["value8641",397]
["value8642",700]
["value8643",212]
["value8644",228]
["value8645",655]
["value8646",690]
["value8647",561]
["value8648",42]
["value8649",212]
["value8650",678]
["value8651",241]
["value8652",306]
["value8653",534]
["value8654",362]
["value8655",757]
["value8656",423]
["value8657",406]
["value8658",472]
["value8659",683]
["value8660",54]
["value8661",361]
["value8662",998]
["value8663",602]
["value8664",526]
["value8665",621]
["value8666",668]
["value8667",31]
["value8668",833]
["value8669",695]
["value8670",78]
["value8671",859]
["value8672",997]
["value8673",137]
["value8674",125]
["value8675",381]
["value8676",276]
["value8677",741]
["value8678",532]
["value8679",486]
["value8680",277]
["value8681",164]
["value8682",161]
["value8683",792]
["value8684",873]
["value8685",579]
["value8686",622]
["value8687",677]
["value8688",228]
["value8689",408]
["value8690",687]
["value8691",32]
["value8692",574]
["value8693",962]
["value8694",363]
["value8695",312]
["value8696",479]
["value8697",340]
["value8698",718]
["value8699",116]
["value8700",697]
["value8701",716]
["value8702",135]
["value8703",953]
["value8704",798]
["value8705",726]
["value8706",961]
["value8707",237]
["value8708",46]
["value8709",93]
["value8710",928]
["value8711",801]
["value8712",773]
["value8713",298]
["value8714",307]
["value8715",153]
["value8716",977]
["value8717",849]
["value8718",622]
["value8719",216]
["value8720",105]
["value8721",45]
["value8722",54]
["value8723",678]
["value8724",424]
["value8725",948]
["value8726",413]
["value8727",434]
["value8728",916]
["value8729",62]
["value8730",578]
["value8731",112]
["value8732",485]
["value8733",155]
["value8734",273]
["value8735",871]
["value8736",35]
["value8737",887]
["value8738",644]
["value8739",389]
["value8740",306]
["value8741",769]
["value8742",342]
["value8743",58]
["value8744",233]
["value8745",191]
["value8746",984]
["value8747",247]
["value8748",174]
["value8749",68]
["value8750",127]
["value8751",148]
["value8752",464]
["value8753",670]
["value8754",700]
["value8755",36]
["value8756",9]
["value8757",337]
["value8758",495]
["value8759",784]
["value8760",801]
["value8761",508]
["value8762",681]
["value8763",762]
["value8764",617]
["value8765",645]
["value8766",108]
["value8767",612]
["value8768",623]
["value8769",470]
["value8770",43]
["value8771",524]
["value8772",981]
["value8773",953]
["value8774",12]
["value8775",990]
["value8776",530]
["value8777",166]
["value8778",273]
["value8779",968]
["value8780",739]
["value8781",872]
["value8782",912]
["value8783",770]
["value8784",515]
["value8785",86]
["value8786",836]
["value8787",265]
["value8788",488]
["value8789",168]
["value8790",393]
["value8791",805]
["value8792",140]
["value8793",141]
["value8794",952]
["value8795",159]
["value8796",426]
["value8797",712]
["value8798",120]
["value8799",686]
["value8800",31]
["value8801",659]
["value8802",21]
["value8803",66]
["value8804",362]
["value8805",357]
["value8806",295]
["value8807",331]
["value8808",881]
["value8809",183]
["value8810",835]
["value8811",889]
["value8812",747]
["value8813",777]
["value8814",405]
["value8815",857]
["value8816",340]
["value8817",576]
["value8818",590]
["value8819",148]
["value8820",698]
["value8821",409]
["value8822",348]
["value8823",930]
["value8824",979]
["value8825",427]
["value8826",757]
["value8827",897]
["value8828",374]
["value8829",364]
["value8830",720]
["value8831",725]
["value8832",950]
["value8833",390]
["value8834",873]
["value8835",670]
["value8836",428]
["value8837",635]
["value8838",706]
["value8839",503]
["value8840",342]
["value8841",288]
["value8842",34]
["value8843",248]
["value8844",79]
["value8845",941]
["value8846",909]
["value8847",980]
["value8848",183]
["value8849",566]
["value8850",687]
["value8851",510]
["value8852",932]
["value8853",511]
["value8854",91]
["value8855",875]
["value8856",345]
["value8857",904]
["value8858",297]
["value8859",56]
["value8860",364]
["value8861",809]
["value8862",102]
["value8863",2]
["value8864",235]
["value8865",734]
["value8866",879]
["value8867",263]
["value8868",421]
["value8869",872]
["value8870",205]
["value8871",298]
["value8872",125]
["value8873",50]
["value8874",177]
["value8875",831]
["value8876",420]
["value8877",977]
["value8878",583]
["value8879",857]
["value8880",26]
["value8881",216]
["value8882",897]
["value8883",164]
["value8884",10]
["value8885",214]
["value8886",209]
["value8887",923]
["value8888",497]
["value8889",377]
["value8890",122]
["value8891",556]
["value8892",337]
["value8893",711]
["value8894",745]
["value8895",461]
["value8896",605]
["value8897",263]
["value8898",114]
["value8899",742]
["value8900",142]
["value8901",999]
["value8902",974]
["value8903",733]
["value8904",92]
["value8905",642]
["value8906",34]
["value8907",742]
["value8908",533]
["value8909",691]
["value8910",423]
["value8911",553]
["value8912",3]
["value8913",492]
["value8914",31]
["value8915",697]
["value8916",138]
["value8917",829]
["value8918",362]
["value8919",778]
["value8920",384]
["value8921",315]
["value8922",649]
["value8923",940]
["value8924",520]
["value8925",103]
["value8926",509]
["value8927",453]
["value8928",958]
["value8929",206]
["value8930",96]
["value8931",749]
["value8932",683]
["value8933",149]
["value8934",271]
["value8935",765]
["value8936",346]
["value8937",725]
["value8938",510]
["value8939",430]
["value8940",91]
["value8941",609]
["value8942",924]
["value8943",315]
["value8944",707]
["value8945",264]
["value8946",603]
["value8947",273]
["value8948",813]
["value8949",760]
["value8950",24]
["value8951",981]
["value8952",243]
["value8953",219]
["value8954",678]
["value8955",666]
["value8956",569]
["value8957",246]
["value8958",94]
["value8959",500]
["value8960",175]
["value8961",938]
["value8962",134]
["value8963",541]
["value8964",550]
["value8965",632]
["value8966",817]
["value8967",601]
["value8968",123]
["value8969",1]
["value8970",16]
["value8971",594]
["value8972",437]
["value8973",919]
["value8974",717]
["value8975",831]
["value8976",869]
["value8977",7]
["value8978",184]
["value8979",743]
["value8980",202]
["value8981",193]
["value8982",210]
["value8983",787]
["value8984",195]
["value8985",232]
["value8986",143]
["value8987",967]
["value8988",521]
["value8989",201]
["value8990",178]
["value8991",860]
["value8992",815]
["value8993",944]
["value8994",8]
["value8995",444]
["value8996",994]
["value8997",920]
["value8998",756]
["value8999",778]
["value9000",963]
["value9001",521]
["value9002",483]
["value9003",700]
["value9004",727]
["value9005",442]
["value9006",767]
["value9007",429]
["value9008",246]
["value9009",616]
["value9010",870]
["value9011",134]
["value9012",162]
["value9013",649]
["value9014",691]
["value9015",205]
["value9016",804]
["value9017",587]
["value9018",878]
["value9019",912]
["value9020",106]
["value9021",668]
["value9022",58]
["value9023",845]
["value9024",119]
["value9025",855]
["value9026",265]
["value9027",542]
["value9028",298]
["value9029",274]
["value9030",729]
["value9031",272]
["value9032",263]
["value9033",572]
["value9034",839]
["value9035",143]
["value9036",863]
["value9037",247]
["value9038",832]
["value9039",255]
["value9040",911]
["value9041",797]
["value9042",424]
["value9043",314]
["value9044",678]
["value9045",498]
["value9046",258]
["value9047",842]
["value9048",297]
["value9049",329]
["value9050",436]
["value9051",277]
["value9052",111]
["value9053",546]
["value9054",105]
["value9055",227]
["value9056",974]
["value9057",37]
["value9058",314]
["value9059",626]
["value9060",891]
["value9061",97]
["value9062",609]
["value9063",254]
["value9064",979]
["value9065",336]
["value9066",889]
["value9067",248]
["value9068",978]
["value9069",733]
["value9070",72]
["value9071",511]
["value9072",189]
["value9073",816]
["value9074",751]
["value9075",929]
["value9076",562]
["value9077",471]
["value9078",67]
["value9079",353]
["value9080",179]
["value9081",199]
["value9082",280]
["value9083",783]
["value9084",946]
["value9085",86]
["value9086",732]
["value9087",940]
["value9088",791]
["value9089",364]
["value9090",936]
["value9091",177]
["value9092",120]
["value9093",328]
["value9094",892]
["value9095",27]
["value9096",349]
["value9097",498]
["value9098",20]
["value9099",515]
["value9100",415]
["value9101",663]
["value9102",512]
["value9103",257]
["value9104",204]
["value9105",213]
["value9106",719]
["value9107",671]
["value9108",479]
["value9109",256]
["value9110",999]
["value9111",630]
["value9112",37]
["value9113",745]
["value9114",856]
["value9115",302]
["value9116",513]
["value9117",508]
["value9118",860]
["value9119",894]
["value9120",449]
["value9121",852]
["value9122",579]
["value9123",187]
["value9124",231]
["value9125",541]
["value9126",890]
["value9127",609]
["value9128",24]
["value9129",5]
["value9130",369]
["value9131",167]
["value9132",297]
["value9133",349]
["value9134",398]
["value9135",400]
["value9136",744]
["value9137",657]
["value9138",382]
["value9139",208]
["value9140",472]
["value9141",39]
["value9142",180]
["value9143",390]
["value9144",405]
["value9145",717]
["value9146",520]
["value9147",663]
["value9148",376]
["value9149",673]
["value9150",270]
["value9151",891]
["value9152",375]
["value9153",18]
["value9154",267]
["value9155",55]
["value9156",519]
["value9157",199]
["value9158",470]
["value9159",148]
["value9160",726]
["value9161",33]
["value9162",37]
["value9163",163]
["value9164",383]
["value9165",372]
["value9166",168]
["value9167",389]
["value9168",549]
["value9169",839]
["value9170",514]
["value9171",778]
["value9172",5]
["value9173",491]
["value9174",642]
["value9175",3]
["value9176",809]
["value9177",848]
["value9178",340]
["value9179",186]
["value9180",811]
["value9181",462]
["value9182",831]
["value9183",139]
["value9184",273]
["value9185",618]
["value9186",808]
["value9187",781]
["value9188",464]
["value9189",135]
["value9190",620]
["value9191",534]
["value9192",682]
["value9193",322]
["value9194",466]
["value9195",46]
["value9196",185]
["value9197",355]
["value9198",992]
["value9199",668]
["value9200",735]
["value9201",846]
["value9202",988]
["value9203",561]
["value9204",842]
["value9205",25]
["value9206",549]
["value9207",444]
["value9208",49]
["value9209",218]
["value9210",933]
["value9211",307]
["value9212",797]
["value9213",422]
["value9214",47]
["value9215",108]
["value9216",956]
["value9217",140]
["value9218",965]
["value9219",542]
["value9220",300]
["value9221",722]
["value9222",98]
["value9223",850]
["value9224",260]
["value9225",457]
["value9226",154]
["value9227",487]
["value9228",354]
["value9229",815]
["value9230",495]
["value9231",516]
["value9232",942]
["value9233",289]
["value9234",684]
["value9235",188]
["value9236",55]
["value9237",219]
["value9238",447]
["value9239",622]
["value9240",477]
["value9241",698]
["value9242",262]
["value9243",516]
["value9244",805]
["value9245",772]
["value9246",310]
["value9247",384]
["value9248",62]
["value9249",389]
["value9250",675]
["value9251",771]
["value9252",8]
["value9253",553]
["value9254",810]
["value9255",263]
["value9256",569]
["value9257",276]
["value9258",910]
["value9259",185]
["value9260",715]
["value9261",830]
["value9262",229]
["value9263",405]
["value9264",918]
["value9265",149]
["value9266",414]
["value9267",92]
["value9268",514]
["value9269",470]
["value9270",71]
["value9271",673]
["value9272",471]
["value9273",292]
["value9274",328]
["value9275",477]
["value9276",737]
["value9277",980]
["value9278",872]
["value9279",515]
["value9280",387]
["value9281",18]
["value9282",967]
["value9283",225]
["value9284",913]
["value9285",692]
["value9286",88]
["value9287",836]
["value9288",955]
["value9289",318]
["value9290",855]
["value9291",58]
["value9292",779]
["value9293",94]
["value9294",300]
["value9295",200]
["value9296",755]
["value9297",676]
["value9298",812]
["value9299",844]
["value9300",114]
["value9301",59]
["value9302",758]
["value9303",552]
["value9304",783]
["value9305",395]
["value9306",711]
["value9307",741]
["value9308",54]
["value9309",424]
["value9310",473]
["value9311",4]
["value9312",600]
["value9313",88]
["value9314",942]
["value9315",906]
["value9316",600]
["value9317",955]
["value9318",174]
["value9319",636]
["value9320",374]
["value9321",369]
["value9322",703]
["value9323",289]
["value9324",160]
["value9325",705]
["value9326",958]
["value9327",435]
["value9328",58]
["value9329",918]
["value9330",39]
["value9331",74]
["value9332",826]
["value9333",894]
["value9334",677]
["value9335",983]
["value9336",789]
["value9337",962]
["value9338",447]
["value9339",521]
["value9340",24]
["value9341",169]
["value9342",840]
["value9343",971]
["value9344",312]
["value9345",372]
["value9346",306]
["value9347",713]
["value9348",426]
["value9349",834]
["value9350",33]
["value9351",952]
["value9352",737]
["value9353",825]
["value9354",763]
["value9355",725]
["value9356",701]
["value9357",560]
["value9358",229]
["value9359",700]
["value9360",364]
["value9361",258]
["value9362",446]
["value9363",619]
["value9364",867]
["value9365",612]
["value9366",591]
["value9367",255]
["value9368",481]
["value9369",430]
["value9370",562]
["value9371",558]
["value9372",182]
["value9373",543]
["value9374",779]
["value9375",162]
["value9376",537]
["value9377",873]
["value9378",625]
["value9379",819]
["value9380",810]
["value9381",142]
["value9382",139]
["value9383",357]
["value9384",372]
["value9385",687]
["value9386",230]
["value9387",914]
["value9388",781]
["value9389",238]
["value9390",395]
["value9391",449]
["value9392",435]
["value9393",871]
["value9394",197]
["value9395",647]
["value9396",679]
["value9397",729]
["value9398",463]
["value9399",593]
["value9400",520]
["value9401",179]
["value9402",883]
["value9403",488]
["value9404",142]
["value9405",810]
["value9406",550]
["value9407",22]
["value9408",333]
["value9409",386]
["value9410",558]
["value9411",891]
["value9412",743]
["value9413",596]
["value9414",138]
["value9415",90]
["value9416",635]
["value9417",320]
["value9418",635]
["value9419",427]
["value9420",281]
["value9421",312]
["value9422",508]
["value9423",731]
["value9424",678]
["value9425",597]
["value9426",731]
["value9427",993]
["value9428",412]
["value9429",389]
["value9430",131]
["value9431",922]
["value9432",533]
["value9433",937]
["value9434",307]
["value9435",519]
["value9436",545]
["value9437",429]
["value9438",385]
["value9439",837]
["value9440",681]
["value9441",295]
["value9442",555]
["value9443",610]
["value9444",870]
["value9445",134]
["value9446",527]
["value9447",746]
["value9448",4]
["value9449",813]
["value9450",179]
["value9451",455]
["value9452",94]
["value9453",280]
["value9454",679]
["value9455",145]
["value9456",713]
["value9457",949]
["value9458",711]
["value9459",253]
["value9460",749]
["value9461",241]
["value9462",817]
["value9463",358]
["value9464",380]
["value9465",783]
["value9466",806]
["value9467",144]
["value9468",805]
["value9469",595]
["value9470",678]
["value9471",317]
["value9472",625]
["value9473",596]
["value9474",604]
["value9475",836]
["value9476",635]
["value9477",79]
["value9478",685]
["value9479",62]
["value9480",948]
["value9481",819]
["value9482",431]
["value9483",298]
["value9484",850]
["value9485",31]
["value9486",464]
["value9487",917]
["value9488",782]
["value9489",873]
["value9490",210]
["value9491",332]
["value9492",510]
["value9493",482]
["value9494",265]
["value9495",135]
["value9496",229]
["value9497",904]
["value9498",780]
["value9499",47]
["value9500",495]
["value9501",657]
["value9502",237]
["value9503",445]
["value9504",564]
["value9505",498]
["value9506",364]
["value9507",780]
["value9508",945]
["value9509",388]
["value9510",140]
["value9511",868]
["value9512",127]
["value9513",663]
["value9514",823]
["value9515",6]
["value9516",550]
["value9517",545]
["value9518",820]
["value9519",412]
["value9520",580]
["value9521",91]
["value9522",612]
["value9523",777]
["value9524",16]
["value9525",767]
["value9526",254]
["value9527",830]
["value9528",561]
["value9529",104]
["value9530",47]
["value9531",577]
["value9532",344]
["value9533",440]
["value9534",71]
["value9535",453]
["value9536",239]
["value9537",603]
["value9538",66]
["value9539",995]
["value9540",204]
["value9541",885]
["value9542",153]
["value9543",35]
["value9544",194]
["value9545",672]
["value9546",676]
["value9547",887]
["value9548",994]
["value9549",392]
["value9550",862]
["value9551",259]
["value9552",152]
["value9553",381]
["value9554",764]
["value9555",195]
["value9556",240]
["value9557",593]
["value9558",676]
["value9559",309]
["value9560",578]
["value9561",577]
["value9562",701]
["value9563",675]
["value9564",626]
["value9565",223]
["value9566",517]
["value9567",746]
["value9568",114]
["value9569",711]
["value9570",759]
["value9571",363]
["value9572",864]
["value9573",29]
["value9574",715]
["value9575",730]
["value9576",558]
["value9577",703]
["value9578",885]
["value9579",96]
["value9580",813]
["value9581",460]
["value9582",520]
["value9583",179]
["value9584",317]
["value9585",315]
["value9586",929]
["value9587",957]
["value9588",97]
["value9589",323]
["value9590",372]
["value9591",602]
["value9592",491]
["value9593",367]
["value9594",124]
["value9595",418]
["value9596",512]
["value9597",665]
["value9598",545]
["value9599",754]
["value9600",999]
["value9601",638]
["value9602",234]
["value9603",910]
["value9604",785]
["value9605",892]
["value9606",810]
["value9607",192]
["value9608",799]
["value9609",500]
["value9610",976]
["value9611",989]
["value9612",158]
["value9613",84]
["value9614",969]
["value9615",60]
["value9616",226]
["value9617",855]
["value9618",256]
["value9619",567]
["value9620",979]
["value9621",161]
["value9622",706]
["value9623",578]
["value9624",249]
["value9625",857]
["value9626",975]
["value9627",598]
["value9628",159]
["value9629",784]
["value9630",614]
["value9631",141]
["value9632",196]
["value9633",39]
["value9634",260]
["value9635",500]
["value9636",831]
["value9637",565]
["value9638",199]
["value9639",749]
["value9640",993]
["value9641",880]
["value9642",842]
["value9643",327]
["value9644",717]
["value9645",517]
["value9646",337]
["value9647",398]
["value9648",775]
["value9649",217]
["value9650",360]
["value9651",444]
["value9652",211]
["value9653",97]
["value9654",452]
["value9655",641]
["value9656",5]
["value9657",85]
["value9658",564]
["value9659",842]
["value9660",23]
["value9661",642]
["value9662",494]
["value9663",205]
["value9664",186]
["value9665",634]
["value9666",90]
["value9667",282]
["value9668",885]
["value9669",578]
["value9670",189]
["value9671",941]
["value9672",691]
["value9673",266]
["value9674",566]
["value9675",115]
["value9676",583]
["value9677",380]
["value9678",658]
["value9679",921]
["value9680",467]
["value9681",375]
["value9682",509]
["value9683",641]
["value9684",159]
["value9685",131]
["value9686",214]
["value9687",286]
["value9688",954]
["value9689",544]
["value9690",693]
["value9691",54]
["value9692",437]
["value9693",316]
["value9694",318]
["value9695",128]
["value9696",178]
["value9697",350]
["value9698",193]
["value9699",812]
["value9700",329]
["value9701",275]
["value9702",340]
["value9703",852]
["value9704",130]
["value9705",832]
["value9706",193]
["value9707",215]
["value9708",448]
["value9709",673]
["value9710",993]
["value9711",213]
["value9712",675]
["value9713",123]
["value9714",182]
["value9715",28]
["value9716",109]
["value9717",156]
["value9718",461]
["value9719",635]
["value9720",974]
["value9721",419]
["value9722",372]
["value9723",796]
["value9724",170]
["value9725",708]
["value9726",493]
["value9727",39]
["value9728",210]
["value9729",717]
["value9730",266]
["value9731",543]
["value9732",793]
["value9733",640]
["value9734",758]
["value9735",574]
["value9736",8]
["value9737",334]
["value9738",533]
["value9739",7]
["value9740",785]
["value9741",28]
["value9742",364]
["value9743",606]
["value9744",377]
["value9745",771]
["value9746",494]
["value9747",467]
["value9748",940]
["value9749",248]
["value9750",438]
["value9751",83]
["value9752",43]
["value9753",764]
["value9754",400]
["value9755",756]
["value9756",987]
["value9757",570]
["value9758",132]
["value9759",94]
["value9760",603]
["value9761",62]
["value9762",380]
["value9763",362]
["value9764",390]
["value9765",450]
["value9766",933]
["value9767",929]
["value9768",411]
["value9769",314]
["value9770",117]
["value9771",378]
["value9772",574]
["value9773",861]
["value9774",177]
["value9775",9]
["value9776",525]
["value9777",506]
["value9778",302]
["value9779",748]
["value9780",804]
["value9781",777]
["value9782",103]
["value9783",836]
["value9784",195]
["value9785",588]
["value9786",420]
["value9787",250]
["value9788",243]
["value9789",281]
["value9790",500]
["value9791",748]
["value9792",617]
["value9793",582]
["value9794",131]
["value9795",195]
["value9796",582]
["value9797",266]
["value9798",184]
["value9799",862]
["value9800",689]
["value9801",474]
["value9802",79]
["value9803",190]
["value9804",237]
["value9805",382]
["value9806",962]
["value9807",994]
["value9808",569]
["value9809",12]
["value9810",162]
["value9811",402]
["value9812",544]
["value9813",818]
["value9814",250]
["value9815",132]
["value9816",889]
["value9817",260]
["value9818",12]
["value9819",70]
["value9820",679]
["value9821",112]
["value9822",499]
["value9823",416]
["value9824",204]
["value9825",328]
["value9826",290]
["value9827",286]
["value9828",572]
["value9829",769]
["value9830",177]
["value9831",62]
["value9832",968]
["value9833",108]
["value9834",296]
["value9835",82]
["value9836",681]
["value9837",917]
["value9838",590]
["value9839",392]
["value9840",423]
["value9841",247]
["value9842",996]
["value9843",975]
["value9844",340]
["value9845",386]
["value9846",728]
["value9847",496]
["value9848",350]
["value9849",994]
["value9850",385]
["value9851",808]
["value9852",21]
["value9853",46]
["value9854",407]
["value9855",887]
["value9856",780]
["value9857",407]
["value9858",274]
["value9859",852]
["value9860",844]
["value9861",757]
["value9862",867]
["value9863",281]
["value9864",231]
["value9865",51]
["value9866",918]
["value9867",298]
["value9868",478]
["value9869",942]
["value9870",521]
["value9871",768]
["value9872",164]
["value9873",369]
["value9874",315]
["value9875",142]
["value9876",51]
["value9877",525]
["value9878",184]
["value9879",864]
["value9880",72]
["value9881",674]
["value9882",935]
["value9883",113]
["value9884",536]
["value9885",458]
["value9886",456]
["value9887",152]
["value9888",384]
["value9889",780]
["value9890",368]
["value9891",483]
["value9892",155]
["value9893",644]
["value9894",631]
["value9895",534]
["value9896",356]
["value9897",246]
["value9898",566]
["value9899",393]
["value9900",810]
["value9901",866]
["value9902",327]
["value9903",948]
["value9904",812]
["value9905",472]
["value9906",414]
["value9907",831]
["value9908",910]
["value9909",882]
["value9910",948]
["value9911",773]
["value9912",74]
["value9913",780]
["value9914",408]
["value9915",666]
["value9916",306]
["value9917",212]
["value9918",225]
["value9919",287]
["value9920",836]
["value9921",673]
["value9922",810]
["value9923",473]
["value9924",513]
["value9925",159]
["value9926",215]
["value9927",614]
["value9928",949]
["value9929",943]
["value9930",128]
["value9931",126]
["value9932",612]
["value9933",555]
["value9934",921]
["value9935",487]
["value9936",976]
["value9937",794]
["value9938",823]
["value9939",896]
["value9940",376]
["value9941",707]
["value9942",128]
["value9943",843]
["value9944",365]
["value9945",33]
["value9946",698]
["value9947",686]
["value9948",823]
["value9949",624]
["value9950",990]
["value9951",198]
["value9952",298]
["value9953",741]
["value9954",397]
["value9955",489]
["value9956",471]
["value9957",60]
["value9958",817]
["value9959",649]
["value9960",967]
["value9961",441]
["value9962",786]
["value9963",337]
["value9964",976]
["value9965",484]
["value9966",974]
["value9967",268]
["value9968",422]
["value9969",343]
["value9970",44]
["value9971",376]
["value9972",884]
["value9973",657]
["value9974",293]
["value9975",444]
["value9976",404]
["value9977",483]
["value9978",75]
["value9979",24]
["value9980",627]
["value9981",279]
["value9982",772]
["value9983",727]
["value9984",859]
["value9985",221]
["value9986",443]
["value9987",636]
["value9988",31]
["value9989",637]
["value9990",967]
["value9991",765]
["value9992",88]
["value9993",919]
["value9994",974]
["value9995",82]
["value9996",982]
["value9997",85]
["value9998",697]
["value9999",744]
["value10000",677]

{"sheet":"Results","index":2,"n_rows":23,"n_cols":17,"rows_kept":23}
[]
[]
[]
[]
["Nr.","Formula","Start time","Stop time","64 vs 32 bit","Computer","File Size","Office version","Number of processors","Opt. Comp.?","Calc. steps","Software in background","OS","Sheet order","Range","Region settings","Duration (s)"]
[1,{"$nulls":15},{"$f":"(D6-C6)*24*60*60","v":{"v":0,"d":"0.00"}}]
[2,{"$nulls":15},{"$f":"(D7-C7)*24*60*60","v":{"v":0,"d":"0.00"}}]
[3,{"$nulls":15},{"v":0,"d":"0.00"}]
[4,{"$nulls":15},{"v":0,"d":"0.00"}]
[5,{"$nulls":15},{"v":0,"d":"0.00"}]
[6,{"$nulls":15},{"v":0,"d":"0.00"}]
[7,{"$nulls":15},{"v":0,"d":"0.00"}]
[8,{"$nulls":15},{"v":0,"d":"0.00"}]
[9,{"$nulls":15},{"v":0,"d":"0.00"}]
[10,{"$nulls":15},{"v":0,"d":"0.00"}]
[11,{"$nulls":15},{"v":0,"d":"0.00"}]
[12,{"$nulls":15},{"v":0,"d":"0.00"}]
[13,{"$nulls":15},{"v":0,"d":"0.00"}]
[14,{"$nulls":15},{"v":0,"d":"0.00"}]
[15,{"$nulls":15},{"v":0,"d":"0.00"}]
[16,{"$nulls":15},{"v":0,"d":"0.00"}]
[17,{"$nulls":15},{"v":0,"d":"0.00"}]
[18,{"$nulls":15},{"v":0,"d":"0.00"}]